BEGIN:VCALENDAR
VERSION:2.0
PRODID:-//Pickleball Is Great - ECPv6.15.18//NONSGML v1.0//EN
CALSCALE:GREGORIAN
METHOD:PUBLISH
X-ORIGINAL-URL:https://pickleballisgreat.com
X-WR-CALDESC:Events for Pickleball Is Great
REFRESH-INTERVAL;VALUE=DURATION:PT1H
X-Robots-Tag:noindex
X-PUBLISHED-TTL:PT1H
BEGIN:VTIMEZONE
TZID:Pacific/Honolulu
BEGIN:STANDARD
TZOFFSETFROM:-1000
TZOFFSETTO:-1000
TZNAME:HST
DTSTART:20240101T000000
END:STANDARD
END:VTIMEZONE
BEGIN:VTIMEZONE
TZID:UTC
BEGIN:STANDARD
TZOFFSETFROM:+0000
TZOFFSETTO:+0000
TZNAME:UTC
DTSTART:20240101T000000
END:STANDARD
END:VTIMEZONE
BEGIN:VTIMEZONE
TZID:America/Los_Angeles
BEGIN:DAYLIGHT
TZOFFSETFROM:-0800
TZOFFSETTO:-0700
TZNAME:PDT
DTSTART:20240310T100000
END:DAYLIGHT
BEGIN:STANDARD
TZOFFSETFROM:-0700
TZOFFSETTO:-0800
TZNAME:PST
DTSTART:20241103T090000
END:STANDARD
BEGIN:DAYLIGHT
TZOFFSETFROM:-0800
TZOFFSETTO:-0700
TZNAME:PDT
DTSTART:20250309T100000
END:DAYLIGHT
BEGIN:STANDARD
TZOFFSETFROM:-0700
TZOFFSETTO:-0800
TZNAME:PST
DTSTART:20251102T090000
END:STANDARD
BEGIN:DAYLIGHT
TZOFFSETFROM:-0800
TZOFFSETTO:-0700
TZNAME:PDT
DTSTART:20260308T100000
END:DAYLIGHT
BEGIN:STANDARD
TZOFFSETFROM:-0700
TZOFFSETTO:-0800
TZNAME:PST
DTSTART:20261101T090000
END:STANDARD
END:VTIMEZONE
BEGIN:VTIMEZONE
TZID:America/Chicago
BEGIN:DAYLIGHT
TZOFFSETFROM:-0600
TZOFFSETTO:-0500
TZNAME:CDT
DTSTART:20240310T080000
END:DAYLIGHT
BEGIN:STANDARD
TZOFFSETFROM:-0500
TZOFFSETTO:-0600
TZNAME:CST
DTSTART:20241103T070000
END:STANDARD
BEGIN:DAYLIGHT
TZOFFSETFROM:-0600
TZOFFSETTO:-0500
TZNAME:CDT
DTSTART:20250309T080000
END:DAYLIGHT
BEGIN:STANDARD
TZOFFSETFROM:-0500
TZOFFSETTO:-0600
TZNAME:CST
DTSTART:20251102T070000
END:STANDARD
BEGIN:DAYLIGHT
TZOFFSETFROM:-0600
TZOFFSETTO:-0500
TZNAME:CDT
DTSTART:20260308T080000
END:DAYLIGHT
BEGIN:STANDARD
TZOFFSETFROM:-0500
TZOFFSETTO:-0600
TZNAME:CST
DTSTART:20261101T070000
END:STANDARD
END:VTIMEZONE
BEGIN:VEVENT
DTSTART;VALUE=DATE:20250410
DTEND;VALUE=DATE:20250414
DTSTAMP:20260421T210617
CREATED:20250210T041410Z
LAST-MODIFIED:20250210T041410Z
UID:10000179-1744243200-1744588799@pickleballisgreat.com
SUMMARY:Hawaii Pacific Health ESPN Honolulu Open
DESCRIPTION:Tournament Description\n\n\n\n***don’t miss your chance to kokua*** LINK TO VOLUNTEER>>>>\n\nhttps://www.signupgenius.com/go/10C0C4AA4AA29A6F5C07-53395084-espn\n\n\n****1/8/25 update – minimum skills levels are now removed from all $$$ divisions – please invite your partners and friends ASAP***\n\n\nHawaii’s premiere pickleball event\, Hawaii Pacific Health ESPN Honolulu Open will be held at Hawaii’s largest indoor pickleball venue\, the Hawaii Convention Center\, featuring over 33 indoor courts\, pro exhibitions\, a competitive ProAm tournament with prize money\, expansive product expo\, corporate team challenges and more! Hawaii Pacific Health ESPN Honolulu Open will attract pickleball players and enthusiasts from Hawaii and around the world\, serving an annual destination event.\n\nRegister: https://pickleballtournaments.com/tournaments/hawaii-pacific-health-espn-honolulu-open\n\nA portion of the proceeds will benefit Hui Mahi‘ai ‘Āina.\n\nHui Mahi‘ai ‘Āina works to improve the quality of life for those in need\, including the houseless population in Waimānalo\, through programs that provide resources\, education\, and opportunities for self-sufficiency. The organization fosters a deep connection to the land (‘āina) and creates pathways for a thriving\, inclusive community. https://huimahiaiaina.org\n\nEarly Registration = ends 12/31/24\nRegistration = January & February 2025\nLate Registration = March 2025\nVery Late Registration = April 2025\n\nAdditional Events:\nAmateur events are $20 each (plus the software fee of $5 per event)\nSemi Pro events are $40 each (plus the software fee of $5 per event)\nPro events are $60 each (plus the software fee of $5 per event)\n\nSchedule of Events:\nThursday 4/10/25:\nSenior Mixed Doubles Skill 3.0-4.0 + ages 50+60+70+\nSenior Mixed Semipro 4.5 skill (4.0 minimum) 50+60+70+\nSenior Mixed PRO 5.0+skill (5.0 minimum) 50+\n\nFriday 4/11/25:\nSenior Women’s Doubles Skill 3.0-4.0 + ages 50+60+70+\nSenior Men’s Doubles Skill 3.0-4.0 + ages 50+60+70+\nSenior Women’s Semipro 4.5 skill (4.0 minimum) 50+60+70+\nSenior Men’s Semipro 4.5 skill (4.0 minimum) 50+60+70+\nSenior Women’s PRO 5.0+skill (5.0 minimum) 50+\nSenior Men’s PRO 5.0+skill (5.0 minimum) 50+\n\nSaturday 4/12/25:\nWomen’s Doubles Skill 3.0-4.0 + ages 19+30+40+\nMen’s Doubles Skill 3.0-4.0 + ages 19+30+40+\nWomen’s Semipro 4.5 skill (4.0 minimum) 19+30+40+\nMen’s Semipro 4.5 skill (4.0 minimum) 19+30+40+\nWomen’s PRO 5.0+skill (5.0 minimum) 19+\nMen’s PRO 5.0+skill (5.0 minimum) 19+\n\nSunday 4/13/25:\nMixed Doubles Skill 3.0-4.0 + ages 19+30+40+\nMixed Semipro 4.5 skill (4.0 minimum) 19+30+40+\nMixed PRO 5.0+skill (5.0 minimum) 19+\n\nLINK TO VOLUNTEER>>>>>>>>>>>>>>\nhttps://www.signupgenius.com/go/10C0C4AA4AA29A6F5C07-53395084-espn\n\n\n\n\n\nAdditional Information\n\n\n\n***save money and stay at the updated Ala Moana Hotel by Mantra @ 410 Atkinson Drive – use this link please – https://book.passkey.com/e/50941588 ***\n\nALL PLAYERS MUST READ – PLAYER RESPONSIBILITY​\n\nWhat does it mean to be registered?\n* Player in a doubles event; both players have registered and both players have paid their tournament fees within 14 days of the first player.\n\nYou or your team could be moved to the waitlist:\n* If your partner (doubles) has not registered/paid within the 14 day window\n\nALL ROUND ROBIN WITH PLAYOFFS OF THE TOP TEAMS\n\n**Tournament Format – Amateur (No prize money)\n4 & 5 teams in Pool/Round Robin – games are 1 to 15 win by 2\n6 & 7 teams in Pool/Round Robin – games are 1 to 11 win by 2\nAll lead in games (to the playoffs) are 1 to 15 win by 2 (for example: top four teams\, 1 vs 4 & 2 v 3 (first round of playoffs are called the “lead-in matches”)\n\nBronze Matches 1 to 15 win by 2\nGold Matches are the players choice of 2 out of 3 to 11 win by 2 OR 1 to 15 win by 2\n\nTournament Director reserves the option to combine events as needed if events do not fill. If events are combined\, awards will be based on the original event and not the combined event\n\nSanctioning/Rules: This is a non-sanctioned tournament and will follow Official USA Pickleball rules.\n\nEquipment standards:\nAmateur (4.0 and under) all approved USA Pickleball rules\nSemipro and Pro (4.5+) will have the option for the UPAA approved paddles in addition to the USAP paddles.\n\nThere will be a head referee on site to settle all rules questions and settle disputes. Matches will be self-refereed\, although we will do our best to recruit referees for finals matches.\n\nWe reserve the right to refuse service at any time\n\n\n\n\n\nRefund Policy\n\n\n\n$20 admin fee for all refunds until 3/31/25\n\nUp to 50% refund for any refund request after 3/31/25\n\n\n\n\n\nPrize Money\n\n\n\nAll minimum ratings are now removed.\n\nThe Pro/Open Division is designed for the 5.0 and up players\nPayouts will be based on the # of registrations in each division.\n12 teams will have a $1500\n8 teams or more will be Double Elimination\n\nThe Semi-Pro Division is designed for the 4.5 and up players\nPayout dependent on # of teams per division.\n6 Team minimum will have a $500 payout. If age divisions are combined\, only the top three teams will have a payout.\n8 teams or more will be Double Elimination\n\n\n\n\n\n\nVenue Details\n\n\n\n\n\nHawaii Convention Center\n\n\n1801 Kalakaua\nHonolulu\, Hawaii\, 96815\nUnited States\n\n\n\nParking Information\nParking Fee: Yes\n\n\n\nAmenities\n\n\nSurface Type: Synthetic / Acrylic\n\n\nNumber of courts: 33\n\n\nBall used: Franklin X40 Optic\n\n\nPlay area type: Indoor Air Conditioned\n\n\nNet type: Portable Crank\n\n\nBall website: Click here
URL:https://pickleballisgreat.com/tournament/hawaii-pacific-health-espn-honolulu-open/
END:VEVENT
BEGIN:VEVENT
DTSTART;VALUE=DATE:20250411
DTEND;VALUE=DATE:20250414
DTSTAMP:20260421T210617
CREATED:20241104T014215Z
LAST-MODIFIED:20241104T014215Z
UID:10000135-1744329600-1744588799@pickleballisgreat.com
SUMMARY:2025 April NW PIG Chase by PIG
DESCRIPTION:Description\nRound Robin format (skill/age) WITH playoffs for Gold/Silver/Bronze for skills 3.0-4.5+. Age brackets will be determined following the close of registration\, but will strive to be close to under 50\, 50-59\, 60+ events. \nRegister: https://pickleballbrackets.com/ptd.aspx?eid=f5e32bca-6027-4ed9-b4c4-c95e50c33792 \nPlayers will self-rate and cannot play lower than their Pickleball Brackets Rating (PBR). Players may only play up in skill .5 from their profile rating. Tournament Director reserves the right to correct underrated players. \nIndoor play on up to 9 permanent pickleball courts \nUsing the Franklin X40 ball\nPickleball Is Great reserves the right to refuse service at anytime \n\n\nAdditional Information\nPayment is required to register – Early registration $45 + $15/event through Jan 31. Standard registration $60 + $15/event through April 2. After registration closes (beginning April 3)\, late registration will be $75 + $15/event. \nPartner must register within 7 days or be moved to the waitlist\n(Final age breaks based on registration\, but will strive to be close to under 50\, 50-59\, 60+) \nFriday – Women’s Doubles\nSaturday – Mixed Doubles\nSunday – Men’s Doubles \nFormat:\nALL Round Robin with playoffs for Gold/Silver/Bronze. All games/matches are win by 2\nMost Round Robins are 1 to 15 but may change based on the number of players in the event. If an event has 7 or 8 teams\, round-robin matches will be 1 to 11 by 2.\nTop 4 teams go to the playoff (Lead in matches are 1 to 15 with the Gold Match with the option of 2/3-11w/2 or 1 to 15. Bronze Match 1 to 15.\nTD may combine brackets as needed to ensure quality play.\nTournament may close at any time if maximum daily numbers are met (even if some events appear to have openings) \n\n\nRefund Policy\n$10 Admin fee minimum for all withdrawals\nNo refunds after close of registration \nIf any event is cancelled due to weather there will be up to a 50% refund \n\n\nVenue Information\n\n\n\nRECS Center\n17015 SE 82nd Av\nClackamas\nOregon 97015\nUnited States\nSurface Type: Tennis Hardcourt Surface\nPlay Area Type: Indoor\nNet Type: Portable\nBall Used: Franklin X40\nNumber of Courts: 9\nParking: No Fee\n\n\n\n\nDetails\n\n\n\nOfficiated Type→ None\n\n\n\n\nMax Events Per Registration→ 3\n\n\n\n\nCost Includes→ 0 Events\n\n\n\n\nGuaranteed Games Per Event→ 3\n\n\n\n\nAllow Pets→ No\n\n\n\n\nAllow Food→ No\n\n\n\n\nAllow Dish to Pass→ No\n\n\n\n\nAllow Grill→ No
URL:https://pickleballisgreat.com/tournament/2025-april-nw-pig-chase-by-pig/
ATTACH;FMTTYPE=image/jpeg:https://pickleballisgreat.com/wp-content/uploads/2024/11/f5e32bca-6027-4ed9-b4c4-c95e50c33792_logo.jpg
END:VEVENT
BEGIN:VEVENT
DTSTART;VALUE=DATE:20250411
DTEND;VALUE=DATE:20250414
DTSTAMP:20260421T210617
CREATED:20250125T015703Z
LAST-MODIFIED:20250125T015703Z
UID:10000156-1744329600-1744588799@pickleballisgreat.com
SUMMARY:2025 Blazing Paddles 25 by PIG
DESCRIPTION:Tournament Description\n\n\n\nThis tournament is to benefit the Assistance League of Klamath Basin. https://www.klamathbasinassistanceleague.org/ This 501(c)3 nonprofit organization\, provides new clothing and other services to families throughout the Klamath Basin. Members are all volunteers and we fully fund our programs through donations\, fundraisers\, estate sales\, and grants. Please consider making an additional donation at registration.\n\nRegister: https://pickleballtournaments.com/tournaments/2025-blazing-paddles-25-by-pig\n\nVery Fun Round Robin format WITH playoffs for Gold/Silver/Bronze for skills 3.0-4.5+. Age brackets will be determined following the close of registration\, but will strive to be close to under 50\, 50-64\, & 65+ events.\n\nPlayers will self-rate and can not play lower than their Pickleball Brackets rating (PBR) or DUPR. Players may only play up in skill .5 from their profile rating. Tournament Director reserves the right to correct underrated players.\n\nIf you note a player playing lower than their skill rating\, please use the contact tourney button above to let the tournament director know.\n\nUsing the X-40 ball\n\n\n\n\n\nAdditional Information\n\n\n\nRegistration $50 + $10/event through Apr 2. After registration closes (beginning Apr 3)\, any new registrations will be $60 + $10/event.\n\nDeadline – April 2nd\n\nFriday – Senior Men’s & Women’s Doubles (50+ events) / Youth event (school activity – no online registration)\nSaturday – Men’s & Women’s Doubles (no age divisions)\nSunday – Mixed Doubles\n\nFormat:\nALL Round Robin games/matches are win by 2.\nMost Round Robins are 1 to 15 but may change based on the number of players in the event. If an event has 7 or 8 teams\, round-robin matches will be 1 to 11 by 2.\nTop 4 teams go to the playoff (1st & 2nd seeds to play Gold Match. 3rd & 4th seeds to play Bronze Match.\n\nTD may combine brackets as needed to ensure quality play.\nTournament may close at any time if maximum daily numbers are met (even if some events appear to have openings)\n\nIndoor Skill/Age tournament on tennis surface\n\nPickleball Is Great reserves the right to refuse service at anytime.\n\n\n\n\n\nRefund Policy\n\n\n\nAll refunds will have an admin fee of $10\n\nIf any event is cancelled due to weather or other unforeseen circumstances\, there will be up to a 50% refund\n\n\n\n\n\n\nVenue Details\n\n\n\n\n\nHarbor Isles Tennis & Fitness\n\n\n2805 Front St\nKlamath Falls\, Oregon\, 97601\nUnited States\n\n\n\nParking Information\nParking Fee: No Fee\n\n\n\nAmenities\n\n\nSurface Type: Tennis Hardcourt Surface\n\n\nNumber of courts: 12\n\n\nBall used: Franklin X-40\n\n\nPlay area type: Indoor\n\n\nNet type: Portable
URL:https://pickleballisgreat.com/tournament/2025-blazing-paddles-25-by-pig/
ATTACH;FMTTYPE=image/jpeg:https://pickleballisgreat.com/wp-content/uploads/2025/01/Blazing-Paddles.jpg
END:VEVENT
BEGIN:VEVENT
DTSTART;VALUE=DATE:20250411
DTEND;VALUE=DATE:20250414
DTSTAMP:20260421T210617
CREATED:20250125T214454Z
LAST-MODIFIED:20250125T214454Z
UID:10000158-1744329600-1744588799@pickleballisgreat.com
SUMMARY:3rd Annual Awesome Blossom Pickleball Tournament by PIG
DESCRIPTION:Tournament Description\n\n\n\nRound Robin format (skill/age) WITH playoffs for Gold/Silver/Bronze for skills 3.0-4.5+. Age brackets will be determined following the close of registration\, but will strive to be close to under 50\, 50-59\, & 60+ events.\n\nRegister: https://pickleballtournaments.com/tournaments/3rd-annual-awesome-blossom-pickleball-tournament-by-pig\n\nComplimentary player Hospitality throughout the weekend.\n\nPlayers will self-rate and can not play lower than their Pickleball Brackets rating (PBR) or DUPR. Players may only play up in skill .5 from their profile rating. Tournament Director reserves the right to correct underrated players.\n\nIf you note a player playing lower than their skill rating\, please use the contact tourney button above to let the tournament director know.\n\nMedals to top three placers in each division\nPrizes to top team in each division\n\nRV parking available (request space by email to info@wrac.org)\nBal TBD\n\n\n\n\n\nAdditional Information\n\n\n\nPayment is required to register – Early registration $50 + event fee through Jan 31. Standard registration $65 + event fee through Mar 31. Beginning April 1\, registration will be $75 + event fee\n\nWRAC members have a $10 discount code available. Please check with your club if you haven’t received it\n\nPartner must register within 7 days or be moved to the waitlist\n(Age breaks based on registration\, but will strive to be close to under 50\, 50+\, 60+)\n\nFriday – Men’s & Women’s (full-court) Singles with an afternoon start time\nSaturday – Men’s & Women’s Doubles\nSunday – Mixed Doubles\n\nFormat:\nALL Round Robin with playoffs for Gold/Silver/Bronze. All games/matches are win by 2\nMost Round Robins are 1 to 15 but may change based on the number of players in the event. If an event has 7 or 8 teams\, round-robin matches will be 1 to 11 by 2.\nTop 4 teams go to the playoff (Lead in matches are 1 to 15 with the Gold Match with the option of 2/3-11w/2 or 1 to 15. Bronze Match 1 to 15.\nTD may combine brackets as needed to ensure quality play.\nTournament may close at any time if maximum daily numbers are met (even if some events appear to have openings)\n\nPickleball Is Great reserves the right to refuse service at anytime.\n\n\n\n\n\nRefund Policy\n\n\n\n$10 Admin fee minimum for all withdrawals\nNo refunds after close of registration\n\n\n\n\n\n\nVenue Details\n\n\n\n\n\nWenatchee Racquet and Athletic Club\n\n\n1913 Skyline\nWenatchee\, Washington\, 98801\nUnited States\n\n\n\nParking Information\nParking Fee: No Fee\n\n\n\nAmenities\n\n\nSurface Type: Tennis Hardcourt Surface\n\n\nNumber of courts: 16\n\n\nPlay area type: Indoor\n\n\nNet type: Portable
URL:https://pickleballisgreat.com/tournament/3rd-annual-awesome-blossom-pickleball-tournament-by-pig/
ATTACH;FMTTYPE=image/jpeg:https://pickleballisgreat.com/wp-content/uploads/2025/01/Awesome-Blossom.jpg
END:VEVENT
BEGIN:VEVENT
DTSTART;VALUE=DATE:20250411
DTEND;VALUE=DATE:20250414
DTSTAMP:20260421T210617
CREATED:20250208T043410Z
LAST-MODIFIED:20250208T043410Z
UID:10000178-1744329600-1744588799@pickleballisgreat.com
SUMMARY:2025 Spring Battle @ Dinks Pickleball All Ages & USSP by PIG
DESCRIPTION:Tournament Description\n\n\n\nAll skill and ages welcome\n\nUSSP Senior events are a Age/Skill format (5 year breaks) – no membership is required\, but if you have your USSP membership number in your profile\, you will get a $10 rebate/discount.\n\nRegister: https://pickleballtournaments.com/tournaments/2025-spring-battle-at-dinks-pickleball-all-ages-and-ussp-by-pig\n\nInstructions for adding your membership number to your profile – https://www.usseniorpickleball.com/pb-ussp-training\n\nRegistration Starts\nEarly Registration (Jan/Feb) = $45 + event fees\nRegistration (March/April 2) = $65 + event fees\nLate Registration (beginning Apr 3) = $75 + event fees\n\nAll Events are $15 each\n\n\n\n\n\nAdditional Information\n\n\n\nPlayers will utilize “USSP” rating from their player profile\n\nFriday\, Apr 11 – Women’s Doubles / Men’s Singles\nSaturday\, Apr 12 – Mixed Doubles\nSunday\, Apr 13 – Men’s Doubles / Women’s Singles\n\nFormat:\nALL Round Robin with playoffs for Gold/Silver/Bronze. All games/matches are win by 2\n\nMost Round Robins are 1 to 15 but may change based on the number of players in the event. If an event has 7 or 8 teams\, round-robin matches may be 1 to 11 by 2.\nTop 4 teams go to the playoff (Lead in matches are 1 to 15 with the Gold Match with the option of 2/3-11w/2 or 1 to 15. Bronze Match 1 to 15.\n\nTD may combine brackets as needed to ensure quality play.\nTournament may close at any time if maximum daily numbers are met (even if some events appear to have openings)\n\n\n\n\n\nRefund Policy\n\n\n\nCANCELLATION DEADLINE: 4/2/25\nIf you withdraw before the CANCELLATION DEADLINE above\, you will be issued a refund (with a $20 processing fee deducted). Refunds will be issued at the conclusion of the tournament.\n\n\n\n\n\n\nVenue Details\n\n\n\n\n\nDinks Pickleball\n\n\n3800 Merle Hay Rd Suite 1000\nDes Moines\, Iowa\, 50310\nUnited States\n\n\n\nParking Information\nParking Fee: No Fee\nNO OVERNIGHT PARKING\n\n\n\nAmenities\n\n\nSurface Type: Tennis Hardcourt Surface\n\n\nNumber of courts: 13\n\n\nBall used: Franklin X40\n\n\nPlay area type: Indoor\n\n\nNet type: Permanent\n\n\nBall website: Click here
URL:https://pickleballisgreat.com/tournament/2025-spring-battle-dinks-pickleball-all-ages-ussp-by-pig/
ATTACH;FMTTYPE=image/jpeg:https://pickleballisgreat.com/wp-content/uploads/2025/02/Dinks-PB-Spring-Battle.jpg
END:VEVENT
END:VCALENDAR