BEGIN:VCALENDAR
VERSION:2.0
PRODID:-//Pickleball Is Great - ECPv6.15.18//NONSGML v1.0//EN
CALSCALE:GREGORIAN
METHOD:PUBLISH
X-ORIGINAL-URL:https://pickleballisgreat.com
X-WR-CALDESC:Events for Pickleball Is Great
REFRESH-INTERVAL;VALUE=DURATION:PT1H
X-Robots-Tag:noindex
X-PUBLISHED-TTL:PT1H
BEGIN:VTIMEZONE
TZID:America/Phoenix
BEGIN:STANDARD
TZOFFSETFROM:-0700
TZOFFSETTO:-0700
TZNAME:MST
DTSTART:20240101T000000
END:STANDARD
END:VTIMEZONE
BEGIN:VEVENT
DTSTART;VALUE=DATE:20250424
DTEND;VALUE=DATE:20250428
DTSTAMP:20260421T210617
CREATED:20250210T045326Z
LAST-MODIFIED:20250525T183830Z
UID:10000182-1745452800-1745798399@pickleballisgreat.com
SUMMARY:1st Annual Sedona Red Rock Rally by PIG
DESCRIPTION:Tournament Description\n\n\n\nThis is the 1st Annual Sedona Red Rock Rally by Pickleball Is Great.\n\nRegister: https://pickleballtournaments.com/tournaments/1st-annual-sedona-red-rock-rally-by-pig\n\nAll Round Robin with playoffs for Gold/Silver/Bronze Medals\n4/24 Thursday – SENIOR Mixed Doubles (50+ and as close to a 5 year division (depends on registration))\n4/25 Friday – SENIOR Men & Women Doubles (50+ and as close to a 5 year division (depends on registration))\n4/26 Saturday – Men’s & Women’s Doubles( All ages with age divisions targeting 10 years (depends on registration))\n4/27 Sunday – Mixed Doubles( All ages with age divisions targeting 10 years (depends on registration))\n\nDUPR will be used to verify all self ratings.\n(UTR-P is a ten point scale and not an option)\n\nOptional T-Shirt available for $17 each until 4/1/25\n\nNo membership in any association is required for registration.\n\nThere is a daily player limit that may cause registration to stop with no notice for an event or the whole day.\n\nMINIMUM PAY FOR ALL REFEREES IS $10 PER MATCH – must register online\n\n\n\n\n\nAdditional Information\n\n\n\nThis tournament is ALL ROUND ROBIN WITH PLAYOFFS OF THE TOP TEAMS\n\nFormat details:\n4\, 5\, & 6 teams in Pool/Round Robin – games are 1 to 15 win by 2\n7 & 8 teams in Pool/Round Robin – games are 1 to 11 win by 2\nAll lead in games (to the playoffs) are 1 to 15 win by 2\nBronze Matches 1 to 15 win by 2\nGold Matches are the players choice of 2 out of 3 to 11 win by 2 OR 1 to 15 win by 2\n\nPickleball Is Great reserves the right to refuse service at anytime\n\n\n\n\n\nRefund Policy\n\n\n\n$15 withdraw fee for all players\n\nNo refunds after 4/15/25 date.\n\nUp to a 50% refund for weather related cancellations\n\n\n\n\n\n\nVenue Details\n\n\n\n\n\nPosse Grounds Park\n\n\n525 Posse Ground Rd\nSedona\, Arizona\, 86336\nUnited States\n\n\n\nParking Information\nParking Fee: No Fee\nno overnight parking\n\n\n\nAmenities\n\n\nSurface Type: Tennis Hardcourt Surface\n\n\nNumber of courts: 8\n\n\nBall used: Franklin X-40\n\n\nPlay area type: Outdoor Non-Covered\n\n\nNet type: Permanent\n\n\nBall website: Click here
URL:https://pickleballisgreat.com/tournament/1st-annual-sedona-red-rock-rally-by-pig/
ATTACH;FMTTYPE=image/jpeg:https://pickleballisgreat.com/wp-content/uploads/2025/02/Red-Rock-Rally.jpg
END:VEVENT
END:VCALENDAR