BEGIN:VCALENDAR
VERSION:2.0
PRODID:-//Pickleball Is Great - ECPv6.15.18//NONSGML v1.0//EN
CALSCALE:GREGORIAN
METHOD:PUBLISH
X-ORIGINAL-URL:https://pickleballisgreat.com
X-WR-CALDESC:Events for Pickleball Is Great
REFRESH-INTERVAL;VALUE=DURATION:PT1H
X-Robots-Tag:noindex
X-PUBLISHED-TTL:PT1H
BEGIN:VTIMEZONE
TZID:UTC
BEGIN:STANDARD
TZOFFSETFROM:+0000
TZOFFSETTO:+0000
TZNAME:UTC
DTSTART:20240101T000000
END:STANDARD
END:VTIMEZONE
BEGIN:VTIMEZONE
TZID:America/Los_Angeles
BEGIN:DAYLIGHT
TZOFFSETFROM:-0800
TZOFFSETTO:-0700
TZNAME:PDT
DTSTART:20240310T100000
END:DAYLIGHT
BEGIN:STANDARD
TZOFFSETFROM:-0700
TZOFFSETTO:-0800
TZNAME:PST
DTSTART:20241103T090000
END:STANDARD
BEGIN:DAYLIGHT
TZOFFSETFROM:-0800
TZOFFSETTO:-0700
TZNAME:PDT
DTSTART:20250309T100000
END:DAYLIGHT
BEGIN:STANDARD
TZOFFSETFROM:-0700
TZOFFSETTO:-0800
TZNAME:PST
DTSTART:20251102T090000
END:STANDARD
BEGIN:DAYLIGHT
TZOFFSETFROM:-0800
TZOFFSETTO:-0700
TZNAME:PDT
DTSTART:20260308T100000
END:DAYLIGHT
BEGIN:STANDARD
TZOFFSETFROM:-0700
TZOFFSETTO:-0800
TZNAME:PST
DTSTART:20261101T090000
END:STANDARD
END:VTIMEZONE
BEGIN:VTIMEZONE
TZID:America/Chicago
BEGIN:DAYLIGHT
TZOFFSETFROM:-0600
TZOFFSETTO:-0500
TZNAME:CDT
DTSTART:20240310T080000
END:DAYLIGHT
BEGIN:STANDARD
TZOFFSETFROM:-0500
TZOFFSETTO:-0600
TZNAME:CST
DTSTART:20241103T070000
END:STANDARD
BEGIN:DAYLIGHT
TZOFFSETFROM:-0600
TZOFFSETTO:-0500
TZNAME:CDT
DTSTART:20250309T080000
END:DAYLIGHT
BEGIN:STANDARD
TZOFFSETFROM:-0500
TZOFFSETTO:-0600
TZNAME:CST
DTSTART:20251102T070000
END:STANDARD
BEGIN:DAYLIGHT
TZOFFSETFROM:-0600
TZOFFSETTO:-0500
TZNAME:CDT
DTSTART:20260308T080000
END:DAYLIGHT
BEGIN:STANDARD
TZOFFSETFROM:-0500
TZOFFSETTO:-0600
TZNAME:CST
DTSTART:20261101T070000
END:STANDARD
END:VTIMEZONE
BEGIN:VEVENT
DTSTART;VALUE=DATE:20250502
DTEND;VALUE=DATE:20250505
DTSTAMP:20260421T194159
CREATED:20241107T055633Z
LAST-MODIFIED:20241107T055947Z
UID:10000145-1746144000-1746403199@pickleballisgreat.com
SUMMARY:6th Annual Kaite Davis Memorial Tournament by PIG
DESCRIPTION:Description\nSave the Date for the 6th Annual Kaite Davis Memorial Tournament – May 2-4\, 2025 \nSign up with a partner for the Round Robin (skill/age) WITH playoffs for Gold/Silver/Bronze for skills 3.5-4.5+.\nOr without needing a partner for a Friday Jamboree/Scramble in either the Coed 2.5 Skill\, 3.0 Men’s & Women’s Skill\, or the 70+ Age \nRegister: https://pickleballbrackets.com/ptd.aspx?eid=fd704c71-fae7-4547-8e92-26867ea5c5b3 \nPlayers will self rate and can not play lower than their Pickleball Brackets rating (PBR) or USA Pickleball Tournament Player Rating (UTPR). Players may only play up in skill .5 from their profile rating. Tournament Director reserves the right to correct underrated players. \nOutdoor play on up to 11 courts on a tennis surface (9 permanent courts / 2 temporary) \nPickleball Is Great reserves the right to refuse service at anytime \nUsing the X-40 ball \n\n\nAdditional Information\nPayment is required to register – Registration $60 includes the 1st event. Second event $10 \nPartner must register within 7 days or be moved to the waitlist \nFriday – Jamboree/Scramble (sign up without needing a partner) in either: Coed Jamboree (2.5 and Under); MD & WD (3.0) skill; or (70+) age\nSaturday – Men’s & Women’s Doubles\nSunday – Mixed Doubles \nFormat:\nALL Round Robin with playoffs for Gold/Silver/Bronze. All games/matches are win by 2\nMost Round Robins are 1 to 15 but may change based on the number of players in the event. If an event has 7 or 8 teams\, round-robin matches will be 1 to 11 by 2.\nTop 4 teams go to the playoff (Lead in matches are 1 to 15 with the Gold Match with the option of 2/3-11w/2 or 1 to 15. Bronze Match 1 to 15.\nTD may combine brackets as needed to ensure quality play.\nTournament may close at any time if maximum daily numbers are met (even if some events appear to have openings) \n\n\nRefund Policy\nNo refunds after close of registration \nIf any event is cancelled due to unforeseen circumstances there will be up to a 50% refund \n\n\nVenue Information\n\n\n\nReinhart Volunteer All-Sports Park\nPickleball Is Great\n1690 SW Webster Rd\nGrants Pass\nOregon 97526\nUnited States\nSurface Type: Tennis Hardcourt Surface\nPlay Area Type: Outdoor Non-Covered\nNet Type: Permanent & Portable\nBall Used: Franklin X-40\nNumber of Courts: 11\nParking: No Fee\n\n\n\n\nDetails\n\n\n\nOfficiated Type→ None\n\n\n\n\nMax Events Per Registration→ 3\n\n\n\n\nCost Includes→ 1 Events\n\n\n\n\nGuaranteed Games Per Event→ 3\n\n\n\n\nAllow Pets→ No\n\n\n\n\nAllow Food→ No\n\n\n\n\nAllow Dish to Pass→ No\n\n\n\n\nAllow Grill→ No
URL:https://pickleballisgreat.com/tournament/6th-annual-kaite-davis-memorial-tournament-by-pig/
ATTACH;FMTTYPE=image/jpeg:https://pickleballisgreat.com/wp-content/uploads/2024/11/fd704c71-fae7-4547-8e92-26867ea5c5b3_logo.jpg
END:VEVENT
BEGIN:VEVENT
DTSTART;VALUE=DATE:20250502
DTEND;VALUE=DATE:20250505
DTSTAMP:20260421T194159
CREATED:20241107T060333Z
LAST-MODIFIED:20241107T060333Z
UID:10000146-1746144000-1746403199@pickleballisgreat.com
SUMMARY:May Classic at Cascade Athletic Club by PIG
DESCRIPTION:Description\nRound Robin format (skill/age) WITH playoffs for Gold/Silver/Bronze for skills 3.0-4.5+. Age brackets will be determined following the close of registration\, but will strive to be close to under 50\, 50-59\, & 60+ events. TD may combine brackets as needed to ensure quality play. \nRegister: https://pickleballbrackets.com/ptd.aspx?eid=12413aff-0eaf-4342-9bd0-08f3d13ddab3 \nPlayers will self-rate and cannot play lower than their Pickleball Brackets Rating (PBR). Players may only play up in skill .5 from their profile rating. Tournament Director reserves the right to correct underrated players. \nBall – Franklin X-40 \nPickleball Is Great reserves the right to refuse service at anytime \n\n\nAdditional Information\nPayment is required to register – Early registration $45 + $15/event through Feb 15. Standard registration $60 + $15/event through April 23. After registration closes (beginning April 24)\, late registration will be $75 + $15/event. \nPartner must register within 7 days or be moved to the waitlist\n(Final age breaks based on registration\, but will strive to be close to under 50\, 50-59\, 60+) \nFriday\, May 2 – Women’s Doubles\nSaturday\, May 3 – Mixed Doubles\nSunday\, May 4 – Men’s Doubles \nFormat:\nALL Round Robin with playoffs for Gold/Silver/Bronze. All games/matches are win by 2\nMost Round Robins are 1 to 15 but may change based on the number of players in the event. If an event has 7 or 8 teams\, round-robin matches will be 1 to 11 by 2.\nTop 4 teams go to the playoff (Lead in matches are 1 to 15 with the Gold Match with the option of 2/3-11w/2 or 1 to 15. Bronze Match 1 to 15.\nTD may combine brackets as needed to ensure quality play.\nTournament may close at any time if maximum daily numbers are met (even if some events appear to have openings) \n\n\nRefund Policy\n$10 Admin fee minimum for all withdrawals\nNo refunds after close of registration \nIf any event is cancelled due to weather there will be up to a 50% refund \n\n\nVenue Information\n\n\n\nCascade Athletic Club\n19201 SE Division\nGresham\nOregon 97030\nUnited States\nSurface Type: Tennis Hardcourt Surface\nPlay Area Type: Indoor\nNet Type: Portable\nBall Used: Franklin X-40\nNumber of Courts: 12\nParking: No Fee\n\n\n\n\nDetails\n\n\n\nOfficiated Type→ None\n\n\n\n\nMax Events Per Registration→ 3\n\n\n\n\nCost Includes→ 0 Events\n\n\n\n\nGuaranteed Games Per Event→ 3\n\n\n\n\nAllow Pets→ No\n\n\n\n\nAllow Food→ No\n\n\n\n\nAllow Dish to Pass→ No\n\n\n\n\nAllow Grill→ No
URL:https://pickleballisgreat.com/tournament/may-classic-at-cascade-athletic-club-by-pig/
ATTACH;FMTTYPE=image/jpeg:https://pickleballisgreat.com/wp-content/uploads/2024/11/12413aff-0eaf-4342-9bd0-08f3d13ddab3_logo.jpg
END:VEVENT
BEGIN:VEVENT
DTSTART;VALUE=DATE:20250502
DTEND;VALUE=DATE:20250505
DTSTAMP:20260421T194159
CREATED:20250126T034510Z
LAST-MODIFIED:20250126T034510Z
UID:10000159-1746144000-1746403199@pickleballisgreat.com
SUMMARY:$$ Prize Money $$ - 2025 Wapato Point Resort Spring Pickleball Open by PIG
DESCRIPTION:Tournament Description\n\n\n\nCome join the fun at Wapato Point Resort located in Manson Washington\, nestled along beautiful Lake Chelan\, for our 2025 spring “Shake n Bake on the Lake” pb tournament. All events will be round robin format with playoffs. We’re also excited to announce that in addition to the Open events\, all amateur events will have some prize money too!\n\nRegister: https://pickleballtournaments.com/tournaments/prize-money-2025-wapato-point-resort-spring-pickleball-open-by-pig\n\n\n\nWe have 8 dedicated pickleball courts and another 6 temporary courts with ample viewing for all players & visitors.\nThere will be an on-site food truck\, a beer & wine garden\, music\, raffle\, and more.\n\nLocal lodging providers have partnered with us to offer amazing discounts on accommodations from economy to luxury units\, most of which are within walking distance of the tournament courts.\n\nTD may add or combine age/skill groups based on participation\n\nPlayers will self-rate and can not play lower than their Pickleball Brackets rating (PBR) or DUPR. Players may only play up in skill .5 from their profile rating. Tournament Director reserves the right to correct underrated players.\n\nIf you note a player playing lower than their skill rating\, please use the contact tourney button above to let the tournament director know.\n\n\n\n\n\nAdditional Information\n\n\n\n**Juniors (17 and Under) – $25 with discount code JUNIOR at checkout***\n\nEach player is responsible to register and pay –\nEarly registration – $50 + event fee through Mar 2\nStandard registration – $60 + event fee through Apr 13\nLate registration $75 + event fee beginning Apr 14\n\nALL GOLD medalists will earn free registration for Wapato’s 2025 fall tournament!\n\nEvent fees:\nOpen/Pro events – $60\nAmateur events – $30\n\nSchedule:\nFriday – Women’s Doubles / Men’s Singles\nSaturday – Mixed Doubles\nSunday – Men’s Doubles / Women’s Singles\n\nFormat:\nALL Round Robin games/matches are win by 2.\nMost Round Robins are 1 to 15 but may change based on the number of players in the event. If an event has 7 or 8 teams\, round-robin matches will be 1 to 11 by 2.\nTop 4 teams go to the playoff (1st & 2nd seeds to play Gold Match. 3rd & 4th seeds to play Bronze Match.\n\nMust use only paddles approved by USA Pickleball – https://equipment.usapickleball.org/paddle-list/\n\nNo referees. Passive line judges for medal matches on request.\n\nNo pets on the Wapato Point Resort grounds!\n\nTD may combine brackets as needed to ensure quality play.\nTournament may close at any time if maximum daily numbers are met (even if some events appear to have openings)\n\nOutdoor Skill/Age tournament on tennis surface\n\nPickleball Is Great reserves the right to refuse service at anytime.\n\n\n\n\n\nRefund Policy\n\n\n\n$15 admin fee for all refunds.\nRefund requests need to be made by Apr 23 (close of registration)\n\nWeather refunds are up to 50% refunded for any weather related issues.\n\n\n\n\n\nPrize Money\n\n\n\nPRO EVENTS\n6 Pro Events (MD\, WD\, MXD) for both under 50/50+\n$500 Gold team / $300 Silver team / $200 Bronze team\nRound-robin format w/playoffs for PRO EVENTS\nMin. of 8 teams per Pro Doubles event\n\nAMATEUR EVENTS\nPrize money ($50/player) awarded for GOLD medals only\nRound-robin format w/playoffs for AMATEUR EVENTS\nAge/skill events may be combined to make a minimum of 4 teams to qualify for prize money\n\nALL GOLD medalists will earn free registration for Wapato’s 2025 fall tournament!\n\n\n\n\n\n\nVenue Details\n\n\n\n\n\nWapato Point Resort\n\n\n1 Wapato Point Pkwy\nManson\, Washington\, 98831\nUnited States\n\n\n\nParking Information\nParking Fee: No Fee\nNo overnight parking\n\n\n\nAmenities\n\n\nSurface Type: Tennis Hardcourt Surface\n\n\nNumber of courts: 14\n\n\nBall used: TBD\n\n\nPlay area type: Outdoor Non-Covered\n\n\nNet type: Permanent & Portable
URL:https://pickleballisgreat.com/tournament/prize-money-2025-wapato-point-resort-spring-pickleball-open-by-pig/
ATTACH;FMTTYPE=image/jpeg:https://pickleballisgreat.com/wp-content/uploads/2025/01/Wapato-Point.jpg
END:VEVENT
BEGIN:VEVENT
DTSTART;VALUE=DATE:20250502
DTEND;VALUE=DATE:20250505
DTSTAMP:20260421T194159
CREATED:20250210T204612Z
LAST-MODIFIED:20250210T204612Z
UID:10000183-1746144000-1746403199@pickleballisgreat.com
SUMMARY:Kenny Loggins Pickleball in the Danger Zone Tournament with the American Riviera Classic
DESCRIPTION:Tournament Description\n\n\n\nDESCRIPTION:\nThis will be a Round Robin tournament with playoffs and medals in Gold\, Silver and Bronze.\nA great day of competition in a beautiful coastal town. Vendors with pickleball paddles\, equipment\, and clothing will be on-site and offering player discounts. Lots of quality raffle prizes round out a fun event! We welcome local and out-of-town guests\, as well as those who just want to watch friends playing. A great place to spend the weekend!\n\nRegister: https://pickleballtournaments.com/tournaments/kenny-loggins-pickleball-in-the-danger-zone-tournament-with-the-american-riviera-classic\n\nEVENTS: (updated 2/9/25)\nFriday 5/2/24 Mixed Doubles\nSaturday 5/3/24 Women’s Doubles\nSunday 5/4/24 Men’s Doubles\n\nSkill Levels : 3.0\, 3.5\, 4.0\, 4.5\, 5.0\nAGE DIVISIONS WLL BE BASED UNPON REGISTRATION – WE WILL ATTEMPT TO FOLLOW THESE GUIDLINES: 19+\, 30+\, 40+\, 50+\, 60+\, 70+\n\n****There is a daily limit of players that may cause all new players to go to the waiting list at ANYTIME***\n\nThe parking lot opens to the public at 7:00 AM.\n\nWe will be following all USA Pickleball rules and equipment. It is the the player responsibility to verify if you are using a legal paddle – https://equipment.usapickleball.org/paddle-list/\n\n\n\nWe reserve the right to refuse service at anytime\n\n\n\n\nAdditional Information\n\n\n\nUp to Courts: 14\nNet Type: 10 Permanent & 4 Portable\n\nIMPORTANT PARKING INFORMATION:\nParking is very limited in the parking lot and in the surrounding neighborhoods. If you park outside the lot\, plan to walk or Uber from where you park. Plan to arrive about 45 minutes early to allow for parking situation. No fee for parking. No overnight parking.\n\nFOOD:\nThere are good restaurants within 5 minutes driving distance. Plan to bring food and drink\nitems you’ll need during your time at the tournament. Some snacks will be available. There will be an area for players to sit and wait between games\, however you may want to bring a chair as there is limited seating outside the courts.\n\nFor local information: barbk77@cox.net or resalzberg@gmail.com\n\n\n\n\nRefund Policy\n\n\n\nYou may cancel any or all of your events until 11:59 pm\, April 21\, 2025 and receive a refund minus an admin fee of $15. No refunds after that time.\n\nThere will be up to a 50% refund for events that are cancelled due to inclement weather or any other unforeseen event.\n\nIf you have requested a partner and one cannot be found you will also receive a refund. minus an admin fee of $15.\n\n\n\n\n\n\nVenue Details\n\n\n\n\n\nSanta Barbara Municipal Tennis-Pickleball Courts\n\n\n1414 Park Place (off Old Coast Highway)\nSanta Barbara\, California\, 93103\nUnited States\n\n\nParking Information\nParking Fee: No Fee\nNO OVER NIGHT PARKING – See parking information above.\n\n\n\nAmenities\n\n\nSurface Type: Tennis Hardcourt Surface\n\n\nNumber of courts: 16\n\n\nBall used: Franklin X40\n\n\nPlay area type: Outdoor Non-Covered\n\n\nNet type: Portable\n\n\nBall website: Click here
URL:https://pickleballisgreat.com/tournament/kenny-loggins-pickleball-in-the-danger-zone-tournament-with-the-american-riviera-classic/
ATTACH;FMTTYPE=image/jpeg:https://pickleballisgreat.com/wp-content/uploads/2025/02/American-Riveria-Classic1.jpg
END:VEVENT
BEGIN:VEVENT
DTSTART;VALUE=DATE:20250502
DTEND;VALUE=DATE:20250505
DTSTAMP:20260421T194159
CREATED:20250214T200722Z
LAST-MODIFIED:20250214T200807Z
UID:10000200-1746144000-1746403199@pickleballisgreat.com
SUMMARY:3rd Annual Club Spring Challenge
DESCRIPTION:Tournament Description\n\n\n\nWelcome to the 3rd Annual Spring Club Challenge!\n\nRegister: https://pickleballtournaments.com/tournaments/3rd-annual-club-spring-challenge\n\nThis will not be a USAP Sanctioned tournament – No membership is required to participate\n\nAll paddles must be USAP sanctioned tournament approved.\n\nhttps://equipment.usapickleball.org/paddle-list/\n\nThe match format will be Round Robin\, either 2 out of 3 games to 11 or 1 game to 15. The actual match format will be based on bracket size\, followed by Playoffs for the top teams.\n\nThe start times for each day are as follows:\nFriday 2pm: Men’s singles\, Women’s singles\nSaturday 9am: Women’s doubles\,\nSaturday after 11am: Men’s doubles\nSunday 9am: Mixed doubles\n\nThere will be a free lunch provided on Saturday to all Players.\n\n\n\n\n\nAdditional Information\n\n\n\n** Please make sure your partner registers as well and is paid within 14 days of you registering.\n\nRegistration Dates:\n\nEarly Registration is $35 (plus $15 per event) from 1/15/2025 thru 2/15/2025.\nNormal Registration is $45 (plus $15 per event) from 2/16/2025 thru 3/31/2025.\nLate Registration is $55 (plus $15 per event) from 4/1/2025 thru 4/27/2025.\n\nA team must play at the skill level of the higher rated player and the age of the younger player. If you do not have a rating and are self rating\, please advise the tournament directors. Tournament directors will have final say in self-rating. Players will self-rate and cannot play lower than their DUPR Rating.\n\nThe tournament directors reserve the right to combine or split brackets as necessary.\n\nContact Information: theclubpickleball@gmail.com\n\n\n\n\n\nRefund Policy\n\n\n\nNo refunds for withdrawal will be issued after April 15th\, 2025.\nWithdrawals before April 15th\, will receive a refund of registration fee minus a $10 fee.\nThe PB service fee will not be refunded.\nIn case of inclement weather resulting in cancellations of events\, no refunds will be offered. We will make every reasonable effort to play all brackets in case of inclement weather\, some brackets may have a shortened format.\n\n\n\n\n\nPrize Money\n\n\n\nPrize Money for All 4.5+ Divisions. Total Prize Money and Payout TBD.\n\n\n\n\n\n\nVenue Details\n\n\n\n\n\nThe Club at The Township\n\n\n151 Southlake Ave\nRidgeland\, Mississippi\, 39157\nUnited States\n\n\n\nParking Information\nParking Fee: No Fee\n\n\n\nAmenities\n\n\nSurface Type: Pickleball Hardcourt Surface\n\n\nNumber of courts: 12\n\n\nBall used: Franklin X-40\n\n\nPlay area type: Outdoor Non-Covered\n\n\nNet type: Portable
URL:https://pickleballisgreat.com/tournament/3rd-annual-club-spring-challenge/
ATTACH;FMTTYPE=image/jpeg:https://pickleballisgreat.com/wp-content/uploads/2025/02/Club-Spring-Challenge.jpg
END:VEVENT
END:VCALENDAR