BEGIN:VCALENDAR
VERSION:2.0
PRODID:-//Pickleball Is Great - ECPv6.15.18//NONSGML v1.0//EN
CALSCALE:GREGORIAN
METHOD:PUBLISH
X-ORIGINAL-URL:https://pickleballisgreat.com
X-WR-CALDESC:Events for Pickleball Is Great
REFRESH-INTERVAL;VALUE=DURATION:PT1H
X-Robots-Tag:noindex
X-PUBLISHED-TTL:PT1H
BEGIN:VTIMEZONE
TZID:America/Los_Angeles
BEGIN:DAYLIGHT
TZOFFSETFROM:-0800
TZOFFSETTO:-0700
TZNAME:PDT
DTSTART:20240310T100000
END:DAYLIGHT
BEGIN:STANDARD
TZOFFSETFROM:-0700
TZOFFSETTO:-0800
TZNAME:PST
DTSTART:20241103T090000
END:STANDARD
BEGIN:DAYLIGHT
TZOFFSETFROM:-0800
TZOFFSETTO:-0700
TZNAME:PDT
DTSTART:20250309T100000
END:DAYLIGHT
BEGIN:STANDARD
TZOFFSETFROM:-0700
TZOFFSETTO:-0800
TZNAME:PST
DTSTART:20251102T090000
END:STANDARD
BEGIN:DAYLIGHT
TZOFFSETFROM:-0800
TZOFFSETTO:-0700
TZNAME:PDT
DTSTART:20260308T100000
END:DAYLIGHT
BEGIN:STANDARD
TZOFFSETFROM:-0700
TZOFFSETTO:-0800
TZNAME:PST
DTSTART:20261101T090000
END:STANDARD
END:VTIMEZONE
BEGIN:VEVENT
DTSTART;VALUE=DATE:20250704
DTEND;VALUE=DATE:20250707
DTSTAMP:20260421T151705
CREATED:20250417T011938Z
LAST-MODIFIED:20250418T154420Z
UID:10000227-1751587200-1751846399@pickleballisgreat.com
SUMMARY:2025 Star Spangled Blast by PIG
DESCRIPTION:Tournament Description\n\n\n\nExcited for our first tournament at Canterwood Golf & Country Club in Gig Harbor – Save the Date (July 4-6)\nFun Round Robin format WITH playoffs for Gold/Silver/Bronze for skills 3.0-5.0. TD may combine brackets as needed to ensure quality play. Final age brackets will be determined following the close of registration\, but will strive to be close to under 50\, 50-59\, 60+ events.\n\nRegister: https://pickleballtournaments.com/tournaments/2025-star-spangled-blast-by-pig\n\nNumber of total matches will be determined by number of players in the event. This may change up to the time of play as “life” happens to players and facility requests may be made. Players are guaranteed a minimum of 3 matches.\n\n***Ratings:\n• Even though DUPR is the only rating listed for public view\, we are using DUPR only as a guideline. All rating systems have their pros and cons. Players will self-rate and we will also be using your previous tournament rating (PBR) as our determinant\n• Please update your self-rating in your software profile before you register. You may only play up .5 from your self-rating\n• If you feel that a player is playing out of their skill\, please contact the tournament director. We will then evaluate tournament history and various ratings (including DUPR) to determine if a player/team needs to play at a different skill. Please be aware that this is a manual process and does not happen automatically\n\nResults WILL be reported to DUPR\n\nUsing the Franklin X40 ball\n\n\n\n\nAdditional Information\n\n\n\nFriday – Women’s Doubles\nSaturday – Mixed Doubles\nSunday – Men’s Doubles\n\nOutdoor Skill/Age tournament on tennis surface.\n\nFormat:\nALL Round Robin with playoffs for Gold/Silver/Bronze. All games/matches are win by 2\nMost Round Robins are 1 to 15 but may change based on the number of players in the event. If an event has 7 or 8 teams\, round-robin matches will be 1 to 11 by 2.\nTop 4 teams go to the playoff (Lead in matches are 1 to 15 with the Gold Match with the option of 2/3-11w/2 or 1 to 15. Bronze Match 1 to 15.\nTD may combine brackets as needed to ensure quality play.\n\n\n\n\nRefund Policy\n\n\n\n$10 Refund fee for all withdrawals\n\nIf any event is cancelled due to weather\, there will be up to a 50% refund\nDeadline is 6/25/25 for full refunds (minus the non-refundable service fee)\n\n\n\n\n\n\nVenue Details\n\n\n\n\n\nCanterwood Golf & Country Club\n\n\n12606 54th Ave\nGig Harbor\, Washington\, 98332\nUnited States\n\n\n\nParking Information\nParking Fee: No Fee\n\n\n\nAmenities\n\n\nSurface Type: Tennis Hardcourt Surface\n\n\nNumber of courts: 12\n\n\nBall used: Franklin X40\n\n\nPlay area type: Outdoor Non-Covered\n\n\nNet type: Permanent & Portable\n\n\nBall website: Click here
URL:https://pickleballisgreat.com/tournament/2025-star-spangled-blast-by-pig/
ATTACH;FMTTYPE=image/jpeg:https://pickleballisgreat.com/wp-content/uploads/2025/04/GIG-HARBOR-STAR-SPANGLED-BLAST-header-PIG-600x315-1.jpg
END:VEVENT
END:VCALENDAR