BEGIN:VCALENDAR
VERSION:2.0
PRODID:-//Pickleball Is Great - ECPv6.15.18//NONSGML v1.0//EN
CALSCALE:GREGORIAN
METHOD:PUBLISH
X-WR-CALNAME:Pickleball Is Great
X-ORIGINAL-URL:https://pickleballisgreat.com
X-WR-CALDESC:Events for Pickleball Is Great
REFRESH-INTERVAL;VALUE=DURATION:PT1H
X-Robots-Tag:noindex
X-PUBLISHED-TTL:PT1H
BEGIN:VTIMEZONE
TZID:America/Boise
BEGIN:DAYLIGHT
TZOFFSETFROM:-0700
TZOFFSETTO:-0600
TZNAME:MDT
DTSTART:20240310T090000
END:DAYLIGHT
BEGIN:STANDARD
TZOFFSETFROM:-0600
TZOFFSETTO:-0700
TZNAME:MST
DTSTART:20241103T080000
END:STANDARD
BEGIN:DAYLIGHT
TZOFFSETFROM:-0700
TZOFFSETTO:-0600
TZNAME:MDT
DTSTART:20250309T090000
END:DAYLIGHT
BEGIN:STANDARD
TZOFFSETFROM:-0600
TZOFFSETTO:-0700
TZNAME:MST
DTSTART:20251102T080000
END:STANDARD
BEGIN:DAYLIGHT
TZOFFSETFROM:-0700
TZOFFSETTO:-0600
TZNAME:MDT
DTSTART:20260308T090000
END:DAYLIGHT
BEGIN:STANDARD
TZOFFSETFROM:-0600
TZOFFSETTO:-0700
TZNAME:MST
DTSTART:20261101T080000
END:STANDARD
END:VTIMEZONE
BEGIN:VTIMEZONE
TZID:America/Denver
BEGIN:DAYLIGHT
TZOFFSETFROM:-0700
TZOFFSETTO:-0600
TZNAME:MDT
DTSTART:20240310T090000
END:DAYLIGHT
BEGIN:STANDARD
TZOFFSETFROM:-0600
TZOFFSETTO:-0700
TZNAME:MST
DTSTART:20241103T080000
END:STANDARD
BEGIN:DAYLIGHT
TZOFFSETFROM:-0700
TZOFFSETTO:-0600
TZNAME:MDT
DTSTART:20250309T090000
END:DAYLIGHT
BEGIN:STANDARD
TZOFFSETFROM:-0600
TZOFFSETTO:-0700
TZNAME:MST
DTSTART:20251102T080000
END:STANDARD
BEGIN:DAYLIGHT
TZOFFSETFROM:-0700
TZOFFSETTO:-0600
TZNAME:MDT
DTSTART:20260308T090000
END:DAYLIGHT
BEGIN:STANDARD
TZOFFSETFROM:-0600
TZOFFSETTO:-0700
TZNAME:MST
DTSTART:20261101T080000
END:STANDARD
END:VTIMEZONE
BEGIN:VEVENT
DTSTART;VALUE=DATE:20250710
DTEND;VALUE=DATE:20250714
DTSTAMP:20260421T151622
CREATED:20250525T210841Z
LAST-MODIFIED:20250525T210841Z
UID:10000235-1752105600-1752451199@pickleballisgreat.com
SUMMARY:2025 Coeur d'Alene Classic Presented by Selkirk
DESCRIPTION:Tournament Description\n\n\nJoin us in beautiful Coeur d’Alene\, Idaho for a Round Robin Tournament!\n\n\nRegister: https://pickleballtournaments.com/tournaments/2025-coeur-dalene-classic-presented-by-selkirk\n\n\nTHURSDAY\, JULY 10\, 2025\nMen’s Doubles – Skill levels 3.0 to 5.0 – Age divisions 60+ and 70+\nWomen’s Doubles – Skill levels 3.0 to 5.0 – Age divisions 60+ and 70+\n\n***now full*** FRIDAY\, JULY 11\, 2025 ***ALL NEW TEAMS TO THE WAITING LIST****\nWomen’s Doubles – Skill levels 3.0 to 5.0 – Age divisions\, 50+\nMen’s Doubles – Skill levels 3.0 to 5.0 – Age divisions\, 50+\nMixed Doubles – Skill levels 3.0 to 5.0 – Age divisions 60+ and 70+\n\nSATURDAY\, JULY 12\, 2025\nMixed Doubles – Skill levels 3.0 to 5.0 – Age divisions 12+\, 35+\, and 50+\n\nSUNDAY\, JULY 13\, 2025\nWomen’s Doubles – Skill levels 3.0 to 5.0 – Age divisions 12+ and 35+\nMen’s Doubles – Skill levels 3.0 to 5.0 – Age divisions 12+ and 35+\n\nWhen registering\, both partners need to be fully registered and paid to stay in the event. We will be limiting players 5 days for their partner to sign up or they will be moved to the waitlist.\n\nWe reserve the right to refuse service at anytime.\n\n\n\n\nAdditional Information\n\n\nLAST DAY TO REGISTER WITH A FREE T-SHIRT 4/27…TELL YOUR FRIENDS PLEASE\n\nFormat Details\nFewer than 4 teams/players will be moved into a combined bracket.\nGames: 2/3 to 11 win by 2 for brackets 4 or 5 teams\nGames: 1 to 15 win by 2 for brackets 6 or 7 teams\nGames: 1 to 11 win by 2 for brackets with 8 or 9 teams (10 or more will split into pools with playoffs)\n\nRound Robin/Pool Play\nAll players or teams play each other. The medal round will be only 2 matches\n1 vs 2 for Gold / Silver and 3 vs 4 for Bronze\nor\nPool1#1vs Pool2#1 for Gold/Silver and Pool1#2 vs Pool2#2 for Bronze\n\nAny Popup tent must NOT use spikes to hold down tent\n\n\n\n\nRefund Policy\n\n\nCANCELLATION DEADLINE: 6/15/25\nIf you withdraw before the CANCELLATION DEADLINE above\, you will be issued a refund (with a $25 processing fee deducted). Refunds will be issued at the conclusion of the tournament.\n\nINCLEMENT WEATHER POLICY\nThis is an outdoor tournament. If weather is a factor\, we will do all we can to play matches. There are no refunds\, credits or make up days\, if the tournament is impacted by weather. No indoor backup plan for this tournament.\n\n\n\n\n\nVenue Details\n\n\n\n\nCherry Hill Park\n\n\n1718 N 15th Street\nCoeur d’Alene\, Idaho\, 83814\nUnited States\n\n\nParking Information\nParking Fee: No Fee\nRV Parking is NOT allowed at this location. Overnight RV Parking will be ticketed and towed. You are welcome to bring a tent for shade\, however\, NO stakes are allowed to hold down any tent.\n\n\n\nAmenities\n\n\nSurface Type: Synthetic / Acrylic\n\n\nNumber of courts: 18\n\n\nBall used: Selkirk\n\n\nPlay area type: Outdoor Non-Covered\n\n\nNet type: Permanent\n\n\nBall website: Click here
URL:https://pickleballisgreat.com/tournament/2025-coeur-dalene-classic-presented-by-selkirk/
ATTACH;FMTTYPE=image/webp:https://pickleballisgreat.com/wp-content/uploads/2025/05/bd434d1e-53de-48f0-b4c4-908e11010d0c_Logo-1.webp
END:VEVENT
BEGIN:VEVENT
DTSTART;VALUE=DATE:20250711
DTEND;VALUE=DATE:20250714
DTSTAMP:20260421T151622
CREATED:20250123T151138Z
LAST-MODIFIED:20250123T151138Z
UID:10000149-1752192000-1752451199@pickleballisgreat.com
SUMMARY:2025 WYOMING Amateur Pickleball Championships powered by Carvana PPA Tour & PIG
DESCRIPTION:Tournament Description\n\n\n\n“Amateur Pickleball State Championship Series” powered by the Carvana PPA Tour!\n\n\n\nRegister: https://pickleballtournaments.com/tournaments/2025-wyoming-amateur-pickleball-championships-powered-by-carvana-ppa-tour-and-pig\n\n\n\nWhich state has the best pickleball players in 2025?\n\nThe answer will be revealed soon with a set of tournaments conducted across all 50 states. Come to the World Championships where the Champions Division will feature all the medalists from each division nationwide battling against each other for pickleball supremacy.\n\nWhy should I play in the Amateur Pickleball State Championship Series?\n\nParticipating in the Amateur Pickleball State Championship Series powered by the Carvana PPA Tour offers players a unique and thrilling opportunity to showcase their skills on a bigger stage\, contributing to the vibrant and growing pickleball community.\n\nThe series\, spanning all 50 states\, provides an inclusive platform for players of varying ages and skill levels to engage in spirited competition while fostering camaraderie among enthusiasts across the nation.\n\nThe prospect of earning a coveted spot in the year-end World Championships in Dallas\, TX adds an extra layer of excitement and motivation. The Champions Division brings together the best players from across the world\, offering a grand stage for the ultimate showdown and the quest for pickleball supremacy.\n\nChampions Division\nParticipants who secure skill-level gold at a state championship are eligible for a complimentary registration fee to the 2025 Worlds Championship. This exclusive offer recognizes and rewards excellence in the Champions Division and ensures the best possible competition.\n\nGold: Free Registration\nSilver: 50% off Registration\nBronze: 25% Registration\n\nDivisions Offered\nWe are excited to offer a range of divisions to cater to players of varying age groups and skill levels:\n\nSkill Levels: 3.0\, 3.5\, 4.0\, 4.5\, 5.0\nAge Groups: 18U\, 19+\, 35+\, 50+\, 60+\, 70+\nPlaying Divisions: MD\, WD\, MXD\, MS\, WS\n\nRegistration Starts\nEarly Registration (Feb/Mar) = $65 + event fees\nRegistration (Apr/May) = $80 + event fees\nLate Registration (June 15) = $95 + event fees\n\nAll Doubles Events are $20 each\nAll Singles Events are $35 each\n\n\n\n\n\nAdditional Information\n\n\n\nPlayers will utilize “DUPR” rating from their player profile\n\nFriday\, July 11 – Women’s Doubles / Men’s Singles\nSaturday\, July 12 – Mixed Doubles\nSunday\, July 13 – Men’s Doubles / Women’s Singles\n\nFormat Details – “Round Robin with Playoffs”\n\n“Pool” play followed by playoffs of the top teams – usually the top 4\n\nIf there are fewer than 3 teams/players will be moved into a combined bracket.\nDouble Round Robin 1 to 15 win by 2 for 3 teams\nGames: 1 to 15 win by 2 for brackets 4\, 5\, or 6 teams\nGames: 1 to 11 win by 2 for brackets with 6 or 7 teams\n8 or more teams will be split into pools with the top 2 teams go to a playoff round\n\nPickleball Is Great reserves the right to refuse service at anytime\nTournament Director may need to combine and adjust brackets as needed.\n\n\n\n\n\nRefund Policy\n\n\n\nCANCELLATION DEADLINE: 7/2/25\nIf you withdraw before the CANCELLATION DEADLINE above\, you will be issued a refund (with a $20 processing fee deducted). Refunds will be issued at the conclusion of the tournament.\n\n\n\n\n\n\nVenue Details\n\n\n\n\n\nPickleball and Sports Complex\n\n\n1911 Dunlap Way\nCasper\, Wyoming\, 82601\nUnited States\n\n\n\nParking Information\nParking Fee: No Fee\nNO OVERNIGHT PARKING\n\n\n\nAmenities\n\n\nSurface Type: Tennis Hardcourt Surface\n\n\nNumber of courts: 8\n\n\nBall used: Franklin X40\n\n\nPlay area type: Indoor\n\n\nNet type: Permanent\n\n\nBall website: Click here
URL:https://pickleballisgreat.com/tournament/2025-wyoming-amateur-pickleball-championships-powered-by-carvana-ppa-tour-pig/
ATTACH;FMTTYPE=image/jpeg:https://pickleballisgreat.com/wp-content/uploads/2025/01/Casper-Sports-Complex-PIG-600x315-1.jpg
END:VEVENT
BEGIN:VEVENT
DTSTART;VALUE=DATE:20250711
DTEND;VALUE=DATE:20250714
DTSTAMP:20260421T151622
CREATED:20250214T193604Z
LAST-MODIFIED:20250214T193604Z
UID:10000197-1752192000-1752451199@pickleballisgreat.com
SUMMARY:2025 IDAHO Amateur Pickleball Championships powered by Carvana PPA Tour & PIG
DESCRIPTION:Tournament Description\n\n\n\n“Amateur Pickleball State Championship Series” powered by the Carvana PPA Tour!\n\nRegister: https://pickleballtournaments.com/tournaments/2025-idaho-amateur-pickleball-championships-powered-by-carvana-ppa-tour-and-pig\n\nWhich state has the best pickleball players in 2025?\n\nThe answer will be revealed soon with a set of tournaments conducted across all 50 states. Come to the World Championships where the Champions Division will feature all the medalists from each division nationwide battling against each other for pickleball supremacy.\n\nWhy should I play in the Amateur Pickleball State Championship Series?\n\nParticipating in the Amateur Pickleball State Championship Series powered by the Carvana PPA Tour offers players a unique and thrilling opportunity to showcase their skills on a bigger stage\, contributing to the vibrant and growing pickleball community.\n\nThe series\, spanning all 50 states\, provides an inclusive platform for players of varying ages and skill levels to engage in spirited competition while fostering camaraderie among enthusiasts across the nation.\n\nThe prospect of earning a coveted spot in the year-end World Championships in Dallas\, TX adds an extra layer of excitement and motivation. The Champions Division brings together the best players from across the world\, offering a grand stage for the ultimate showdown and the quest for pickleball supremacy.\n\nChampions Division\nParticipants who secure skill-level gold at a state championship are eligible for a complimentary registration fee to the 2025 Worlds Championship. This exclusive offer recognizes and rewards excellence in the Champions Division and ensures the best possible competition.\n\nGold: Free Registration\nSilver: 50% off Registration\nBronze: 25% Registration\n\nDivisions Offered\nWe are excited to offer a range of divisions to cater to players of varying age groups and skill levels:\n\nSkill Levels: 3.0\, 3.5\, 4.0\, 4.5\, 5.0\nAge Groups: 18U\, 19+\, 35+\, 50+\, 60+\, 70+\nPlaying Divisions: MD\, WD\, MXD\, MS\, WS\n\nRegistration Starts\nEarly Registration (Feb/Mar) = $65 + event fees\nRegistration (Apr/May) = $80 + event fees\nLate Registration (June 15) = $95 + event fees\n\nAll Doubles Events are $20 each\nAll Singles Events are $35 each\n\n\n\n\n\nAdditional Information\n\n\n\nPlayers will utilize “DUPR” rating from their player profile\n\nFriday\, July 11 – Women’s Doubles / Men’s Singles\nSaturday\, July 12 – Mixed Doubles\nSunday\, July 13 – Men’s Doubles / Women’s Singles\n\nFormat Details – “Round Robin with Playoffs”\n\n“Pool” play followed by playoffs of the top teams – usually the top 4\n\nIf there are fewer than 3 teams/players will be moved into a combined bracket.\nDouble Round Robin 1 to 15 win by 2 for 3 teams\nGames: 1 to 15 win by 2 for brackets 4\, 5\, or 6 teams\nGames: 1 to 11 win by 2 for brackets with 6 or 7 teams\n8 or more teams will be split into pools with the top 2 teams go to a playoff round\n\nPickleball Is Great reserves the right to refuse service at anytime\nTournament Director may need to combine and adjust brackets as needed.\n\n\n\n\n\nRefund Policy\n\n\n\nCANCELLATION DEADLINE: 7/2/25\nIf you withdraw before the CANCELLATION DEADLINE above\, you will be issued a refund (with a $20 processing fee deducted). Refunds will be issued at the conclusion of the tournament.\n\n\n\n\n\n\nVenue Details\n\n\n\n\n\nThe Flying Pickle\n\n\n1135 N Hickory Av Suite 110\nMeridian\, Idaho\, 83642\nUnited States\n\n\n\nParking Information\nParking Fee: No Fee\nNO OVERNIGHT PARKING\n\n\n\nAmenities\n\n\nSurface Type: Tennis Hardcourt Surface\n\n\nNumber of courts: 18\n\n\nBall used: Franklin X40\n\n\nPlay area type: Indoor\n\n\nNet type: Permanent\n\n\nBall website: Click here
URL:https://pickleballisgreat.com/tournament/2025-idaho-amateur-pickleball-championships-powered-by-carvana-ppa-tour-pig/
ATTACH;FMTTYPE=image/jpeg:https://pickleballisgreat.com/wp-content/uploads/2025/01/Pickleball-State-Championship-Series.jpg
END:VEVENT
END:VCALENDAR