BEGIN:VCALENDAR
VERSION:2.0
PRODID:-//Pickleball Is Great - ECPv6.15.18//NONSGML v1.0//EN
CALSCALE:GREGORIAN
METHOD:PUBLISH
X-WR-CALNAME:Pickleball Is Great
X-ORIGINAL-URL:https://pickleballisgreat.com
X-WR-CALDESC:Events for Pickleball Is Great
REFRESH-INTERVAL;VALUE=DURATION:PT1H
X-Robots-Tag:noindex
X-PUBLISHED-TTL:PT1H
BEGIN:VTIMEZONE
TZID:America/Los_Angeles
BEGIN:DAYLIGHT
TZOFFSETFROM:-0800
TZOFFSETTO:-0700
TZNAME:PDT
DTSTART:20240310T100000
END:DAYLIGHT
BEGIN:STANDARD
TZOFFSETFROM:-0700
TZOFFSETTO:-0800
TZNAME:PST
DTSTART:20241103T090000
END:STANDARD
BEGIN:DAYLIGHT
TZOFFSETFROM:-0800
TZOFFSETTO:-0700
TZNAME:PDT
DTSTART:20250309T100000
END:DAYLIGHT
BEGIN:STANDARD
TZOFFSETFROM:-0700
TZOFFSETTO:-0800
TZNAME:PST
DTSTART:20251102T090000
END:STANDARD
BEGIN:DAYLIGHT
TZOFFSETFROM:-0800
TZOFFSETTO:-0700
TZNAME:PDT
DTSTART:20260308T100000
END:DAYLIGHT
BEGIN:STANDARD
TZOFFSETFROM:-0700
TZOFFSETTO:-0800
TZNAME:PST
DTSTART:20261101T090000
END:STANDARD
END:VTIMEZONE
BEGIN:VTIMEZONE
TZID:America/Chicago
BEGIN:DAYLIGHT
TZOFFSETFROM:-0600
TZOFFSETTO:-0500
TZNAME:CDT
DTSTART:20240310T080000
END:DAYLIGHT
BEGIN:STANDARD
TZOFFSETFROM:-0500
TZOFFSETTO:-0600
TZNAME:CST
DTSTART:20241103T070000
END:STANDARD
BEGIN:DAYLIGHT
TZOFFSETFROM:-0600
TZOFFSETTO:-0500
TZNAME:CDT
DTSTART:20250309T080000
END:DAYLIGHT
BEGIN:STANDARD
TZOFFSETFROM:-0500
TZOFFSETTO:-0600
TZNAME:CST
DTSTART:20251102T070000
END:STANDARD
BEGIN:DAYLIGHT
TZOFFSETFROM:-0600
TZOFFSETTO:-0500
TZNAME:CDT
DTSTART:20260308T080000
END:DAYLIGHT
BEGIN:STANDARD
TZOFFSETFROM:-0500
TZOFFSETTO:-0600
TZNAME:CST
DTSTART:20261101T070000
END:STANDARD
END:VTIMEZONE
BEGIN:VTIMEZONE
TZID:Pacific/Honolulu
BEGIN:STANDARD
TZOFFSETFROM:-1000
TZOFFSETTO:-1000
TZNAME:HST
DTSTART:20240101T000000
END:STANDARD
END:VTIMEZONE
BEGIN:VEVENT
DTSTART;VALUE=DATE:20250807
DTEND;VALUE=DATE:20250811
DTSTAMP:20260421T134901
CREATED:20250525T212944Z
LAST-MODIFIED:20250525T212944Z
UID:10000236-1754524800-1754870399@pickleballisgreat.com
SUMMARY:2025 Washington State Senior Games Pickleball Tournament (USSP) by PIG
DESCRIPTION:Tournament Description\n\n\nThis is not a qualifying year for the Nationals Senior Games\n\nRegister: https://pickleballtournaments.com/tournaments/2025-washington-state-senior-games-pickleball-tournament-ussp-by-pig\n\nRound Robin format WITH playoffs for Gold/Silver/Bronze for Recreational (3.0 and Under)\, Intermediate (3.5) and Advanced (4.0 and Above) events for players 50 and above. Age events each 5 years within the three skill events (recreational\, intermediate and advanced).\n\nNo membership is required\, but if you have your USSP membership number in your profile\, you will get a $10 Refund Instructions for adding your membership number to your profile – https://www.usseniorpickleball.com/pb-ussp-training\n\nEarly registration $55 + event fee (through May 31)\nBeginning June 1\, registration will increase to $65+ event fee\nAny registration made following close of registration (beginning July 30) will be $80 + event fee\nEvent fee: $20 for Mixed and Doubles events\, $25 for singles events\n\n***Important – Ratings\n• Even though DUPR is the only rating listed for public view\, we are using DUPR only as a guideline. All rating systems have their pros and cons. Players will self-rate and we will also be using your previous tournament rating (PBR) as our determinant\n• Please update your self-rating in your software profile before you register. You may only play up .5 from your self-rating\n• If you feel that a player is playing out of their skill\, please contact the tournament director. We will then evaluate tournament history and various ratings (including DUPR) to determine if a player/team needs to play at a different skill. Please be aware that this is a manual process and does not happen automatically\n\nUsing the Selkirk ProS1 ball\n\n\n\n\nAdditional Information\n\n\nThursday – Women’s Doubles\nFriday – Mixed Doubles\nSaturday – Men’s Doubles\nSunday – Men’s Singles & Women’s Singles\n\nOptional $10 shirt at registration – please select your size carefully\n\nOutdoor Age/Skill tournament on tennis surface. Age/Skill – age groups as primary determinate within skill events (recreational\, intermediate\, or advanced)\n\nWSSG reserves the right to refuse service at anytime\n\nUSSP has a points system to award prizes to the top finishers each year. In the past\, prizes with a retail value of $20\,000 were awarded to the top 10-point winners in each age group for both men and women on an annual cycle. In 2023\, the prize points will begin in January and run through the end of December.\n\nNO CASH WILL BE AWARDED!!!!!!!!\n\n\n\n\nRefund Policy\n\n\n$20 Admin fee for all withdrawals. No refunds after July 29th\n\nIf any event is cancelled due to weather\, there will be up to a 50% refund\n\n\n\n\n\n\nVenue Details\n\n\n\n\nRainier Vista Park\n\n\n5475 45th Ave SE\nLacey\, Washington\, 98503\nUnited States\n\n\nParking Information\nParking Fee: No Fee\nno overnight parking\n\n\n\nAmenities\n\n\nSurface Type: Tennis Hardcourt Surface\n\n\nNumber of courts: 20\n\n\nBall used: Selkirk Pro S1\n\n\nPlay area type: Outdoor Non-Covered\n\n\nNet type: Permanent & Portable\n\n\nBall website: Click here
URL:https://pickleballisgreat.com/tournament/2025-washington-state-senior-games-pickleball-tournament-ussp-by-pig/
ATTACH;FMTTYPE=image/webp:https://pickleballisgreat.com/wp-content/uploads/2025/05/e35f95f2-2884-4d35-9b41-70e04b3c5fb5_1741202617_Logo.webp
END:VEVENT
BEGIN:VEVENT
DTSTART;VALUE=DATE:20250808
DTEND;VALUE=DATE:20250811
DTSTAMP:20260421T134901
CREATED:20250307T170743Z
LAST-MODIFIED:20250307T170743Z
UID:10000208-1754611200-1754870399@pickleballisgreat.com
SUMMARY:2025 WISCONSIN Amateur Pickleball Championships powered by Carvana PPA Tour & PIG
DESCRIPTION:Tournament Description\n\n\n\n“Amateur Pickleball State Championship Series” powered by the Carvana PPA Tour!\n\nRegister: https://pickleballtournaments.com/tournaments/2025-wisconsin-amateur-pickleball-championships-powered-by-carvana-ppa-tour-and-pig\n\nWhich state has the best pickleball players in 2025?\n\nThe answer will be revealed soon with a set of tournaments conducted across all 50 states. Come to the World Championships where the Champions Division will feature all the medalists from each division nationwide battling against each other for pickleball supremacy.\n\nWhy should I play in the Amateur Pickleball State Championship Series?\n\nParticipating in the Amateur Pickleball State Championship Series powered by the Carvana PPA Tour offers players a unique and thrilling opportunity to showcase their skills on a bigger stage\, contributing to the vibrant and growing pickleball community.\n\nThe series\, spanning all 50 states\, provides an inclusive platform for players of varying ages and skill levels to engage in spirited competition while fostering camaraderie among enthusiasts across the nation.\n\nThe prospect of earning a coveted spot in the year-end World Championships in Dallas\, TX adds an extra layer of excitement and motivation. The Champions Division brings together the best players from across the world\, offering a grand stage for the ultimate showdown and the quest for pickleball supremacy.\n\nChampions Division\nParticipants who secure skill-level gold at a state championship are eligible for a complimentary registration fee to the 2025 Worlds Championship. This exclusive offer recognizes and rewards excellence in the Champions Division and ensures the best possible competition.\n\nGold: Free Registration\nSilver: 50% off Registration\nBronze: 25% Registration\n\nDivisions Offered\nWe are excited to offer a range of divisions to cater to players of varying age groups and skill levels:\n\nSkill Levels: 3.0\, 3.5\, 4.0\, 4.5\, 5.0\nAge Groups: 18U\, 19+\, 35+\, 50+\, 60+\, 70+\nPlaying Divisions: MD\, WD\, MXD\, MS\, WS\n\nRegistration Starts\nEarly Registration (Mar/Apr) = $65 + event fees\nRegistration (May/June/July 15) = $80 + event fees\nLate Registration (July 16) = $95 + event fees\n\nAll Doubles Events are $20 each\nAll Singles Events are $35 each\n\n\n\n\nAdditional Information\n\n\n\nPlayers will utilize “DUPR” rating from their player profile\n\nFriday\, Aug 8 – Women’s Doubles / Men’s Singles\nSaturday\, Aug 9 – Mixed Doubles\nSunday\, Aug 10 – Men’s Doubles / Women’s Singles\n\nFormat Details – “Round Robin with Playoffs”\n\n“Pool” play followed by playoffs of the top teams – usually the top 4\n\nIf there are fewer than 3 teams/players will be moved into a combined bracket.\nDouble Round Robin 1 to 15 win by 2 for 3 teams\nGames: 1 to 15 win by 2 for brackets 4\, 5\, or 6 teams\nGames: 1 to 11 win by 2 for brackets with 6 or 7 teams\n8 or more teams will be split into pools with the top 2 teams go to a playoff round\n\nPickleball Is Great reserves the right to refuse service at anytime\nTournament Director may need to combine and adjust brackets as needed.\n\n\n\n\nRefund Policy\n\n\n\nCANCELLATION DEADLINE: 7/30/25\nIf you withdraw before the CANCELLATION DEADLINE above\, you will be issued a refund (with a $20 processing fee deducted). Refunds will be issued at the conclusion of the tournament.\n\n\n\n\n\n\nVenue Details\n\n\n\n\n\nPremier Pickleball Club & Complex\n\n\n305 N Chicago Ave\nSouth Milwaukee\, Wisconsin\, 53172\nUnited States\n\n\nParking Information\nParking Fee: No Fee\n\n\n\nAmenities\n\n\nSurface Type: Pickleball Hardcourt Surface\n\n\nNumber of courts: 12\n\n\nBall used: Franklin X40\n\n\nPlay area type: Indoor\n\n\nNet type: Permanent\n\n\nBall website: Click here
URL:https://pickleballisgreat.com/tournament/2025-wisconsin-amateur-pickleball-championships-powered-by-carvana-ppa-tour-pig/
ATTACH;FMTTYPE=image/jpeg:https://pickleballisgreat.com/wp-content/uploads/2025/01/Pickleball-State-Championship-Series.jpg
END:VEVENT
BEGIN:VEVENT
DTSTART;VALUE=DATE:20250808
DTEND;VALUE=DATE:20250811
DTSTAMP:20260421T134901
CREATED:20250525T214313Z
LAST-MODIFIED:20250525T214427Z
UID:10000237-1754611200-1754870399@pickleballisgreat.com
SUMMARY:2025 PAK (Pickleball Association of Kauai) Open by PIG
DESCRIPTION:Tournament Description\n\n\nWelcome to Pickleball Association Kauai’s 2025 PAK Open\n****REBATE FOR CURRENT MEMBERS $20 in cash at tournament)****\n\nRegister: https://pickleballtournaments.com/tournaments/2025-pak-open-by-pig\n\n\nFriday\, August 8th: Senior Men’s and Women’s Doubles; Men’s and Women’s Singles (UNDER 50)\nSaturday\, August 9th: Men’s and Women’s Doubles (UNDER 50); Senior Men’s and Women’s Singles\nSunday\, August 10th: Senior Mixed Doubles; Mixed Doubles; Juniors Scramble\n\nThere will be a limit of 10 teams per skill level/age bracket. The number of teams may be adjusted depending on the total number of teams participating. Registration may close at anytime if the daily capacity is reached.\n\n\n\n\nAdditional Information\n\n\n– Brackets will be made up by skill first\, then age – age breaks are determined by registration\n\n– Tournament Director reserves the right to change the format of play based on participation or weather conditions.\n\n– In the event of weather circumstances\, every effort will be made to complete all matches. However\, due to unpredictable weather conditions adjustments and/or cancellations are possible. There is no provision for indoor play or a makeup day beyond the announced tournament schedule.\n\n– Format – All brackets will be round robin format with playoffs for Gold/Silver/Bronze medals\n\nRound Robin results will be determined following the USA Pickleball rule book:\n\n12.C.3. Round Robin. All players or teams play each other. Games may use any of the approved tournament scoring options. (See Rule 12.B.) The winner is determined based on number of matches won. If two or more teams are tied:\n\n12.C.3.a. First tie-breaker: head-to-head matches won.\n\n12.C.3.b. Second tie-breaker: point differential of all games played. (e.g.\, Team A won Match 1 11-8\, 11-4\, so they would have a point differential of +10. Team A then wins the second match 11-9\, 2-11\, 11-6. For this round\, they would have a point differential of -2. This would give them a total for the day of +8.)\n\n12.C.3.c. Third tie-breaker: head-to-head point differential.\n\n12.C.3.d. Fourth tie-breaker: point differential against next-highest team. (e.g.\, If the teams are tied for second\, use point differentials against the first-place team.)\n\nCombined Brackets:\nIf brackets are combined\, they will be combined by skill level first\, then age.\n\nPickleball Is Great reserves the right to refuse service at anytime.\n\n\n\n\nRefund Policy\n\n\nFinal date to withdraw and receive a refund of your paid registration (less service fee) is July 31\, 2025. No refund requests will be accepted after the final cancellation date. All refund requests will be processed after completion of the tournament.\n\n***THE SERVICE FEE OF $5 PER EVENT (which is charged by pickleballbrackets.com) IS NON-REFUNDABLE***\n\nInclement Weather\n*No refunds if the tournament is impacted by weather.\n*No indoor facility is planned as a backup or makeup.\n*This is an OUTDOOR tournament.\n\n\n\n\n\nVenue Details\n\n\n\n\nKauai Community College – Puhi\n\n\n3-1901 Kaumualii Hwy\nLihue\, Hawaii\, 96766\nUnited States\n\n\nParking Information\nParking Fee: No Fee\n\n\n\nAmenities\n\n\nSurface Type: Tennis Hardcourt Surface\n\n\nNumber of courts: 6\n\n\nBall used: Franklin X-40\n\n\nPlay area type: Outdoor Non-Covered\n\n\nNet type: Portable
URL:https://pickleballisgreat.com/tournament/2025-pak-pickleball-association-of-kauai-open-by-pig/
ATTACH;FMTTYPE=image/webp:https://pickleballisgreat.com/wp-content/uploads/2025/05/793671a0-4984-4481-baf4-fd33f90e8f55_1743941850_Logo.webp
END:VEVENT
END:VCALENDAR