BEGIN:VCALENDAR
VERSION:2.0
PRODID:-//Pickleball Is Great - ECPv6.15.18//NONSGML v1.0//EN
CALSCALE:GREGORIAN
METHOD:PUBLISH
X-WR-CALNAME:Pickleball Is Great
X-ORIGINAL-URL:https://pickleballisgreat.com
X-WR-CALDESC:Events for Pickleball Is Great
REFRESH-INTERVAL;VALUE=DURATION:PT1H
X-Robots-Tag:noindex
X-PUBLISHED-TTL:PT1H
BEGIN:VTIMEZONE
TZID:America/Los_Angeles
BEGIN:DAYLIGHT
TZOFFSETFROM:-0800
TZOFFSETTO:-0700
TZNAME:PDT
DTSTART:20240310T100000
END:DAYLIGHT
BEGIN:STANDARD
TZOFFSETFROM:-0700
TZOFFSETTO:-0800
TZNAME:PST
DTSTART:20241103T090000
END:STANDARD
BEGIN:DAYLIGHT
TZOFFSETFROM:-0800
TZOFFSETTO:-0700
TZNAME:PDT
DTSTART:20250309T100000
END:DAYLIGHT
BEGIN:STANDARD
TZOFFSETFROM:-0700
TZOFFSETTO:-0800
TZNAME:PST
DTSTART:20251102T090000
END:STANDARD
BEGIN:DAYLIGHT
TZOFFSETFROM:-0800
TZOFFSETTO:-0700
TZNAME:PDT
DTSTART:20260308T100000
END:DAYLIGHT
BEGIN:STANDARD
TZOFFSETFROM:-0700
TZOFFSETTO:-0800
TZNAME:PST
DTSTART:20261101T090000
END:STANDARD
END:VTIMEZONE
BEGIN:VTIMEZONE
TZID:UTC
BEGIN:STANDARD
TZOFFSETFROM:+0000
TZOFFSETTO:+0000
TZNAME:UTC
DTSTART:20240101T000000
END:STANDARD
END:VTIMEZONE
BEGIN:VTIMEZONE
TZID:America/Chicago
BEGIN:DAYLIGHT
TZOFFSETFROM:-0600
TZOFFSETTO:-0500
TZNAME:CDT
DTSTART:20240310T080000
END:DAYLIGHT
BEGIN:STANDARD
TZOFFSETFROM:-0500
TZOFFSETTO:-0600
TZNAME:CST
DTSTART:20241103T070000
END:STANDARD
BEGIN:DAYLIGHT
TZOFFSETFROM:-0600
TZOFFSETTO:-0500
TZNAME:CDT
DTSTART:20250309T080000
END:DAYLIGHT
BEGIN:STANDARD
TZOFFSETFROM:-0500
TZOFFSETTO:-0600
TZNAME:CST
DTSTART:20251102T070000
END:STANDARD
BEGIN:DAYLIGHT
TZOFFSETFROM:-0600
TZOFFSETTO:-0500
TZNAME:CDT
DTSTART:20260308T080000
END:DAYLIGHT
BEGIN:STANDARD
TZOFFSETFROM:-0500
TZOFFSETTO:-0600
TZNAME:CST
DTSTART:20261101T070000
END:STANDARD
END:VTIMEZONE
BEGIN:VEVENT
DTSTART;VALUE=DATE:20250813
DTEND;VALUE=DATE:20250818
DTSTAMP:20260421T134900
CREATED:20250307T174055Z
LAST-MODIFIED:20250307T174055Z
UID:10000211-1755043200-1755475199@pickleballisgreat.com
SUMMARY:2025 Founders Tournament
DESCRIPTION:Tournament Description\n\nRegister: https://pickleballtournaments.com/tournaments/2025-founders-tournament\n\n\n\nSAVE THE DATES\n\nAUGUST 13\, 2024 – SENIORS MIXED DOUBLES 60+ & 70+\nAUGUST 14\, 2024 – SENIORS MEN’S & WOMEN’S DOUBLES 60+ & 70+\nAUGUST 15\, 2024 – ***NEW*** MEN’S DOUBLES 8-49 & 50+ (3/6/25 Women moved to Sunday)\nAUGUST 16\, 2024 – MIXED DOUBLES 8-49 & 50+\nAUGUST 17\, 2024 – ***NEW WOMEN’S DOUBLES 8-49 & 50+ (3/6/25 Men moved to Friday\n\nBainbridge Island\, WA is the birthplace of Pickleball !\n\nLOTTERY will be used for registration starting in April – dates are being finalized\n2 phases – more details coming soon\nAll must be paid by 4/30 as unpaid will be dropped on 5/1 to be backfilled\n\n\n\n\nAdditional Information\n\n\n\nThis is a skill/age tournament.\n\nThis tournament will be all round-robin with a shootout of the top THREE or FOUR teams (to be determined by time/number of players within the event) for gold\, silver\, & bronze medals (for a non-pool event). Winning teams are determined by:\n\n1. Round-robin win/loss record\n2. If two teams tied\, head-to-head with those teams involved\n3. If three or more teams tied\, point differential of all games played.\n\nNo events are planned for 8 or more teams as we are utilizing “flexible age groups”. This means the age groups are decided after registration aiming for the traditional breaks of 19+30+40+50+ (60+70+ on Wednesday and Thursday)\n\nBrackets may be combined or split as needed.\n\nPartner tip – If you are playing with a partner in a higher/lower skill or higher/lower age – please remember to register in the highest skill and lowest age.\n\nPickleball Is Great reserves the right to refuse service and refund any player at anytime.\n\n\n\n\nRefund Policy\n\n\n\nRefunds are processed 72 hours after received\n\nWithdrawals before registration closes July 31\, 2025 will incur a $15 admin fee.\n\nAny refund after 7/31/25 will be at 50% (strictly enforced for 2025)\n\nWeather Refund policy is up to 50%\n\n\n\n\n\nLottery\n\n\n\nWe will use the lottery this year 2025\nPhase 1 will be limited to members of the Bainbridge Island Museum or Bainbridge Island Pickleball Club\nPhase 2 will be open to all\n\nNo payment required at sign up – Must be paid by 4/30/25\nOn 5/1 additional players will be invited in to backfill non paid players that will be removed.\n\n\n\n\n\nVenue Details\n\n\n\n\n\nBattle Point Park\n\n\n11299 Arrow Point Dr NE\nBainbridge Island\, Washington\, 98110\nUnited States\n\n\nParking Information\nParking Fee: No Fee\nNo overnight parking allowed\n\n\n\nAmenities\n\n\nSurface Type: Pickleball Hardcourt Surface\n\n\nNumber of courts: 12\n\n\nBall used: Franklin X40 – Yellow\n\n\nPlay area type: Outdoor Non-Covered\n\n\nNet type: Portable\n\n\nBall website: Click here
URL:https://pickleballisgreat.com/tournament/2025-founders-tournament/
ATTACH;FMTTYPE=image/jpeg:https://pickleballisgreat.com/wp-content/uploads/2025/03/Founders-Day.jpg
END:VEVENT
BEGIN:VEVENT
DTSTART;VALUE=DATE:20250814
DTEND;VALUE=DATE:20250819
DTSTAMP:20260421T134900
CREATED:20250307T174945Z
LAST-MODIFIED:20250409T041357Z
UID:10000212-1755129600-1755561599@pickleballisgreat.com
SUMMARY:2025 Oregon Senior Games - a USSP Circuit Event by PIG
DESCRIPTION:Tournament Description\n\n\n\nAug 14-18 – No USSP membership required\, but if you are a current USSP member\, make sure your membership number is in your pickleballbrackets.com profile to receive $10 off at registration. You MUST have your membership number in your profile before you register to get the $10 off!\n\nRegister: https://pickleballtournaments.com/tournaments/2025-oregon-senior-games-presented-by-providence-health-plan-a-ussp-circuit-event-by-pig\n\nThis is a non-qualifying year for the Senior Games.\nThis tournament is based on Age/Skill – age groups as primary determinate within skill events (recreational or advanced)\n\nFun Round Robin format WITH playoffs for Gold/Silver/Bronze for Recreational (2.5 to 3.5) and Advanced (4.0 to 5.0) events for players 50 and above. Age events each 5 years within the two skill events (recreational and advanced). TD may combine age brackets as needed to ensure quality play.\n\nEarly registration $45 + $15/event (through May 31)\nBeginning June 1\, registration will increase to $60 + $15/event\n\nRatings (USSP ratings will be used\, but if no USSP rating then see below)\n• Even though DUPR is the only rating listed for public view\, we are using DUPR only as a guideline. All rating systems have their pros and cons. Players will self-rate and we will also be using your previous tournament rating (PBR) as our determinant\n• Please update your self-rating in your software profile before you register. You may only play up .5 from your self-rating\n• If you feel that a player is playing out of their skill\, please contact the tournament director. We will then evaluate tournament history and various ratings (including DUPR) to determine if a player/team needs to play at a different skill. Please be aware that this is a manual process and does not happen automatically\n\nUsing the Franklin X-40 ball\n\n\n\n\nAdditional Information\n\n\n\nThursday – Women’s Doubles\nFriday – Men’s Doubles\nSaturday – Mixed Doubles (Recreational 2.5-3.5)\nSunday – Mixed Doubles (Advanced 4.0+)\nMonday – Men’s & Women’s Singles (full court)\n\nOutdoor Age/Skill tournament on tennis surface.\nAge/Skill – age groups as primary determinate within skill events (recreational or advanced)\n\nFormat:\nALL Round Robin with playoffs for Gold/Silver/Bronze. All games/matches are win by 2\nMost Round Robins are 1 to 15 but may change based on the number of players in the event. If an event has 7 or 8 teams\, round-robin matches will be 1 to 11 by 2.\nTop 4 teams go to the playoff (Lead in matches are 1 to 15 with the Gold Match with the option of 2/3-11w/2 or 1 to 15. Bronze Match 1 to 15.\nTD may combine brackets as needed to ensure quality play.\nTournament may close at any time if maximum daily numbers are met (even if some events appear to have openings)\n\nPickleball Is Great reserves the right to refuse service at anytime.\n\n\n\n\nRefund Policy\n\n\n\n$15 Admin fee minimum for all withdrawals. No refunds after July 15th\n\nIf any event is cancelled due to weather\, there will be up to a 50% refund\n\n\n\n\n\n\nVenue Details\n\n\n\n\n\nLinn Benton Community College\n\n\n6500 Pacific Blvd SW\nAlbany\, Oregon\, 97321\nUnited States\n\n\nParking Information\nParking Fee: No Fee\n\n\n\nAmenities\n\n\nSurface Type: Tennis Hardcourt Surface\n\n\nNumber of courts: 12\n\n\nBall used: Franklin X-40\n\n\nPlay area type: Outdoor Non-Covered\n\n\nNet type: Permanent & Portable\n\n\nBall website: Click here
URL:https://pickleballisgreat.com/tournament/2025-oregon-senior-games-presented-by-providence-health-plan-a-ussp-circuit-event-by-pig/
ATTACH;FMTTYPE=image/jpeg:https://pickleballisgreat.com/wp-content/uploads/2025/03/Oregon-Senior-Games.jpg
END:VEVENT
BEGIN:VEVENT
DTSTART;VALUE=DATE:20250815
DTEND;VALUE=DATE:20250818
DTSTAMP:20260421T134900
CREATED:20250531T003948Z
LAST-MODIFIED:20250531T003948Z
UID:10000242-1755216000-1755475199@pickleballisgreat.com
SUMMARY:2025 OHIO Amateur Pickleball Championships powered by Carvana PPA Tour & PIG
DESCRIPTION:Tournament Description\n\n\n“Amateur Pickleball State Championship Series” powered by the Carvana PPA Tour!\n\nRegister: https://pickleballtournaments.com/tournaments/2025-ohio-amateur-pickleball-championships-powered-by-carvana-ppa-tour-and-pig\n\nWhich state has the best pickleball players in 2025?\n\nThe answer will be revealed soon with a set of tournaments conducted across all 50 states. Come to the World Championships where the Champions Division will feature all the medalists from each division nationwide battling against each other for pickleball supremacy.\n\nWhy should I play in the Amateur Pickleball State Championship Series?\n\nParticipating in the Amateur Pickleball State Championship Series powered by the Carvana PPA Tour offers players a unique and thrilling opportunity to showcase their skills on a bigger stage\, contributing to the vibrant and growing pickleball community.\n\nThe series\, spanning all 50 states\, provides an inclusive platform for players of varying ages and skill levels to engage in spirited competition while fostering camaraderie among enthusiasts across the nation.\n\nThe prospect of earning a coveted spot in the year-end World Championships in Dallas\, TX adds an extra layer of excitement and motivation. The Champions Division brings together the best players from across the world\, offering a grand stage for the ultimate showdown and the quest for pickleball supremacy.\n\nChampions Division\nParticipants who secure skill-level gold at a state championship are eligible for a complimentary registration fee to the 2025 Worlds Championship. This exclusive offer recognizes and rewards excellence in the Champions Division and ensures the best possible competition.\n\nGold: Free Registration\nSilver: 50% off Registration\nBronze: 25% Registration\n\nDivisions Offered\nWe are excited to offer a range of divisions to cater to players of varying age groups and skill levels:\n\nSkill Levels: 3.0\, 3.5\, 4.0\, 4.5\, 5.0\nAge Groups: 18U\, 19+\, 35+\, 50+\, 60+\, 70+\nPlaying Divisions: MD\, WD\, MXD\, MS\, WS\n\nRegistration Starts\nEarly Registration (Mar/Apr/May/June) = $65 + event fees\nRegistration (July/ Aug 1-10) = $80 + event fees\nLate Registration (Aug 11 & later) = $95 + event fees\n\nAll Doubles Events are $20 each\nAll Singles Events are $35 each\n\n\n\n\nAdditional Information\n\n\nPlayers will utilize “DUPR” rating from their player profile\n\nFriday\, Aug 15 – Women’s Doubles / Men’s Singles\nSaturday\, Aug 16 – Mixed Doubles / Coed Scramble\nSunday\, Aug 17 – Men’s Doubles / Women’s Singles\n\nFormat Details – “Round Robin with Playoffs”\n\n“Pool” play followed by playoffs of the top teams – usually the top 4\n\nIf there are fewer than 3 teams/players will be moved into a combined bracket.\nDouble Round Robin 1 to 15 win by 2 for 3 teams\nGames: 1 to 15 win by 2 for brackets 4\, 5\, or 6 teams\nGames: 1 to 11 win by 2 for brackets with 6 or 7 teams\n8 or more teams will be split into pools with the top 2 teams go to a playoff round\n\nThe new UNDER 3.0 SCRAMBLE division is designed to give everyone\, especially those who do\nnot think they are ready for tournament play\, an opportunity to play in a Pickleball tournament\nand experience the fun that goes along with it.\n\nThe UNDER 3.0 SCRAMBLE is being offered on Saturday August 16th\, 2025 as part of the 2025 PPA Ohio Amateur Championships. Partners will be rotated so you might find yourself your future Doubles Partner\, or just a new Pickleball friend.\nRegistration is easy and will take less than 5 minutes.\n\nTo Register:\nFirst\, you need to go to DUPR and set up a FREE account. (Required to use pickelball.com)\nThe go to pickleball.com and Create a FREE Profile.\nYou will be asked if you have an email with your DUPR account and after saying YES…\nThey will be LINKED together.\nThen simply register on pickleball.com for the 2025 PPA Ohio Amateur Championships under\nthe UNDER 3.0 SCRAMBLE Division.\nRegistration fee $65early/$80reg + $20 event fee = $85 or $100\nBut\, because this is a new offering\, you will receive a REBATE to your credit card at the conclusion of the tournament to offset the cost to $50 (plus the $5 service fee).\nSo\, if you want to feel the Tournament experience\, but don’t think you are good enough\,\nor maybe a little intimidated\, don’t have a partner\, then the UNDER 3.0 SCRAMBLE is the solution.\nJust play a little PICKLE\, have some FUN\, and take home a MEDAL!\nNote: This division is a non-qualifier for PPA Worlds.\n\nAny help with registration email: pickleballisgreat.brianb@gmail.com\n\nPickleball Is Great reserves the right to refuse service at anytime\nTournament Director may need to combine and adjust brackets as needed.\n\n\n\n\nRefund Policy\n\n\nCANCELLATION DEADLINE: 8/10/25\nIf you withdraw before the CANCELLATION DEADLINE above\, you will be issued a refund (with a $20 processing fee deducted). Refunds will be issued at the conclusion of the tournament. No refund of the Pickleball Tournaments Service fee.\n\n\n\n\n\n\nVenue Details\n\n\n\n\nPickleball Taps\n\n\n535 Lakeview Plaza Blvd\nWorthington\, Ohio\, 43085\nUnited States\n\n\nParking Information\nParking Fee: No Fee\n\n\n\nAmenities\n\n\nSurface Type: Pickleball Hardcourt Surface\n\n\nNumber of courts: 17\n\n\nBall used: Franklin X40\n\n\nPlay area type: Indoor\n\n\nNet type: Permanent\n\n\nBall website: Click here
URL:https://pickleballisgreat.com/tournament/2025-ohio-amateur-pickleball-championships-powered-by-carvana-ppa-tour-pig/
ATTACH;FMTTYPE=image/jpeg:https://pickleballisgreat.com/wp-content/uploads/2025/01/Pickleball-State-Championship-Series.jpg
END:VEVENT
BEGIN:VEVENT
DTSTART;VALUE=DATE:20250816
DTEND;VALUE=DATE:20250818
DTSTAMP:20260421T134900
CREATED:20250531T002257Z
LAST-MODIFIED:20250531T002426Z
UID:10000240-1755302400-1755475199@pickleballisgreat.com
SUMMARY:1st Annual Lompoc Cadet FUNdraiser
DESCRIPTION:Tournament Description\n\n\n1st Annual Lompoc Cadet FUNdraiser Pickleball Tournament\n\nRegister: https://pickleballtournaments.com/tournaments/1st-annual-lompoc-cadet-fundraiser\n\nRyon Memorial Park\, 800 W Ocean Ave\, Lompoc\, CA 93436\n\n8 outside pickleball courts\n\nSaturday 8/16/25\nMen’s & Women Doubles\n\nSunday 8/17/25\nMixed Doubles\n\nSkill Levels\nBeginner = 3.0 & 3.5\nIntermediate = 3.5& 4.0\nAdvanced = 4.0 & up\n\nAge groups\nOver 50 & under 50\n\nRegistration increases the closer we get to the event\nMay $40 per player\nJune $50 per player\nJuly $65 per player\nAugust is $80 per player\n\n$15 FOR EACH EVENT per player\n\nWe reserve the right to refuse service to anyone.\n\n\n\n\nAdditional Information\n\n\n**Critical info:\n– each player must register and pay for themself.\n– players have 14 days to have their partner register themself\, after that moved to the waiting list.\n– there is a daily capacity limit of 80 players – registration may stop at anytime.\n\n– Brackets will be made up by skill first\, then age – age breaks are determined by registration\n\n– Tournament Director reserves the right to change the format of play based on participation or weather conditions.\n\n– In the event of weather circumstances\, every effort will be made to complete all matches. However\, due to unpredictable weather conditions adjustments and/or cancellations are possible. There is no provision for indoor play or a makeup day beyond the announced tournament schedule.\n\n– Format – All brackets will be round robin format with playoffs for Gold/Silver/Bronze medals\n\nRound Robin results will be determined following the USA Pickleball rule book:\n\n12.C.3. Round Robin. All players or teams play each other. Games may use any of the approved tournament scoring options. (See Rule 12.B.) The winner is determined based on number of matches won. If two or more teams are tied:\n\n12.C.3.a. First tie-breaker: head-to-head matches won.\n\n12.C.3.b. Second tie-breaker: point differential of all games played. (e.g.\, Team A won Match 1 11-8\, 11-4\, so they would have a point differential of +10. Team A then wins the second match 11-9\, 2-11\, 11-6. For this round\, they would have a point differential of -2. This would give them a total for the day of +8.)\n\n12.C.3.c. Third tie-breaker: head-to-head point differential.\n\n12.C.3.d. Fourth tie-breaker: point differential against next-highest team. (e.g.\, If the teams are tied for second\, use point differentials against the first-place team.)\n\nCombined Brackets:\nIf brackets are combined\, they will be combined by skill level first\, then age.\n\n\n\n\nRefund Policy\n\n\n$15 admin fee for all refunds\nonly 50% after 8/7 for any refund request\n\nweather refund policy is up to 50% refund with any weather cancellation.\n\n\n\n\n\n\nVenue Detail\n\n\n\n\nRyon Park\n\n\n800 W Ocean Ave\nLompoc\, California\, 93436\nUnited States\n\n\nParking Information\nParking Fee: No Fee\n\n\n\nAmenities\n\n\nSurface Type: Pickleball Hardcourt Surface\n\n\nNumber of courts: 8\n\n\nBall used: Franklin X40\n\n\nPlay area type: Outdoor Non-Covered\n\n\nNet type: Permanent
URL:https://pickleballisgreat.com/tournament/1st-annual-lompoc-cadet-fundraiser/
ATTACH;FMTTYPE=image/png:https://pickleballisgreat.com/wp-content/uploads/2025/05/Lompoc-Police.png
END:VEVENT
END:VCALENDAR