BEGIN:VCALENDAR
VERSION:2.0
PRODID:-//Pickleball Is Great - ECPv6.15.18//NONSGML v1.0//EN
CALSCALE:GREGORIAN
METHOD:PUBLISH
X-ORIGINAL-URL:https://pickleballisgreat.com
X-WR-CALDESC:Events for Pickleball Is Great
REFRESH-INTERVAL;VALUE=DURATION:PT1H
X-Robots-Tag:noindex
X-PUBLISHED-TTL:PT1H
BEGIN:VTIMEZONE
TZID:America/Los_Angeles
BEGIN:DAYLIGHT
TZOFFSETFROM:-0800
TZOFFSETTO:-0700
TZNAME:PDT
DTSTART:20240310T100000
END:DAYLIGHT
BEGIN:STANDARD
TZOFFSETFROM:-0700
TZOFFSETTO:-0800
TZNAME:PST
DTSTART:20241103T090000
END:STANDARD
BEGIN:DAYLIGHT
TZOFFSETFROM:-0800
TZOFFSETTO:-0700
TZNAME:PDT
DTSTART:20250309T100000
END:DAYLIGHT
BEGIN:STANDARD
TZOFFSETFROM:-0700
TZOFFSETTO:-0800
TZNAME:PST
DTSTART:20251102T090000
END:STANDARD
BEGIN:DAYLIGHT
TZOFFSETFROM:-0800
TZOFFSETTO:-0700
TZNAME:PDT
DTSTART:20260308T100000
END:DAYLIGHT
BEGIN:STANDARD
TZOFFSETFROM:-0700
TZOFFSETTO:-0800
TZNAME:PST
DTSTART:20261101T090000
END:STANDARD
END:VTIMEZONE
BEGIN:VTIMEZONE
TZID:UTC
BEGIN:STANDARD
TZOFFSETFROM:+0000
TZOFFSETTO:+0000
TZNAME:UTC
DTSTART:20240101T000000
END:STANDARD
END:VTIMEZONE
BEGIN:VEVENT
DTSTART;VALUE=DATE:20250821
DTEND;VALUE=DATE:20250825
DTSTAMP:20260421T135025
CREATED:20250531T003217Z
LAST-MODIFIED:20250531T003217Z
UID:10000241-1755734400-1756079999@pickleballisgreat.com
SUMMARY:2025 San Diego Senior Games
DESCRIPTION:Tournament Description\n\n\nPlease confirm your “self” rating is accurate on your player profile (pickleball.com) before attempting to register. Do not register below your public skill level as audits will be conducted and the TD may move you to the appropriate division without notice.\n\n\nRegister: https://pickleballtournaments.com/tournaments/2025-san-diego-senior-games\n\n\nAll players MUST complete the online waiver form for SDSG through the link below.\n\nFor those who are on the list of needing partner(s)\, you MUST find a partner by Monday\, August 4\, 2025 and your partner MUST complete the registration including payment by August 4\, 2025. After that date\, you will be pushed to the waiting list.\n\nNo USAP membership is required\n\nSan Diego Senior Games (SDSG) Pickleball Tournament is returning to Melba Bishop Recreation Center on August 21-24\, 2025.\n\nThis is a Non-Qualifying year for the National Senior Tournament\n\nAll players will be notified by text messages about their court assignments. Please ensure that your profile is updated with the current cell phone and “Opt-In” for text is checked. You are responsible for reporting to the match on time.\n\nAll events will be round robin pool play with medal round or as specified by tournament director. START TIME FOR ALL EVENTS WILL BE AVAILABLE AFTER 8/15.\n\nThursday 8/21/25 – not rally scoring\nMen’s Singles Age/Skill Groups\nWomen’s Singles Age/Skill Groups\n\nFriday\, 8/22/2025\nWomen’s Doubles Skill/Age Groups\n\nSaturday\, 8/23/2025\nMixed Doubles Skill/Age Groups\n\nSunday\, 8/24/2025\nMen’s Doubles Skill/Age Groups\n\nFree T-shirt to those who complete (& pay) their registration by 7/21/2025!\n\nVisit the San Diego Senior Games website for more information about other sports at https://www.sdseniorgames.org/\n\n\n\n\nAdditional Information\n\n\nALL PLAYERS MUST READ – PLAYER RESPONSIBILITY​\nWhat does it mean to be registered?\n* Player in a doubles event; both players have registered and both players have paid their tournament fees within 14 days of the first player.\nYou or your team could be moved to the waitlist:\n* If your partner (doubles) has not registered/paid within the 14 day window\n\nALL ROUND ROBIN WITH PLAYOFFS OF THE TOP TEAMS\n**Tournament Format Details**\n4 & 5 teams in Pool/Round Robin – games are 1 to 15 win by 2\n6 & 7 teams in Pool/Round Robin – games are 1 to 11 win by 2\nAll lead in games (to the playoffs) are 1 to 15 win by 2 (for example: top four teams\, 1 vs 4 & 2 v 3 (first round of playoffs are called the “lead-in matches”)\n\nBronze Matches 1 to 15 win by 2\n\nGold Matches are the players choice of 2 out of 3 to 11 win by 2 OR 1 to 15 win by 2\n\nTournament Director reserves the option to combine events as needed if events do not fill. If events are combined\, awards will be based on the original event and not the combined event. Registration may stop at anytime once the daily population capacity has been hit.\n\nSanctioning/Rules: This is a non-sanctioned tournament and will follow Official USA Pickleball rules.\n\nEquipment standards:\nIt is the players responsibility to confirm their paddles in on the approved USA Pickleball equipment list\n\nRegistration Fees: $75 per person until 7/31.\nLate Registration Fees: $95 per person 8/1 on\n\nEvent fees: $15 per event per person (when signing up with a partner\, he/she will have 14 days to complete the registration otherwise the team will be moved to waitlist).\n\nPickleball Brackets will collect $5 per event per person with the maximum of $10 per person. For example\, if you play 3 events\, you will pay $10 for pickleball brackets fees. THIS FEES IS MANDATED BY PICKLEBALL BRACKETS.\n\nThe tournament is using Stripe.com as a third party service to collect registration fees.\n\nOn the day of event\, please arrive early to complete the SDSG waiver form at the registration tables. MINIMUM 30 Minutes before the posted start time.\n\nWe reserve the right to refuse service at anytime.\n\n\n\n\nRefund Policy\n\n\nFor all Refund inquiries and questions\, please email pickleballisgreat@gmail.com.\n\nRefund Policy\nCANCELLATION DEADLINE – July 31\, 2025\, 11:59 Pacific Standard Time.\n\nWithdrawals BEFORE August 1\, 2025 will receive a full refund minus nan admin fee of $15\n\nWithdrawals AFTER August 1\, 2025 will receive NO refund. No exceptions.\n\npickleballtournaments.com service fees (usually $5 or $10) are NOT refundable\n\nRefunds will be issued after the completion of the tournament.\n\n\n\n\n\nVenue Details\n\n\n\n\nMelba Bishop Pickleball Courts\n\n\n5306 N River Road\nSan Diego\, California\, 92057\nUnited States\n\n\nParking Information\nParking Fee: No Fee\n\n\n\nAmenities\n\n\nSurface Type: Tennis Hardcourt Surface\n\n\nNumber of courts: 12\n\n\nBall used: Franklin x-40\n\n\nPlay area type: Outdoor Non-Covered\n\n\nNet type: Permanent\n\n\nBall website: Click here
URL:https://pickleballisgreat.com/tournament/2025-san-diego-senior-games/
ATTACH;FMTTYPE=image/jpeg:https://pickleballisgreat.com/wp-content/uploads/2025/05/San-Diego-Senior-Games.jpg
END:VEVENT
BEGIN:VEVENT
DTSTART;VALUE=DATE:20250822
DTEND;VALUE=DATE:20250825
DTSTAMP:20260421T135025
CREATED:20250307T175511Z
LAST-MODIFIED:20250307T175511Z
UID:10000213-1755820800-1756079999@pickleballisgreat.com
SUMMARY:2025 Mercer Island Rotary Pickleball Tournament by PIG
DESCRIPTION:Tournament Description\n\n\n\nSave the Date! More info coming soon\n\nThe Mercer Island Rotary Club ran a successful Half Marathon for 35+ years and following the pandemic\, we turned our attention to Pickleball and are excited to bring you the first Annual Mercer Island Rotary Club Pickleball Tournament. Rotarians are colleagues and friends connected by the strong desire of Service Above Self. We lead hands on service projects and fundraisers to support local organizations working on housing & food security and this Pickleball Tournament is a fundraiser and we thank you for your support. We lead and sponsor both local projects and projects around the world with both financial help and direct hands-on support. The real work of the club is done by volunteering with others with a shared passion to improve lives here and abroad. We look forward to seeing you on our new pickleball courts August 22-24\, 2025.\n\nRegister: https://pickleballtournaments.com/tournaments/2025-mercer-island-rotary-pickleball-tournament-by-pighttps://pickleballtournaments.com/tournaments/2025-mercer-island-rotary-pickleball-tournament-by-pig\n\nRound Robin format (skill/age) WITH playoffs for Gold/Silver/Bronze for skills 3.0-4.5+. Age brackets will be determined following the close of registration\, but will strive to be close to under 50 & 50+ events.\n\n***Ratings:\n• Even though DUPR is the only rating listed for public view\, we are using DUPR only as a guideline. All rating systems have their pros and cons. Players will self-rate and we will also be using your previous tournament rating (PBR) as our determinant\n• Please update your self-rating in your software profile before you register. You may only play up .5 from your self-rating\n• If you feel that a player is playing out of their skill\, please contact the tournament director using the “contact tourney” button. We will then evaluate tournament history and various ratings (including DUPR) to determine if a player/team needs to play at a different skill. Please be aware that this is a manual process and does not happen automatically\n\nUsing the Franklin X-40 ball\n\nAll paddles must be USAP sanctioned tournament approved.\n\nFriday – Women’s Doubles\nSaturday – Mixed Doubles\nSunday – Men’s Doubles\n\n\n\n\nAdditional Information\n\n\n\nPayment is required to register – Early registration $60 + event fees through May 15. Standard registration $75 + event fees through deadline of Aug 13. Beginning Aug 14 late registration will be $90 + event fees\nPricing is per person\n\nFormat:\nALL Round Robin with playoffs for Gold/Silver/Bronze. All games/matches are win by 2\nMost Round Robins are 1 to 15 but may change based on the number of players in the event. If an event has 7 or 8 teams\, round-robin matches will be 1 to 11 by 2.\nTop 4 teams go to the playoff (Lead in matches are 1 to 15 with the Gold Match with the option of 2/3-11w/2 or 1 to 15. Bronze Match 1 to 15.\n\nTournament Director may combine brackets as needed to ensure quality play.\nTournament may close at any time if maximum daily numbers are met (even if some events appear to have openings)\n\nBall TBD\n\nPickleball Is Great reserves the right to refuse service at anytime.\n\n\n\n\nRefund Policy\n\n\n\nNo refunds after deadline of Aug 13\nAll refunds will have a $15 refund fee\n\nIf any event is cancelled due to weather there will be up to a 50% refund\n\n\n\n\n\n\nVenue Details\n\n\n\n\n\nLuther Burbank Park\n\n\n2040 84th Ave SE\nMercer Island\, Washington\, 98040\nUnited States\n\n\nParking Information\nParking Fee: No Fee\n\n\n\nAmenities\n\n\nSurface Type: Pickleball Hardcourt Surface\n\n\nNumber of courts: 8\n\n\nBall used: TBD\n\n\nPlay area type: Outdoor Non-Covered\n\n\nNet type: Portable
URL:https://pickleballisgreat.com/tournament/2025-mercer-island-rotary-pickleball-tournament-by-pig/
ATTACH;FMTTYPE=image/jpeg:https://pickleballisgreat.com/wp-content/uploads/2025/03/Mercer-Island-Rotary.jpg
END:VEVENT
BEGIN:VEVENT
DTSTART;VALUE=DATE:20250822
DTEND;VALUE=DATE:20250825
DTSTAMP:20260421T135025
CREATED:20250307T175907Z
LAST-MODIFIED:20250307T175907Z
UID:10000214-1755820800-1756079999@pickleballisgreat.com
SUMMARY:2025 Trails End Challenge by PIG
DESCRIPTION:Tournament Description\n\n\n\nRound Robin format WITH playoffs for Gold/Silver/Bronze for skills 3.0-4.0+. Age brackets to be determined by registration but similar to (under 50\, 50-59\, & 60+). TD may combine brackets as needed to ensure quality play.\n\nRegister: https://pickleballtournaments.com/tournaments/2025-trails-end-challenge-by-pig\n\n***Ratings:\n• Even though DUPR is the only rating listed for public view\, we are using DUPR only as a guideline. All rating systems have their pros and cons. Players will self-rate and we will also be using your previous tournament rating (PBR) as our determinant\n• Please update your self-rating in your software profile before you register. You may only play up .5 from your self-rating\n• If you feel that a player is playing out of their skill\, please contact the tournament director. We will then evaluate tournament history and various ratings (including DUPR) to determine if a player/team needs to play at a different skill. Please be aware that this is a manual process and does not happen automatically\n\nOutdoor Skill/Age tournament on tennis surface. If any event is cancelled due to weather there will be up to a 50% refund\n\nUsing the X-40 ball\n\n\n\n\nAdditional Information\n\n\n\nPayment is required to register – Early registration of $50 includes your first event (second event $10) through July 31. Standard registration $60 begins Aug 1\n\nPartner must register within 7 days or be moved to the waitlist\n(Age breaks based on registration\, but will strive to be close to under 50\, 50+\, 60+)\n\nFriday\, Aug 22 – Women’s Doubles\nSaturday\, Aug 23 – Mixed Doubles\nSunday\, Aug 24 – Men’s Doubles\n\nCurrent Hillendale Pickleball Club members to receive a special $10 discount code via email\n\nFormat:\nALL Round Robin with playoffs for Gold/Silver/Bronze. All games/matches are win by 2\nMost Round Robins are 1 to 15 but may change based on the number of players in the event. If an event has 7 or 8 teams\, round-robin matches will be 1 to 11 by 2.\nTop 4 teams go to the playoff (Lead in matches are 1 to 15 with the Gold Match with the option of 2/3-11w/2 or 1 to 15. Bronze Match 1 to 15.\n\nTD may combine brackets as needed to ensure quality play.\n\nPickleball Is Great reserves the right to refuse service at anytime.\n\n\n\n\nRefund Policy\n\n\n\n$10 Admin fee minimum for all withdrawals\n\nIf any event is cancelled due to weather\, there will be up to a 50% refund\n\nDeadline is 8/13/25 for any refund requests\n\n\n\n\n\n\nVenue Details\n\n\n\n\n\nHillendale Park\n\n\n19260 Clairmont Way\nOregon City\, Oregon\, 97045\nUnited States\n\n\nParking Information\nParking Fee: No Fee\nno overnight parking\n\n\n\nAmenities\n\n\nSurface Type: Tennis Hardcourt Surface\n\n\nNumber of courts: 8\n\n\nBall used: Franklin X40\n\n\nPlay area type: Outdoor Non-Covered\n\n\nNet type: Portable\n\n\nBall website: Click here
URL:https://pickleballisgreat.com/tournament/2025-trails-end-challenge-by-pig/
ATTACH;FMTTYPE=image/jpeg:https://pickleballisgreat.com/wp-content/uploads/2025/03/Trails-End-Challenge.jpg
END:VEVENT
BEGIN:VEVENT
DTSTART;VALUE=DATE:20250822
DTEND;VALUE=DATE:20250825
DTSTAMP:20260421T135025
CREATED:20250531T004348Z
LAST-MODIFIED:20250718T235318Z
UID:10000243-1755820800-1756079999@pickleballisgreat.com
SUMMARY:2025 OREGON Amateur Pickleball Championships powered by Carvana PPA Tour & PIG
DESCRIPTION:Tournament Description\n\n\n“Amateur Pickleball State Championship Series” powered by the Carvana PPA Tour!\n\nRegister: https://pickleballtournaments.com/tournaments/2025-oregon-amateur-pickleball-championships-powered-by-carvana-ppa-tour-and-pig\n\nWhich state has the best pickleball players in 2025?\n\nThe answer will be revealed soon with a set of tournaments conducted across all 50 states. Come to the World Championships where the Champions Division will feature all the medalists from each division nationwide battling against each other for pickleball supremacy.\n\nWhy should I play in the Amateur Pickleball State Championship Series?\n\nParticipating in the Amateur Pickleball State Championship Series powered by the Carvana PPA Tour offers players a unique and thrilling opportunity to showcase their skills on a bigger stage\, contributing to the vibrant and growing pickleball community.\n\nThe series\, spanning all 50 states\, provides an inclusive platform for players of varying ages and skill levels to engage in spirited competition while fostering camaraderie among enthusiasts across the nation.\n\nThe prospect of earning a coveted spot in the year-end World Championships in Dallas\, TX adds an extra layer of excitement and motivation. The Champions Division brings together the best players from across the world\, offering a grand stage for the ultimate showdown and the quest for pickleball supremacy.\n\nChampions Division\nParticipants who secure skill-level gold at a state championship are eligible for a complimentary registration fee to the 2025 Worlds Championship. This exclusive offer recognizes and rewards excellence in the Champions Division and ensures the best possible competition.\n\nGold: 100% off Registration Fee\nSilver: 50% off Registration Fee\nBronze: 25% off Registration Fee\n\nDivisions Offered\nWe are excited to offer a range of divisions to cater to players of varying age groups and skill levels:\n\nSkill Levels: 3.0\, 3.5\, 4.0\, 4.5\, 5.0\nAge Groups: 18U\, 19+\, 35+\, 50+\, 60+\, 70+\nPlaying Divisions: MD\, WD\, MXD\, MS\, WS\n\nRegistration Starts\nEarly Registration (Mar/Apr) = $65 + event fees\nRegistration (May/June/July) = $80 + event fees\nLate Registration (Aug 1) = $95 + event fees\n\nAll Doubles Events are $20 each\nAll Singles Events are $35 each\n\n\n\n\nAdditional Information\n\n\nPlayers will utilize “DUPR” rating from their player profile\n\nFriday\, Aug 22 – Women’s Doubles / Men’s Singles\nSaturday\, Aug 23 – Mixed Doubles\nSunday\, Aug 24 – Men’s Doubles / Women’s Singles\n\nFormat Details – “Round Robin with Playoffs”\n\n“Pool” play followed by playoffs of the top teams – usually the top 4\n\nIf there are fewer than 3 teams/players will be moved into a combined bracket.\nDouble Round Robin 1 to 15 win by 2 for 3 teams\nGames: 1 to 15 win by 2 for brackets 4\, 5\, or 6 teams\nGames: 1 to 11 win by 2 for brackets with 6 or 7 teams\n8 or more teams will be split into pools with the top 2 teams go to a playoff round\n\nPickleball Is Great reserves the right to refuse service at anytime\nTournament Director may need to combine and adjust brackets as needed.\n\n\n\n\nRefund Policy\n\n\nCANCELLATION DEADLINE: 8/13/25\nIf you withdraw before the CANCELLATION DEADLINE above\, you will be issued a refund (with a $20 processing fee deducted). Refunds will be issued at the conclusion of the tournament.\n\n\n\n\n\n\nVenue Details\n\n\n\n\nThe Premier Pickleball Club\n\n\n2405 SW First St\nRedmond\, Oregon\, 97556\nUnited States\n\n\nParking Information\nParking Fee: No Fee\n\n\n\nAmenities\n\n\nSurface Type: Pickleball Hardcourt Surface\n\n\nNumber of courts: 9\n\n\nBall used: Franklin X40\n\n\nPlay area type: Indoor\n\n\nNet type: Permanent\n\n\nBall website: Click here
URL:https://pickleballisgreat.com/tournament/2025-oregon-amateur-pickleball-championships-powered-by-carvana-ppa-tour-pig/
ATTACH;FMTTYPE=image/jpeg:https://pickleballisgreat.com/wp-content/uploads/2025/05/Oregon-Amateur-Pickleball-Championship.jpg
END:VEVENT
BEGIN:VEVENT
DTSTART;VALUE=DATE:20250823
DTEND;VALUE=DATE:20250825
DTSTAMP:20260421T135025
CREATED:20250311T173501Z
LAST-MODIFIED:20250311T173501Z
UID:10000218-1755907200-1756079999@pickleballisgreat.com
SUMMARY:3rd Annual Covington Summer Slam Pickleball by PIG
DESCRIPTION:Tournament Description\n\n\n\nFun Round Robin format WITH playoffs for Gold/Silver/Bronze for skills 3.0-4.5+. Final age brackets to be determined by registration but similar to (under 50\, 50-59\, & 60+). TD may combine brackets as needed to ensure quality play.\n\nRegister: https://pickleballtournaments.com/tournaments/3rd-annual-covington-summer-slam-pickleball-by-pig\n\n***Ratings:\n• Even though DUPR is the only rating listed for public view\, we are using DUPR only as a guideline. All rating systems have their pros and cons. Players will self-rate and we will also be using your previous tournament rating (PBR) as our determinant\n• Please update your self-rating in your software profile before you register. You may only play up .5 from your self-rating\n• If you feel that a player is playing out of their skill\, please contact the tournament director. We will then evaluate tournament history and various ratings (including DUPR) to determine if a player/team needs to play at a different skill. Please be aware that this is a manual process and does not happen automatically\n\nUsing the X-40 ball\n\n\n\n\nAdditional Information\n\n\n\nSaturday – Mixed Doubles\nSunday – Men’s & Women’s Doubles\n\nOutdoor Skill/Age tournament on tennis surface.\n\nPayment is required to register (free unisex T-shirt included with registration)\nEarly registration – $50 + $15/event through Apr 30\nStandard registration – $60 + $15/event through July 31\nLate registration – $70 + $15/event begins Aug 1\n\nPickleball Is Great reserves the right to refuse service at anytime.\n\n\n\n\nRefund Policy\n\n\n\n$10 Admin fee minimum for all withdrawals\n\nIf any event is cancelled due to weather\, there will be up to a 50% refund\nDeadline is 8/14/25 for any refund\n\n\n\n\n\n\nVenue Details\n\n\n\n\n\nKentwood High School tennis courts\n\n\n25800 164th Ave SE\nCovington\, Washington\, 98042\nUnited States\n\n\nParking Information\nParking Fee: No Fee\n\n\n\nAmenities\n\n\nSurface Type: Tennis Hardcourt Surface\n\n\nNumber of courts: 12\n\n\nBall used: Franklin X-40\n\n\nPlay area type: Outdoor Non-Covered\n\n\nNet type: Portable\n\n\nBall website: Click here
URL:https://pickleballisgreat.com/tournament/3rd-annual-covington-summer-slam-pickleball-by-pig/
ATTACH;FMTTYPE=image/jpeg:https://pickleballisgreat.com/wp-content/uploads/2025/03/Covington-Summer-Slam.jpg
END:VEVENT
END:VCALENDAR