BEGIN:VCALENDAR
VERSION:2.0
PRODID:-//Pickleball Is Great - ECPv6.15.18//NONSGML v1.0//EN
CALSCALE:GREGORIAN
METHOD:PUBLISH
X-ORIGINAL-URL:https://pickleballisgreat.com
X-WR-CALDESC:Events for Pickleball Is Great
REFRESH-INTERVAL;VALUE=DURATION:PT1H
X-Robots-Tag:noindex
X-PUBLISHED-TTL:PT1H
BEGIN:VTIMEZONE
TZID:America/Los_Angeles
BEGIN:DAYLIGHT
TZOFFSETFROM:-0800
TZOFFSETTO:-0700
TZNAME:PDT
DTSTART:20250309T100000
END:DAYLIGHT
BEGIN:STANDARD
TZOFFSETFROM:-0700
TZOFFSETTO:-0800
TZNAME:PST
DTSTART:20251102T090000
END:STANDARD
BEGIN:DAYLIGHT
TZOFFSETFROM:-0800
TZOFFSETTO:-0700
TZNAME:PDT
DTSTART:20260308T100000
END:DAYLIGHT
BEGIN:STANDARD
TZOFFSETFROM:-0700
TZOFFSETTO:-0800
TZNAME:PST
DTSTART:20261101T090000
END:STANDARD
BEGIN:DAYLIGHT
TZOFFSETFROM:-0800
TZOFFSETTO:-0700
TZNAME:PDT
DTSTART:20270314T100000
END:DAYLIGHT
BEGIN:STANDARD
TZOFFSETFROM:-0700
TZOFFSETTO:-0800
TZNAME:PST
DTSTART:20271107T090000
END:STANDARD
END:VTIMEZONE
BEGIN:VTIMEZONE
TZID:America/Boise
BEGIN:DAYLIGHT
TZOFFSETFROM:-0700
TZOFFSETTO:-0600
TZNAME:MDT
DTSTART:20250309T090000
END:DAYLIGHT
BEGIN:STANDARD
TZOFFSETFROM:-0600
TZOFFSETTO:-0700
TZNAME:MST
DTSTART:20251102T080000
END:STANDARD
BEGIN:DAYLIGHT
TZOFFSETFROM:-0700
TZOFFSETTO:-0600
TZNAME:MDT
DTSTART:20260308T090000
END:DAYLIGHT
BEGIN:STANDARD
TZOFFSETFROM:-0600
TZOFFSETTO:-0700
TZNAME:MST
DTSTART:20261101T080000
END:STANDARD
BEGIN:DAYLIGHT
TZOFFSETFROM:-0700
TZOFFSETTO:-0600
TZNAME:MDT
DTSTART:20270314T090000
END:DAYLIGHT
BEGIN:STANDARD
TZOFFSETFROM:-0600
TZOFFSETTO:-0700
TZNAME:MST
DTSTART:20271107T080000
END:STANDARD
END:VTIMEZONE
BEGIN:VTIMEZONE
TZID:America/Chicago
BEGIN:DAYLIGHT
TZOFFSETFROM:-0600
TZOFFSETTO:-0500
TZNAME:CDT
DTSTART:20250309T080000
END:DAYLIGHT
BEGIN:STANDARD
TZOFFSETFROM:-0500
TZOFFSETTO:-0600
TZNAME:CST
DTSTART:20251102T070000
END:STANDARD
BEGIN:DAYLIGHT
TZOFFSETFROM:-0600
TZOFFSETTO:-0500
TZNAME:CDT
DTSTART:20260308T080000
END:DAYLIGHT
BEGIN:STANDARD
TZOFFSETFROM:-0500
TZOFFSETTO:-0600
TZNAME:CST
DTSTART:20261101T070000
END:STANDARD
BEGIN:DAYLIGHT
TZOFFSETFROM:-0600
TZOFFSETTO:-0500
TZNAME:CDT
DTSTART:20270314T080000
END:DAYLIGHT
BEGIN:STANDARD
TZOFFSETFROM:-0500
TZOFFSETTO:-0600
TZNAME:CST
DTSTART:20271107T070000
END:STANDARD
END:VTIMEZONE
BEGIN:VEVENT
DTSTART;VALUE=DATE:20260626
DTEND;VALUE=DATE:20260629
DTSTAMP:20260421T094515
CREATED:20260203T232301Z
LAST-MODIFIED:20260203T232301Z
UID:10000363-1782432000-1782691199@pickleballisgreat.com
SUMMARY:5th Annual Beaverton Bash @ West Hills Racquet & Fitness Club by PIG
DESCRIPTION:Tournament Description\n\n\nSave the Date (Jun 26-28) – 5th Annual Beaverton Bash @ West Hills Racquet and Fitness Club by PIG\nlocated at 2200 SW Cedar Hills Blvd\, Beaverton OR 97225 \nRegister: https://pickleballtournaments.com/tournaments/5th-annual-beaverton-bash-at-west-hills-racquet-and-fitness-club-by-pig\n\nRound Robin format (skill/age) WITH playoffs for Gold/Silver/Bronze for skills 3.0-4.5+. Age brackets will be determined following the close of registration\, but will strive to be close to under 50\, 50-59\, & 60+ events.\n\nDUPR required for all players – be sure your player profile is up to date…\nYou may not play below your DUPR rating\n\nOutdoor play on up to 10 courts on a tennis surface. Some permanent courts some temporary.\n\nUsing the Franklin X40 Ball\nPickleball Is Great reserves the right to refuse service at anytime\n\n\n\n\nAdditional Information\n\n\nPayment is required to register – Early registration $45 + $15/event through Mar 31. Standard registration $60 + $15/event through Jun 17. Any registration after June 18 will be $75 + $15/event\n\nPartner must register within 7 days or be moved to the waitlist\n(Age breaks based on registration\, but will strive to be close to under 50\, 50+\, 60+)\n\nFriday – Women’s Singles\, Men’s Singles\nSaturday – Men’s Doubles\, Women’s Doubles\nSunday – Mixed Doubles\n\nFormat:\nALL Round Robin with playoffs for Gold/Silver/Bronze. All games/matches are win by 2\nMost Round Robins are 1 to 15 but may change based on the number of players in the event. If an event has 7 or 8 teams\, round-robin matches will be 1 to 11 by 2.\nTop 4 teams go to the playoff (Lead in matches are 1 to 15 with the Gold Match with the option of 2/3-11w/2 or 1 to 15. Bronze Match 1 to 15.\nTD may combine brackets as needed to ensure quality play.\nTournament may close at any time if maximum daily numbers are met (even if some events appear to have openings)\n\nPickleball Is Great reserves the right to refuse service at anytime.\n\nThere is a daily player limit that may cause registration to close with no notice for an event or the whole day.\n\n\n\n\nRefund Policy\n\n\n$15 withdraw fee for all withdrawals.\n\nNo refunds after the cancellation date of June 17\, 2026\n\nUp to a 50% refund for weather related cancellations\n\n\n\n\n\n\nVenue Details\n\n\n\n\nWest Hills Racquet and Fitness Club\n\n\n2200 SW Cedar Hills Blvd\nPortland\, Oregon\, 97225\nUnited States\n\n\nParking Information\nParking Fee: No Fee\n\n\n\n\nAmenities\n\n\nSurface Type: Tennis Hardcourt Surface\n\n\nNumber of courts: 10\n\n\nBall used: Franklin X40\n\n\nPlay area type: Outdoor Non-Covered\n\n\nNet type: Permanent & Portable
URL:https://pickleballisgreat.com/tournament/5th-annual-beaverton-bash-west-hills-racquet-fitness-club-by-pig/
ATTACH;FMTTYPE=image/jpeg:https://pickleballisgreat.com/wp-content/uploads/2026/02/Beaverton-Bash.jpg
END:VEVENT
BEGIN:VEVENT
DTSTART;VALUE=DATE:20260626
DTEND;VALUE=DATE:20260629
DTSTAMP:20260421T094515
CREATED:20260203T232738Z
LAST-MODIFIED:20260203T232738Z
UID:10000364-1782432000-1782691199@pickleballisgreat.com
SUMMARY:3rd Annual Panhandle Pickleball Tournament benefiting SNR by PIG
DESCRIPTION:Tournament Description\n\n\nSave the Date (Jun 26-28) – SNR Pickleball by PIG\nThis tournament is a fund raiser for Specialized Needs Recreation (SNR). SNR is a non-profit organization that provides recreational opportunities (camps\, activities\, and year-round programs) for youth and adults who have developmental and physical disabilities. Check us out at https://snridaho.org/ and please consider making an additional donation at registration. \nRegister: https://pickleballtournaments.com/tournaments/3rd-annual-panhandle-pickleball-tournament-benefiting-snr-by-pig\n\nIf you are interested in being a sponsor for our tournament\, please visit – https://www.betterunite.com/SpecilizedNeedsRecreation-panhandlepickleballtournament (THIS LINK NEEDS TO BE UPDATED)\n\nRound Robin format (skill/age) WITH playoffs for Gold/Silver/Bronze for skills 3.0-4.5+. Age brackets will be determined following the close of registration\, but will strive to be close to under 50\, 50-59\, & 60+ events.\n\nDUPR required for all players – be sure your player profile is up to date…\nYou may not play below your DUPR rating. Scores will be reported to DUPR\n\nUsing the Selkirk Pro S1\n\n\n\n\nAdditional Information\n\n\nPayment is required to register – Early registration $45 + $15/event through Mar 31. Standard registration $55 + $15/event. Registration closes June 17\, 2026\n\nPartner must register within 7 days or be moved to the waitlist\n(Age breaks based on registration\, but will strive to be close to under 50\, 50+\, 60+)\n\nFriday – Women’s Singles / Men’s Singles (full-court)\nSaturday – Mixed Doubles\nSunday – Men’s Doubles / Women’s Doubles\n\nFormat:\nALL Round Robin with playoffs for Gold/Silver/Bronze. All games/matches are win by 2\nMost Round Robins are 1 to 15 but may change based on the number of players in the event. If an event has 7 or 8 teams\, round-robin matches will be 1 to 11 by 2.\nTop 4 teams go to the playoff (Lead in matches are 1 to 15 with the Gold Match with the option of 2/3-11w/2 or 1 to 15. Bronze Match 1 to 15.\nTD may combine brackets as needed to ensure quality play.\nTournament may close at any time if maximum daily numbers are met (even if some events appear to have openings)\n\nPickleball Is Great reserves the right to refuse service at anytime.\n\nThere is a daily player limit that may cause registration to close with no notice for an event or the whole day.\n\n\n\n\nRefund Policy\n\n\n$15 withdraw fee for all withdrawals.\nService fees are not refunded\n\nNo refunds after the cancellation date of June 17\, 2026\n\nUp to a 50% refund for weather related cancellations\n\n\n\n\n\n\nVenue Details\n\n\n\n\nCherry Hill Park\n\n\n1718 15th Street\nCoeur d’Alene\, Idaho\, 83814\nUnited States\n\n\nParking Information\nParking Fee: No Fee\n\n\n\n\nAmenities\n\n\nSurface Type: Tennis Hardcourt Surface\n\n\nNumber of courts: 12\n\n\nBall used: Selkirk Pro S1\n\n\nPlay area type: Outdoor Non-Covered\n\n\nNet type: Permanent\n\n\nBall website: Click here
URL:https://pickleballisgreat.com/tournament/3rd-annual-panhandle-pickleball-tournament-benefiting-snr-by-pig/
ATTACH;FMTTYPE=image/webp:https://pickleballisgreat.com/wp-content/uploads/2026/02/Panhandle-Pickleball-Tournament.webp
END:VEVENT
BEGIN:VEVENT
DTSTART;VALUE=DATE:20260626
DTEND;VALUE=DATE:20260629
DTSTAMP:20260421T094515
CREATED:20260207T020447Z
LAST-MODIFIED:20260207T020447Z
UID:10000379-1782432000-1782691199@pickleballisgreat.com
SUMMARY:2nd Annual Puyallup Paddle Battle at The Taste NW presented by Fred Meyer and managed by PIG
DESCRIPTION:Tournament Description\n\n\nPlay in the Heart of the Action! Join a fun\, competitive pickleball tournament at the iconic Washington State Fair Event Center in Puyallup\, surrounded by the excitement of a lively summer food festival. Bring Your Crew: Invite family and friends to cheer you on while enjoying delicious food\, games\, and fun at The Taste NW. With free festival entry and free parking\, it’s an event for everyone! https://www.thefair.com/the-taste-nw/ \nRegister: https://pickleballtournaments.com/tournaments/2nd-annual-puyallup-paddle-battle-at-the-taste-nw-presented-by-fred-meyer-and-managed-by-pig\n\nRound Robin format (skill/age) WITH playoffs for Gold/Silver/Bronze for skills 3.0-4.5+. Final age brackets will be determined following the close of registration\, but will strive to be close to under 50\, 50+ events.\n\nNumber of total matches will be determined by number of players in the event. This may change up to the time of play as “life” happens to players and facility requests may be made. Players are guaranteed a minimum of 3 matches.\n\nDUPR required for all players and account will need to be linked with the software.\nYou may not play below your DUPR rating. Scores will be reported to DUPR\n\nIndoor Skill/Age tournament on up to 8 temporary courts using Pickleroll Mats\n\nUsing the Franklin X40 ball\nPickleball Is Great reserves the right to refuse service at anytime\n\n‘Learn more about Taste NW at TheFair.com’ https://www.thefair.com/the-taste-nw/\n\n\n\n\nAdditional Information\n\n\nPartner must register within 7 days or be moved to the waitlist\n(Final age breaks based on registration\, but will strive to be close to under 50\, 50-59\, 60+)\n\nFriday – Women’s Doubles/Men’s Singles\nSaturday – Mixed Doubles\nSunday – Men’s Doubles/Women’s Singles\n\nFormat:\nALL Round Robin with playoffs for Gold/Silver/Bronze. All games/matches are win by 2\nMost Round Robins are either (1 to 15) or (1 to 11) \, depending upon final number of players in the event.\nEvents with 8 or more teams may be pooled.\nTop 4 teams go to the playoff (Lead in matches are 1 to 15 with the Gold Match with the option of 2/3-11w/2 or 1 to 15. Bronze Match 1 to 15.\nTD may combine brackets as needed to ensure quality play.\nTournament may close at any time if maximum daily numbers are met (even if some events appear to have openings)\n\n\n\n\nRefund Policy\n\n\n$15 Admin fee minimum for all withdrawals\nNo refunds after close of registration\n\nIf any event is cancelled due to “Acts of God”\, there will be up to a 50% refund\n\n\n\n\n\n\nVenue Details\n\n\n\n\nWashington State Fair Event Center\n\n\n110 9th Ave SW\nPuyallup\, Washington\, 98371\nUnited States\n\n\nParking Information\nParking Fee: No Fee\nNo overnight parking \n\n\n\nAmenities\n\n\nSurface Type: Sport Court & Concrete\n\n\nNumber of courts: 9\n\n\nBall used: Franklin X40\n\n\nPlay area type: Indoor\n\n\nNet type: Portable\n\n\nBall website: Click here
URL:https://pickleballisgreat.com/tournament/2nd-annual-puyallup-paddle-battle-at-the-taste-nw-presented-by-fred-meyer-and-managed-by-pig/
ATTACH;FMTTYPE=image/webp:https://pickleballisgreat.com/wp-content/uploads/2025/05/6457a6c9-9c0f-4eb4-a515-d27782273db1_1747177740_Logo.webp
END:VEVENT
BEGIN:VEVENT
DTSTART;VALUE=DATE:20260626
DTEND;VALUE=DATE:20260629
DTSTAMP:20260421T094515
CREATED:20260412T210945Z
LAST-MODIFIED:20260412T210945Z
UID:10000392-1782432000-1782691199@pickleballisgreat.com
SUMMARY:2026 Powerball ARIZONA #2 Amateur Pickleball Championships powered by Carvana PPA Tour & PIG
DESCRIPTION:Tournament Description\n\n\n“Amateur Pickleball State Championship Series” powered by the Carvana PPA Tour! \nRegister: https://pickleballtournaments.com/tournaments/2026-powerball-arizona-2-amateur-pickleball-championships-powered-by-carvana-ppa-tour-and-pig\n\nWhich state has the best pickleball players in 2026?\n\nThe answer will be revealed soon with a set of tournaments conducted across all 50 states. Come to the World Championships where the Champions Division will feature all the medalists from each division nationwide battling against each other for pickleball supremacy.\n\nWhy should I play in the Amateur Pickleball State Championship Series?\n\nParticipating in the Amateur Pickleball State Championship Series powered by the Carvana PPA Tour offers players a unique and thrilling opportunity to showcase their skills on a bigger stage\, contributing to the vibrant and growing pickleball community.\n\nThe series\, spanning all 50 states\, provides an inclusive platform for players of varying ages and skill levels to engage in spirited competition while fostering camaraderie among enthusiasts across the nation.\n\nThe prospect of earning a coveted spot in the year-end World Championships in Dallas\, TX adds an extra layer of excitement and motivation. The Champions Division brings together the best players from across the world\, offering a grand stage for the ultimate showdown and the quest for pickleball supremacy.\n\nChampions Division\nParticipants who secure skill-level gold at a state championship are eligible for a complimentary registration fee to the 2026 Worlds Championship. This exclusive offer recognizes and rewards excellence in the Champions Division and ensures the best possible competition.\n\nGold: Free Registration\nSilver: 50% off Registration\nBronze: 25% Registration\n\nDivisions Offered\nWe are excited to offer a range of divisions to cater to players of varying age groups and skill levels:\n\nSkill Levels: 3.0\, 3.5\, 4.0\, 4.5\, 5.0\nAge Groups: 18U\, 19+\, 35+\, 50+\, 60+\, 70+\nPlaying Divisions: MD\, WD\, MXD\, MS\, WS\n\nRegistration :\nEarly Registration (March/April) = $45 + event fees\nRegistration (May) = $65 + event fees\nLate Registration (June) = $80 + event fees\n\nAll Doubles Events are $20 each\nAll Singles Events are $35 each\n\n\n\n\nAdditional Information\n\n\nPlayers will utilize “DUPR” rating from their player profile\n\nFriday\, June 26 – Women’s Doubles / Men’s Singles\nSaturday\, June 27- Mixed Doubles / Coed Scramble\nSunday\, June 28 – Men’s Doubles / Women’s Singles\n\nFormat Details – “Round Robin with Playoffs”\n\n“Pool” play followed by playoffs of the top teams – usually the top 4\n\nIf there are fewer than 3 teams/players will be moved into a combined bracket.\nDouble Round Robin 1 to 15 win by 2 for 3 teams\nGames: 1 to 15 win by 2 for brackets 4\, 5\, 6\, 7 teams\nGames: 1 to 11 win by 2 for brackets with 8-9 teams\n10 or more teams will be split into pools with the top 2 teams go to a playoff round\n\nPickleball Is Great reserves the right to refuse service at anytime\n\nTournament Director may need to combine and adjust brackets as needed.\n\n\n\n\nRefund Policy\n\n\nCANCELLATION DEADLINE: 6/15/26\nIf you withdraw before the CANCELLATION DEADLINE above\, you will be issued a refund (with a $20 processing fee deducted). Refunds will be issued at the conclusion of the tournament.\n\nSoftware service fees are not refundable\, even if the tournament/event is cancelled.\n\n\n\n\n\n\nVenue Details\n\n\n\n\n\nThe Picklr Oro Valley\n\n\n\n11855 N Oracle Rd\nOro Valley\, Arizona\, 85737\nUnited States\n\n\nParking Information\nParking Fee: No Fee\nno over night parking\n\n\n\nAmenities\n\n\nSurface Type: Pickleball Hardcourt Surface\n\n\nNumber of courts: 12\n\n\nBall used: Franklin X40\n\n\nPlay area type: Indoor Air Conditioned\n\n\nNet type: Permanent\n\n\nBall website: Click here
URL:https://pickleballisgreat.com/tournament/2026-powerball-arizona-2-amateur-pickleball-championships-powered-by-carvana-ppa-tour-pig/
ATTACH;FMTTYPE=image/webp:https://pickleballisgreat.com/wp-content/uploads/2026/02/Powerball-State-Championship-Series.webp
END:VEVENT
BEGIN:VEVENT
DTSTART;VALUE=DATE:20260626
DTEND;VALUE=DATE:20260630
DTSTAMP:20260421T094515
CREATED:20260203T231443Z
LAST-MODIFIED:20260203T231507Z
UID:10000362-1782432000-1782777599@pickleballisgreat.com
SUMMARY:McCall Splash - Summer 2026 by PIG
DESCRIPTION:Tournament Description\n\n\n\nCome join us for our 5th annual McCALL SUMMER SPLASH\, held in the beautiful McCall-Donnelly area! \nRegister: https://pickleballtournaments.com/tournaments/mccall-splash-summer-2026-by-pig \n\n\nNEW EVENTS ADDED…Monday\, June 29!!\n– Women’s Singles & Men’s Singles\n\n– Under 3.0 SCRAMBLE: Women’s Doubles & Men’s Doubles\n** This Scramble event provides players\, who are new to tournament play\, an opportunity to come on out and play in a fun\, round robin event with rotating partners. This is a pool play only event\, with no medal rounds. Players with the top three points totals will earn gold\, silver or bronze medals.\n** The Scramble will Not be a DUPR event and no scores will be reported.\n** Specific age divisions will be created based on registration.\n**As a special thank you for coming on out and trying the tournament experience\, all Scramble participants will receive a 50% refund on paid tournament fees after the tournament.\n\nThis fundraiser tournament is hosted by Valley County Pickleball Club (VCPC)\, which manages the day-to-day Valley County Pickleball Court operations. VCPC is a nonprofit organization and\, therefore\, all net proceeds from this tournament will be used to manage and maintain the Valley County pickleball facility\, located in Lake Fork.\n\nCOME OUT\, EXPERIENCE THE GREAT VIBE & HAVE SOME FUN!!!!\n\nDUPR required for all players – be sure your player profile is up to date. With the exception of the Scramble event\, all scores will be reported to DUPR.\nYou may not play below your DUPR rating.\n\n\n\n\nAdditional Information\n\n\nREGISTRATION & FEES (Registration includes your 1st event. Each additional event – $15)\nEarly Registration: thru March 15th= $50\nRegistration: March 16th- May 31st = $60\nLate Registration: begins June 1st = $75\n\nAll brackets will be pool play followed by playoff/medal rounds for Gold/Silver/Bronze (except for the Scramble event).\n4 games guaranteed per event\nPlease note: some events/brackets may change due to registration levels. These changes will be at the discretion of the Tournament Director.\n\nPickleball Is Great reserves the right to refuse service at anytime\nThere is a daily player limit that may cause registration to stop with no notice for an event or the whole day.\n\nMINIMUM PAY FOR ALL REFEREES IS $10 PER MATCH – must register online\n\n\n\n\nRefund Policy\n\n\n$10 withdraw fee for all\n\nNo refunds after cancellation date\n\nUp to 50% refund for weather related cancellations\n\n\n\n\n\n\nVenue Details\n\n\n\n\nValley County Pickleball Courts\n\n\n76 East Lake Fork Road\nMcCall\, Idaho\, 83638\nUnited States\n\n\nParking Information\nParking Fee: Yes\n\nOn-site parking available – $5/day County parking fee (unless County annual parking pass used). No overnight parking. ***Dogs must remain on a leash and be attended to at all times. They are not allowed on the playing courts for any reason and should not interfere or distract from play*** *** Onsite food trucks will be available Friday – Sunday. Specific vendors will be shared closer to the start of the tournament. \n\n\n\nAmenities\n\n\nSurface Type: Tennis Hardcourt Surface\n\n\nNumber of courts: 9\n\n\nBall used: Franklin X40 optic Yellow\n\n\nPlay area type: Outdoor Non-Covered\n\n\nNet type: Permanent
URL:https://pickleballisgreat.com/tournament/mccall-splash-summer-2026-by-pig/
ATTACH;FMTTYPE=image/webp:https://pickleballisgreat.com/wp-content/uploads/2026/02/McCall-Splash.webp
END:VEVENT
BEGIN:VEVENT
DTSTART;VALUE=DATE:20260627
DTEND;VALUE=DATE:20260630
DTSTAMP:20260421T094515
CREATED:20260412T211536Z
LAST-MODIFIED:20260412T211536Z
UID:10000393-1782518400-1782777599@pickleballisgreat.com
SUMMARY:2026 Pickle Money Ball Super Series Qualifier @ The Pickler Universe in Dallas
DESCRIPTION:Tournament Description\n\n\nCompetitive pickleball – Pickle Money Ball is a competitive pickleball platform designed to elevate the sport by providing athletes of all skill levels the opportunity to compete and earn points.\n\nSee this video – https://youtu.be/7JPiiq64eIo \nRegister: https://pickleballtournaments.com/tournaments/2026-pickle-money-ball-super-series-qualifier-at-the-pickler-universe-in-dallas\n\nPickle Money Ball Super Series – Carrollton\, TX\nJune 27–29 | $320\,000 Payout\n\nThe Pickle Money Ball Super Series is your path to the big stage.\n\nCarrollton is 1 of only 3 Super Series qualifiers leading into our $600\,000 Florida Regional this October in Fort Lauderdale. This is your opportunity to compete\, earn\, and lock in your spot in one of the biggest amateur pickleball events in the country.\n\n🔑 How It Works:\n\nEach Super Series features multiple skill-based brackets with guaranteed payouts\nTop 4 finishers in every bracket earn a guaranteed (paid) entry into the Florida Regional\nAcross all 3 Super Series events\, that’s 12 qualifiers per bracket earning direct entry\nThese players bypass the leaderboard and play-in rounds and go straight to the main event\n\n💰 Why Play Carrollton:\n\n$320\,000 guaranteed payout\nDirect path to a $600\,000 Florida Regional\nControl your own destiny—win and you’re in\nCompete for big money while building momentum toward Florida\n\n🏆 The Road to Florida (How Qualification Works):\n\nThe Florida Regional will feature 96 total players/teams per bracket:\n\nTop 36 from the Pickle Money Ball leaderboard (nominations/points) automatically qualify\nTop 4 from each of the 3 Super Series events qualify (12 total)\n\n➡️ This creates your 48 direct entries into the main event\n\nEveryone else will compete in a play-in tournament for the final 48 spots\n\n🎯 Bottom Line:\n\nThere are only two ways to guarantee your spot:\n\nFinish Top 4 in a Super Series event (like Carrollton)\nFinish Top 36 on the leaderboard through nominations\n\nEverything else comes down to the play-in.\n\nEach division has a limit of 64 singles players and 64 doubles teams.\n\nWe use DUPR ratings to create fair and competitive divisions. Ratings will be updated until close of registration.\n\nEach division pays the top 16 finishers:\n\nSingles: $10\,000 per division\n\nMixed Doubles: $20\,000 per division\n\nAll Round Robin with a Single Elimination to follow. (up to 12 pools per division)\n\nEVENTS:\n$200 per player per event\n6/27/26 SATURDAY – MEN’S & WOMEN’S DOUBLES\n6/28/26 SUNDAY – MIXED DOUBLES\n6/29/26 MONDAY – MEN’S & WOMEN’S SINGLES\n\nDIVISIONS:\n3.9999 AND UNDER\n4.9999 AND UNDER\n5.0+\n50+ ANY SKILL\n\nTournament Director reserves the right to move players without notice with multiple profiles in DUPR or Pickleball.com\n\nWe reserve the right to refuse service at any time.\n\n\n\n\nAdditional Information\n\n\nFor more info watch this video – https://youtu.be/Ait3SFn6di4?si=dhbrqNWpm9DnBD5h\n\nAbout Pickle Money Ball\nPickle Money Ball is a competitive pickleball platform dedicated to elevating the sport by providing athletes of all skill levels with the opportunity to compete\, earn points\, and qualify for major cash tournaments. Through its innovative app and leaderboard system\, Pickle Money Ball connects players from across the country in a fair\, transparent\, and rewarding competitive environment. With major events featuring guaranteed prize payouts\, Pickle Money Ball is redefining how players engage with the game—turning every match into a meaningful step toward championship play. For more information\, visit picklemoneyball.com.\n\n\n\n\nRefund Policy\n\n\nNo Refunds\, can roll funds to a future event.\n\n\n\n\n\nPrize Money\n\n\nEach division pays the top 16 finishers:\n\nSingles: $10\,000 per division\n\n1st: $1600 2nd: $1300 3rd: 1000 4th: $800 5th: $650 6th: 590 7th: $560 8th: 520\n9th: $480 10th: $450 11th: $410 12th: $370 13th: $340 14th: $320 15th: $310 16th: $300\n\nMen’s / Women’s / Mixed Doubles: $20\,000 per division\n\n1st: $3200 2nd: $2600 3rd: 2000 4th: $1600 5th: $1300 6th: 1180 7th: $1120 8th: 1040\n9th: $960 10th: $900 11th: $820 12th: $740 13th: $680 14th: $640 15th: $620 16th: $600\n\n\n\n\n\nVenue Details\n\n\n\n\n\nPickler Universe\n\n\n\n2800 N Interstate 35 E\nCarrollton\, Texas\, 75007\nUnited States\n\n\nParking Information\nParking Fee: No Fee\n\n\n\nAmenities\n\n\nSurface Type: Tennis Hardcourt Surface\n\n\nNumber of courts: 16\n\n\nBall used: Franklin X-40\n\n\nPlay area type: Indoor Air Conditioned\n\n\nNet type: Permanent
URL:https://pickleballisgreat.com/tournament/2026-pickle-money-ball-super-series-qualifier-the-pickler-universe-in-dallas/
ATTACH;FMTTYPE=image/webp:https://pickleballisgreat.com/wp-content/uploads/2026/04/Pickle-Money-Ball.webp
END:VEVENT
END:VCALENDAR