BEGIN:VCALENDAR
VERSION:2.0
PRODID:-//Pickleball Is Great - ECPv6.15.18//NONSGML v1.0//EN
CALSCALE:GREGORIAN
METHOD:PUBLISH
X-WR-CALNAME:Pickleball Is Great
X-ORIGINAL-URL:https://pickleballisgreat.com
X-WR-CALDESC:Events for Pickleball Is Great
REFRESH-INTERVAL;VALUE=DURATION:PT1H
X-Robots-Tag:noindex
X-PUBLISHED-TTL:PT1H
BEGIN:VTIMEZONE
TZID:UTC
BEGIN:STANDARD
TZOFFSETFROM:+0000
TZOFFSETTO:+0000
TZNAME:UTC
DTSTART:20230101T000000
END:STANDARD
END:VTIMEZONE
BEGIN:VEVENT
DTSTART;VALUE=DATE:20240113
DTEND;VALUE=DATE:20240116
DTSTAMP:20260422T220756
CREATED:20240110T102410Z
LAST-MODIFIED:20240110T102410Z
UID:10000002-1705104000-1705363199@pickleballisgreat.com
SUMMARY:Larry & Marlene Nicholson Memorial by PIG
DESCRIPTION:Description\nFun Round Robin format WITH playoffs for Gold/Silver for skills 3.0-4.5+. Medals awarded to only Gold and Silver. Age brackets to be determined by registration but similar to (under 50\, 50-64\, & 65 or even a 75+). TD may combine brackets as needed to ensure quality play. \nPlayers will self rate and cannot play lower than their USA Pickleball Tournament Player Rating (UTPR). Players may only play up in skill .5 from their profile rating. Tournament Director reserves the right to correct underrated players. \nUsing the X-40 ball \n\n\nAdditional Information\nPayment is required to register – Early registration $55 + $15/event through Nov 30. Standard registration $65 + $15/event through Jan 3. After registration closes (beginning Jan 4)\, late registration will be $75 + $15/event. \nFree T-shirt included (men’s and women’s sizing) \nPartner must register within 7 days or be moved to the waitlist. (Age breaks based on registration\, but will strive to be close to under 50\, 50+\, 60+)\nSaturday – Men’s & Women’s Doubles\nSunday – Mixed Doubles\nMonday – Singles (full-court) \nIndoor Skill/Age tournament on tennis surface. \nFormat:\nALL Round Robin with playoffs for Gold/Silver. All games/matches are win by 2\nMost Round Robins are 1 to 15 but may change based on the number of players in the event. If an event has 7 or 8 teams\, round-robin matches will be 1 to 11 by 2.\nTop 4 teams go to the playoff (Lead in matches are 1 to 15 with the Gold Match with the option of 2/3-11w/2 or 1 to 15.\nTD may combine brackets as needed to ensure quality play.\nTournament may close at any time if maximum daily numbers are met (even if some events appear to have openings) \nScores will not automatically be reported to DUPR. \n\n\nWeather\n1/8/24 – I’m beginning to receive questions from players about the possible light snow forecast for this weekend. I just sent out an email to all players letting everyone know how I will be communicating. I will be posting here with time/date noted and will also be sending out an email to players. Please make sure your partner is aware of any updates and I look forward to seeing you this weekend. \n\n\nRefund Policy\n$10 Admin fee minimum for all withdrawals\nNo refunds after close of registration \nIf any event is cancelled due to unforeseen circumstances there will be up to a 50% refund
URL:https://pickleballisgreat.com/tournament/larry-marlene-nicholson-memorial-by-pig/
LOCATION:Olympia\, WA\, United States
ATTACH;FMTTYPE=image/jpeg:https://pickleballisgreat.com/wp-content/uploads/2024/01/53933378-0285-416d-9777-e387ed9581b5_logo.jpg
END:VEVENT
BEGIN:VEVENT
DTSTART;VALUE=DATE:20240111
DTEND;VALUE=DATE:20240115
DTSTAMP:20260422T220756
CREATED:20240110T075443Z
LAST-MODIFIED:20240111T211605Z
UID:10000001-1704931200-1705276799@pickleballisgreat.com
SUMMARY:2024 Winter Classic presented by Center Court Pickleball Club Classic @ Gilbert Regional by PIG
DESCRIPTION:Description\nThis is the first Winter Classic at Gilbert Regional Park by Pickleball Is Great. \nAll Round Robin with playoffs for Gold/Silver/Bronze Medals \nThursday (Age/Skill events) = SENIOR (50+) Mixed Doubles (50+\,55+\,60+\,65+\,70+\,75+\,80+)\nFriday (Age/Skill events) = SENIOR (50+) Men’s & Women’s Doubles (50+\,55+\,60+\,65+\,70+\,75+\,80+)\nSaturday (Skill/Age events) = 19+\,30+\,40+ Men’s & Women’s Doubles Mixed Doubles\nSunday (Skill/Age events) = 19+\,30+\,40+Mixed Doubles \nEarly registration $45 + $15/event by Sept 30\nRegistration $60 + $15/event by Jan 8th \nUnited States Senior Pickleball (formerly SSIPA) membership NOT required for Thursday & Friday events\nhttps://www.usseniorpickleball.com/ ($10 rebate if your membership # is in your pickleballbrackets.com player profile) \nNo membership in any association is required for registration. \nTo join USSP\, go to USSeniorPickleball.com\, only $20 per year. Multi-year payment discounts available. \nUSSP members will receive a $10 rebate from the registration fee. see this link for help https://www.usseniorpickleball.com/pb-ussp-training \nAll ages can play on the weekend\, but there are only two age divisions – 34 and under as well as 35 and up \nMINIMUM PAY FOR ALL REFEREES IS $10 PER MATCH – must register online \nAdditional Information\nALL ROUND ROBIN WITH PLAYOFFS OF THE TOP TEAMS \n**planned format\n4\, 5\, & 6 teams in Pool/Round Robin – games are 1 to 15 win by 2\n7 & 8 teams in Pool/Round Robin – games are 1 to 11 win by 2\nAll lead in games (to the playoffs) are 1 to 15 win by 2\nBronze Matches 1 to 15 win by 2\nGold Matches are the players choice of 2 out of 3 to 11 win by 2 OR 1 to 15 win by 2 \nPickleball Is Great reserves the right to refuse service at anytime \nThere is a daily player limit that may cause registration to stop with no notice for an event or the whole day. \nUSSP has a points system to award prizes to the top finishers each year. In the past\, prizes with a retail value of $20\,000 were awarded to the top 10 point winners in each age group for both men and women on an annual cycle. In 2024\, the prize points will begin in January and run through the end of December. \nNO CASH WILL BE AWARDED!!!!!!!!
URL:https://pickleballisgreat.com/tournament/2024-winter-classic-presented-by-center-court-pickleball-club-classic-gilbert-regional-by-pig/
ATTACH;FMTTYPE=image/jpeg:https://pickleballisgreat.com/wp-content/uploads/2024/01/3414abce-309f-4df8-853d-190676eb9e1a_logo.jpg
END:VEVENT
END:VCALENDAR