BEGIN:VCALENDAR
VERSION:2.0
PRODID:-//Pickleball Is Great - ECPv6.15.18//NONSGML v1.0//EN
CALSCALE:GREGORIAN
METHOD:PUBLISH
X-WR-CALNAME:Pickleball Is Great
X-ORIGINAL-URL:https://pickleballisgreat.com
X-WR-CALDESC:Events for Pickleball Is Great
REFRESH-INTERVAL;VALUE=DURATION:PT1H
X-Robots-Tag:noindex
X-PUBLISHED-TTL:PT1H
BEGIN:VTIMEZONE
TZID:UTC
BEGIN:STANDARD
TZOFFSETFROM:+0000
TZOFFSETTO:+0000
TZNAME:UTC
DTSTART:20230101T000000
END:STANDARD
END:VTIMEZONE
BEGIN:VEVENT
DTSTART;VALUE=DATE:20240201
DTEND;VALUE=DATE:20240205
DTSTAMP:20260424T112738
CREATED:20240110T104140Z
LAST-MODIFIED:20240110T104140Z
UID:10000006-1706745600-1707091199@pickleballisgreat.com
SUMMARY:2024 Tucson Winter Classic USSP & All Ages by PIG
DESCRIPTION:Description\nWelcome to another GREAT Round Robin Tournament with playoffs for Gold/Silver/Bronze Medals \nWe have moved from the KINO Sports complex to the Tucson Racquet & Fitness Club with 12 lighted pickleball courts \n2/1 THURSDAY – 50+ MIXED DOUBLES\n2/2 FRIDAY – 50+ MENS/WOMENS DOUBLES\n2/3 SATURDAY – UNDER 50 MENS/WOMENS DOUBLES\n2/4 SUNDAY – UNDER 50 MIXED DOUBLES \nALL EVENTS ARE\nROUND ROBIN FORMAT\nWITH A “SHOOTOUT” OF THE TOP 4 TEAMS\nFOR GOLD\, SILVER\, AND BRONZE MEDALS\nSee FORMAT tab for details \nALL events are “Skill / Age”\nNO MEMBERSHIP IS REQUIRED TO PARTICIPATE IN ANY EVENT \nEach player must pay at time of registration \nEarly Registration $55 – Only November\nRegistration $70 – Only December\nLate Registration – $85 – Only January\nVERY LATE – $100 – AFTER 1/31/24 \n$15 per event \nPickleball Is Great reserves the right to adjust any player rating as well as combine divisions as needed. \n\n\nAdditional Information\nFORMAT DETAILS:\n3 teams are a double round robin 1-15 win by 2 switch sides at 8 – all teams to playoffs. The top team based on results will have a bye while the bronze match of the 2nd & 3rd place teams play the bronze match 1-15 win by 2. The winner of that goes to play the gold match with the team that was on the bye. \n***All gold medal matches are offered a 2/3-11 win by 2unless the TD needs to make a change due to weather/time issues. We will offer the 1-15 win by 2 as an alternative based on a case-by-case basis*** \n4 to 7 teams are games 1-15 win by 2 switch at 8. The top four teams move forward to the playoffs. 1 v 4 & 2 v 3: these are the “lead-in” matches that require a referee. Winners play each other for gold. Both non winners play for bronze in the same 1-15 win by 2 switch at 8 format. \n8 or more teams are split into pools. The matches depend on the number of teams (see above). Only the top two from each pool move forward. It’s a crisscross playoff. Pool 1 1st team vs Pool 2 2nd team and at the same time Pool 1 2nd team vs Pool 2 1st team. Those games are 1-15 win by 2 switches at 8. Winners play each other for gold. Both non winners play for bronze in the same 1-15 win by 2 switches at 8 formats. \nIf any division has 15 teams or more\, that will likely be broken into 3 or more pools. (I have many players are asking to play up to “fix” their rating… so no combined medals are awarded). \nOnly one medal per player per event. Medals are awarded based on how players played (not as entered). \nPickleball Is Great Reserves the right to refuse service at anytime to anyone \n\n\nRefund Policy\nRefunds will be available up to 1/31/24 with a $15 processing fee.\nUp to 50% can be requested after that.\nEmergency refunds will be issued based on approval. \nTHERE MAY BE UP TO 50% REFUNDS FOR WEATHER RELATED CANCELLATIONS. IN CASE OF WEATHER DELAYS\, AN ATTEMPT TO PLAY ALL MATCHES SCHEDULED FOR A DAY WILL BE MADE
URL:https://pickleballisgreat.com/tournament/2024-tucson-winter-classic-ussp-all-ages-by-pig/
ATTACH;FMTTYPE=image/jpeg:https://pickleballisgreat.com/wp-content/uploads/2024/01/0260a37c-de52-4afe-96f6-d997ce74dbe4_logo.jpg
END:VEVENT
BEGIN:VEVENT
DTSTART;VALUE=DATE:20240223
DTEND;VALUE=DATE:20240226
DTSTAMP:20260424T112738
CREATED:20240110T105006Z
LAST-MODIFIED:20240111T211941Z
UID:10000008-1708646400-1708905599@pickleballisgreat.com
SUMMARY:Picklefest 2024 in Lake Havasu by PIG
DESCRIPTION:Description\nThe tenth annual Picklefest brought to you by the Lake Havasu City Pickleball Association (LHCPBA) (A registered 501(c)7 non-profit dedicated to the enjoyment and growth of Pickleball.) \nAll divisions will be a Round Robin format WITH playoffs \n2/23 Friday = Women’s Doubles plus Men’s Mini Singles2/24 Saturday = Mixed Doubles2/25 Sunday = Men’s Doubles plus Women’s Mini Singles \nThis is a Skill/Age tournament Skills (3.0 to 4.5+) / Age groups (12-49\, 50 to 64\, & 65+) \nPlayers will self rate and can not play lower than their USA Pickleball Tournament Player Rating (UTPR)Tournament Director reserves the right to correct underrated players. \nDUPR will not be used for this tournament. \n\n\nAdditional Information\nThis is a fundraiser tournament for the Lake Havasu City Pickleball Association (LHCPBA) as a registered 501(c)7 non-profit dedicated to the enjoyment and growth of Pickleball in Lake Havasu City area \nPayment is required to register – Early registration $55 + $15/event through Jan 31. Standard registration $65 + $15/event through Feb 10. \nFormat:ALL Round Robin with playoffs for Gold/Silver/Bronze. All games/matches are win by 2Most Round Robins are 1 to 15 but may change based on the number of players in the event. If an event has 7 or 8 teams\, round-robin matches will be 1 to 11 by 2.Top 4 teams go to the playoff (Lead in matches are 1 to 15 with the Gold Match with the option of 2/3-11w/2 or 1 to 15. Bronze Match 1 to 15. \nThe Tournament Director reserves the right to adjust the format of play.Tournament may close at any time if maximum daily numbers are met (even if some events appear to have openings) \nReferees are only “Volunteer” \n\n\nRefund Policy\nRefunds will have a $10 fee before the end of registration February 10\, 2024 \nIf any event is cancelled due to weather there will be up to a 50% refund \nWe reserve the right to refuse service at anytime.
URL:https://pickleballisgreat.com/tournament/picklefest-2024-in-lake-havasu-by-pig/
ATTACH;FMTTYPE=image/png:https://pickleballisgreat.com/wp-content/uploads/2024/01/22b32d6b-626e-46bc-aa17-fca71b575823_logo.png
END:VEVENT
BEGIN:VEVENT
DTSTART;VALUE=DATE:20240224
DTEND;VALUE=DATE:20240226
DTSTAMP:20260424T112738
CREATED:20240110T105246Z
LAST-MODIFIED:20240110T105246Z
UID:10000009-1708732800-1708905599@pickleballisgreat.com
SUMMARY:UVTC Winter Jam by PIG
DESCRIPTION:Description\nRound Robin format (skill/age) WITH playoffs for Gold/Silver/Bronze for skills 3.0-4.5+. Age brackets will be determined following the close of registration\, but will strive to be close to under 50\, 50-59\, & 60+ events. \nPlayers will self-rate and cannot play lower than their USA Pickleball Tournament Player Rating (UTPR). Players may only play up in skill .5 from their profile rating. Tournament Director reserves the right to correct underrated players. \nIndoor play (Skill/Age) on up to 15 temporary courts on a tennis surface \nUsing the Selkirk Pro S1 Ball\nPickleball Is Great reserves the right to refuse service at anytime \n\n\nAdditional Information\nEarly registration $40 + $15/event through Jan 14. Standard registration $55 + $15/event through Jan 15. After registration closes (beginning Jan 16)\, late registration will be $70 + $15/event. \nSaturday – Men’s & Women’s Doubles\nSunday – Mixed Doubles \nPartner must register within 7 days or be moved to the waitlist\n(Age breaks based on registration\, but will strive to be close to under 50\, 50+\, 60+) \nFormat:\nALL Round Robin with playoffs for Gold/Silver/Bronze. All games/matches are win by 2\nMost Round Robins are 1 to 15 but may change based on the number of players in the event. If an event has 7 or 8 teams\, round-robin matches will be 1 to 11 by 2.\nTop 4 teams go to the playoff (Lead in matches are 1 to 15 with the Gold Match with the option of 2/3-11w/2 or 1 to 15. Bronze Match 1 to 15. \nTD may combine brackets as needed to ensure quality play.\nTournament may close at any time if maximum daily numbers are met (even if some events appear to have openings) \nDUPR scores NOT reported. \n\n\nRefund Policy\n$10 Admin fee minimum for all withdrawals \nIf any event is cancelled due to weather\, there will be up to a 50% refund\nDeadline is 2/15/24 for any refund
URL:https://pickleballisgreat.com/tournament/uvtc-winter-jam-by-pig/
ATTACH;FMTTYPE=image/jpeg:https://pickleballisgreat.com/wp-content/uploads/2024/01/b5a7050b-4a2e-4ec2-b576-fba676be6dd9_logo.jpg
END:VEVENT
BEGIN:VEVENT
DTSTART;VALUE=DATE:20240224
DTEND;VALUE=DATE:20240226
DTSTAMP:20260424T112738
CREATED:20240110T105755Z
LAST-MODIFIED:20240110T110024Z
UID:10000010-1708732800-1708905599@pickleballisgreat.com
SUMMARY:2024 February PNW PIG Chase by PIG
DESCRIPTION:Description\nRound Robin format (skill/age) WITH playoffs for Gold/Silver/Bronze for skills 3.0-4.5+. Age brackets will be determined following the close of registration\, but will strive to be close to under 50\, 50-59\, & 60+ events. \nPlayers will self-rate and cannot play lower than their USA Pickleball Tournament Player Rating (UTPR). Players may only play up in skill .5 from their profile rating. Tournament Director reserves the right to correct underrated players. \nIndoor play on up to 10 temporary courts on a tennis surface \nUsing the Selkirk Pro S1 Ball\nPickleball Is Great reserves the right to refuse service at anytime \n\n\nAdditional Information\nPayment is required to register – Early registration $45 + $15/event through Nov 30. Standard registration $60 + $15/event through Feb 14. After registration closes (beginning Feb 15)\, late registration will be $75 + $15/event. \nDUPR scores NOT reported. \nPartner must register within 7 days or be moved to the waitlist\n(Age breaks based on registration\, but will strive to be close to under 50\, 50+\, 60+) \nSaturday – Men’s & Women’s Doubles\nSunday – Mixed Doubles \nFormat:\nALL Round Robin with playoffs for Gold/Silver/Bronze. All games/matches are win by 2\nMost Round Robins are 1 to 15 but may change based on the number of players in the event. If an event has 7 or 8 teams\, round-robin matches will be 1 to 11 by 2.\nTop 4 teams go to the playoff (Lead in matches are 1 to 15 with the Gold Match with the option of 2/3-11w/2 or 1 to 15. Bronze Match 1 to 15.\nTD may combine brackets as needed to ensure quality play.\nTournament may close at any time if maximum daily numbers are met (even if some events appear to have openings) \n\n\nRefund Policy\n$10 Admin fee minimum for all withdrawals\nNo refunds after close of registration \nIf any event is cancelled due to weather there will be up to a 50% refund
URL:https://pickleballisgreat.com/tournament/2024-february-pnw-pig-chase-by-pig/
ATTACH;FMTTYPE=image/jpeg:https://pickleballisgreat.com/wp-content/uploads/2024/01/7bef9f77-2a6c-43ce-8c51-989cc68ed8b6_logo.jpg
END:VEVENT
BEGIN:VEVENT
DTSTART;VALUE=DATE:20240226
DTEND;VALUE=DATE:20240228
DTSTAMP:20260424T112738
CREATED:20240110T110232Z
LAST-MODIFIED:20240110T110322Z
UID:10000011-1708905600-1709078399@pickleballisgreat.com
SUMMARY:2024 Robson Ranch Members Only Pickleball Tournament
DESCRIPTION:Description\n********This tournament is only for Robson Ranch Arizona Pickleball Club members******** \nA very fun round robin tournament for members of the Robson Ranch Pickleball Club. \nA great way to prepare for the 2024 Robson Ranch Desert Slam 11th Annual Pickleball Tournament on Wed 03/14/24 thru Sun 03/17/24 \nThis round robin tournament is NOT Sanctioned. There will be NO line judges for any of the matches. Referees will only be used for medal matches \nSkill levels: 3.0\, 3.5\, 4.0 and 4.5 and above \nPlayers must play at their Robson Ranch Arizona Pickleball Club Level rating or above \nTournament Director reserves the right to correct underrated players \nThe tournament is only for members in good standing of the Robson Ranch Arizona Pickleball Club in Eloy\, AZ. \nAll paper Registrations will be $27 – the same as online \n\n\nAdditional Information\nMonday February 26 – Men’s and Women’s Doubles \nTuesday\, February 27 – Mixed Doubles \nWednesday\, February 28 – Rain Date \nFranklin X-40 optic yellow \n\n\nRefund Policy\nNo refunds after Monday\, February 15\, 2024. We will allow substitutions if a player needs to withdraw after February 15\, 2024. \n(If any event is cancelled due to weather or other unforeseen circumstances there will be up to a 50% refund)
URL:https://pickleballisgreat.com/tournament/2024-robson-ranch-members-only-pickleball-tournament/
ATTACH;FMTTYPE=image/jpeg:https://pickleballisgreat.com/wp-content/uploads/2024/01/8881ef3c-ad61-49e4-b70e-3f6819df649e_logo.jpg
END:VEVENT
BEGIN:VEVENT
DTSTART;VALUE=DATE:20240229
DTEND;VALUE=DATE:20240304
DTSTAMP:20260424T112738
CREATED:20240110T110556Z
LAST-MODIFIED:20240110T110658Z
UID:10000012-1709164800-1709510399@pickleballisgreat.com
SUMMARY:3rd Annual Leap into Pickleball Tournament- USSP + ALL AGES by PIG
DESCRIPTION:Description\nThis is third leap year tournament for Pickleball Is Great! \nAll Round Robin with playoffs for Gold/Silver/Bronze Medals \nUSSP Senior Days are Thursday and Friday. Format is Age/Skill (5 year breaks) – no membership is required\, but if you have your USSP membership number in your profile\, you will get a $10 Refund.Instructions for adding your membership number to your profile – https://www.usseniorpickleball.com/pb-ussp-training \nThursday (Age/Skill events) = SENIOR (50+) Mixed Doubles (50+\,55+\,60+\,65+\,70+\,75+\,80+)Friday (Age/Skill events) = SENIOR (50+) Men’s & Women’s Doubles (50+\,55+\,60+\,65+\,70+\,75+\,80+)Saturday (Skill/Age events) = 19+\,30+\,40+ Men’s & Women’s Doubles Mixed DoublesSunday (Skill/Age events) = 19+\,30+\,40+Mixed Doubles \nEarly registration $55 + $15/event all month of DecemberRegistration $70 + $15/event all month of of JanuaryLate registration $85 + $15/event by February 15 \nNo Membership in any association is required for registration. \nThis tournament is US Senior Pickleball approved. \nTo join USSP\, go to USSeniorPickleball.com\, only $20 per year. Multi-year payment discounts available. \n\n\nAdditional Information\nALL ROUND ROBIN WITH PLAYOFFS OF THE TOP TEAMS \n**planned format4\, 5\, & 6 teams in Pool/Round Robin – games are 1 to 15 win by 27 & 8 teams in Pool/Round Robin – games are 1 to 11 win by 2All lead in games (to the playoffs) are 1 to 15 win by 2Bronze Matches 1 to 15 win by 2Gold Matches are the players choice of 2 out of 3 to 11 win by 2 OR 1 to 15 win by 2 \nPickleball Is Great reserves the right to refuse service at anytime \nThere is a daily player limit that may cause registration to stop with no notice for an event or the whole day. \n\n\nRefund Policy\nAll refunds have a $15 admin fee \nAll refund requests after 1/31/23 will be 50% at most \nWeather refund policy is up to 50% refund if your event is impacted by weather
URL:https://pickleballisgreat.com/tournament/3rd-annual-leap-into-pickleball-tournament-ussp-all-ages-by-pig/
ATTACH;FMTTYPE=image/jpeg:https://pickleballisgreat.com/wp-content/uploads/2024/01/e8d88c24-8e5f-459c-b68d-4ad64d155f5f_logo.jpg
END:VEVENT
END:VCALENDAR