BEGIN:VCALENDAR
VERSION:2.0
PRODID:-//Pickleball Is Great - ECPv6.15.18//NONSGML v1.0//EN
CALSCALE:GREGORIAN
METHOD:PUBLISH
X-WR-CALNAME:Pickleball Is Great
X-ORIGINAL-URL:https://pickleballisgreat.com
X-WR-CALDESC:Events for Pickleball Is Great
REFRESH-INTERVAL;VALUE=DURATION:PT1H
X-Robots-Tag:noindex
X-PUBLISHED-TTL:PT1H
BEGIN:VTIMEZONE
TZID:UTC
BEGIN:STANDARD
TZOFFSETFROM:+0000
TZOFFSETTO:+0000
TZNAME:UTC
DTSTART:20230101T000000
END:STANDARD
END:VTIMEZONE
BEGIN:VEVENT
DTSTART;VALUE=DATE:20240229
DTEND;VALUE=DATE:20240304
DTSTAMP:20260424T100726
CREATED:20240110T110556Z
LAST-MODIFIED:20240110T110658Z
UID:10000012-1709164800-1709510399@pickleballisgreat.com
SUMMARY:3rd Annual Leap into Pickleball Tournament- USSP + ALL AGES by PIG
DESCRIPTION:Description\nThis is third leap year tournament for Pickleball Is Great! \nAll Round Robin with playoffs for Gold/Silver/Bronze Medals \nUSSP Senior Days are Thursday and Friday. Format is Age/Skill (5 year breaks) – no membership is required\, but if you have your USSP membership number in your profile\, you will get a $10 Refund.Instructions for adding your membership number to your profile – https://www.usseniorpickleball.com/pb-ussp-training \nThursday (Age/Skill events) = SENIOR (50+) Mixed Doubles (50+\,55+\,60+\,65+\,70+\,75+\,80+)Friday (Age/Skill events) = SENIOR (50+) Men’s & Women’s Doubles (50+\,55+\,60+\,65+\,70+\,75+\,80+)Saturday (Skill/Age events) = 19+\,30+\,40+ Men’s & Women’s Doubles Mixed DoublesSunday (Skill/Age events) = 19+\,30+\,40+Mixed Doubles \nEarly registration $55 + $15/event all month of DecemberRegistration $70 + $15/event all month of of JanuaryLate registration $85 + $15/event by February 15 \nNo Membership in any association is required for registration. \nThis tournament is US Senior Pickleball approved. \nTo join USSP\, go to USSeniorPickleball.com\, only $20 per year. Multi-year payment discounts available. \n\n\nAdditional Information\nALL ROUND ROBIN WITH PLAYOFFS OF THE TOP TEAMS \n**planned format4\, 5\, & 6 teams in Pool/Round Robin – games are 1 to 15 win by 27 & 8 teams in Pool/Round Robin – games are 1 to 11 win by 2All lead in games (to the playoffs) are 1 to 15 win by 2Bronze Matches 1 to 15 win by 2Gold Matches are the players choice of 2 out of 3 to 11 win by 2 OR 1 to 15 win by 2 \nPickleball Is Great reserves the right to refuse service at anytime \nThere is a daily player limit that may cause registration to stop with no notice for an event or the whole day. \n\n\nRefund Policy\nAll refunds have a $15 admin fee \nAll refund requests after 1/31/23 will be 50% at most \nWeather refund policy is up to 50% refund if your event is impacted by weather
URL:https://pickleballisgreat.com/tournament/3rd-annual-leap-into-pickleball-tournament-ussp-all-ages-by-pig/
ATTACH;FMTTYPE=image/jpeg:https://pickleballisgreat.com/wp-content/uploads/2024/01/e8d88c24-8e5f-459c-b68d-4ad64d155f5f_logo.jpg
END:VEVENT
BEGIN:VEVENT
DTSTART;VALUE=DATE:20240307
DTEND;VALUE=DATE:20240311
DTSTAMP:20260424T100726
CREATED:20240220T042100Z
LAST-MODIFIED:20240221T170845Z
UID:10000028-1709769600-1710115199@pickleballisgreat.com
SUMMARY:2024 Willamette Valley Open by PIG
DESCRIPTION:Welcome to the 2024 Willamette Valley Open! \nRegister: https://pickleballbrackets.com/ptd.aspx?eid=ccfaa81f-cdac-4be2-8be8-6d97d0dca1af \nAmateur Schedule planned :\n3/7 – Thursday Men’s/Women’s Singles (50+ before noon\, under 50 afternoon)\n3/8 – Friday- Women’s Doubles Skill/Age Groups (50+ before noon\, under 50 afternoon)\n3/9 – Saturday- Mixed Doubles Skill/Age Groups\n3/10 – Sunday- Men’s Doubles Skill/Age Groups \nAges: 19+/30+/40+/50+/60+/70+\nSkills: 3.0/3.5/4.0/4.5 \nPro / OPEN $$ Schedule planned\n3/8 – Friday- Men’s Doubles Open (50+ 10am\, 19+ 3pm)\n3/9 – Saturday- Women’s Doubles Open (50+ 10am\, 19+ 3pm)\n3/10 – Sunday- Mixed Doubles Open (50+ 10am\, 19+ 3pm) \n****IMPORTANT – SENIOR PRO/OPEN PLAYERS may also play in the all age open the same day in the evening \nFormat: ALL Round Robin with playoffs for Gold/Silver/Bronze. All games/matches are win by 2\nMost Round Robins are 1 to 15 but may change based on the number of players in the event. If an event has 7 or 8 teams\, round-robin matches will be 1 to 11 by 2. Top 4 teams go to the playoff (Lead in matches are 1 to 15 with the Gold Match with the option of 2/3-11 or 1 to 15. Bronze Match 1 to 15. (Open will be 2/3 to 11win by 2) \nLong Sleeve T-Shirts are optional at $20 each \n\nAdditional Information\nRound Robin format (skill/age) WITH playoffs for Gold/Silver/Bronze for skills 3.0-4.5+. Age brackets may be combines following the close of registration\, \nPartner must register within 14 days or be moved to the waitlist. \nPlayers will self rate and can not play lower than their USA Pickleball Tournament Player Rating (UTPR). Players may only play up in skill .5 from their profile rating. Tournament Director reserves the right to correct underrated players. \n***Player’s responsibility to maintain the accuracy of their current skill level in each event.*** \nDUPR Results Submission – Results WILL NOT be submitted to DUPR. \nFormat:\nALL Round Robin with playoffs for Gold/Silver/Bronze. All games/matches are win by 2\nMost Round Robins are 1 to 15 but may change based on the number of players in the event. If an event has 7 or 8 teams\, round-robin matches will be 1 to 11 by 2.\nTop 4 teams go to the playoff (Lead in matches are 1 to 15 with the Gold Match with the option of 2/3-11 or 1 to 15. Bronze Match 1 to 15.\nTD may combine brackets as needed to ensure quality play. \nBrackets with 4 or more teams could take 4-5 hours to complete\, please plan accordingly \nUsing the Franklin X-40 ball \nPickleball Is Great reserves the right to refuse service at anytime \nThere is a daily player limit that may cause registration to stop with no notice for an event or the whole day. \n\n\nPrize Money\nPayout is based upon the number of players in the division – 6 team minimum for any Open/Pro division \nDetails to come after 1/1/24 \n\n\nRefund Policy\nAll refunds will have a $15 admin fee \nAny refund request after 2/29/24 will have a 50% max \nAny weather related refunds are eligible for up to a 50% refund.
URL:https://pickleballisgreat.com/tournament/2024-willamette-valley-open-by-pig-2/
ATTACH;FMTTYPE=image/png:https://pickleballisgreat.com/wp-content/uploads/2024/01/ccfaa81f-cdac-4be2-8be8-6d97d0dca1af_logo.png
END:VEVENT
BEGIN:VEVENT
DTSTART;VALUE=DATE:20240308
DTEND;VALUE=DATE:20240311
DTSTAMP:20260424T100726
CREATED:20240110T114030Z
LAST-MODIFIED:20240227T003458Z
UID:10000014-1709856000-1710115199@pickleballisgreat.com
SUMMARY:2024 Ambassador Cup @ Holua Racquet & Paddle by PIG
DESCRIPTION:Description\nGET READY FOR 10/1 NOON PST START OF REGISTRATION\nRegister: https://pickleballbrackets.com/ptd.aspx?eid=34ddad3e-e7e7-4420-92cb-c1875d364e98 \n*EARLY REGISTRATION 10/01/23 NOON = $75 + EVENT FEES\n*REGISTRATION 01/01/24 = $85 + EVENT FEES\n*LATE REGISTRATION 2/19/24 = $100 + EVENT FEES (THIS IS BECAUSE WE HAD SO MANY ASK THE LAST WEEK TO REGISTER \nEVENTS ARE $10 EACH (ONLY ONE PER DAY) ***First Responder please ask Lani about the coupon code! \nVery Fun Round Robin format WITH playoffs for Gold / Silver / Bronze Medals \nALL SKILLS\nFriday March 8th = Senior Men’s & Women’s Doubles 50+\, 60+\, 70+\, 80+\nSaturday March 9th = Men’s & Women’s Doubles 19+\,30+\,40+\nSunday March 10th = Mixed Doubles All ages \nPlayers will self rate and can not play lower than their DUPR or USA Pickleball Tournament Player Rating (UTPR) \nTournament Director reserves the right to correct underrated players. \n\n\nAdditional Information\nUSA Ambassador\, Lani Larrua\, hosts this 3rd Annual Tournament. Funds raised will be donated to Friends of First Responders\, Big Island. “Strengthening First Responders and Their Families.” \nFranklin X-40 Ball – Optic Yellow \nCheck out some of our lodging specials –\nHere is the website “3rd Annual Ambassador Cup – Room Block Web Link: https://reservation.outrigger.com/landing?adult=1&arrive=2024-03-07&chain=18497&child=0&config=OKRGROUP¤cy=USD&depart=2024-03-08&group=240308AACM&hotel=10827&level=hotel&locale=en-US&rooms=1\nto make a reservation or reservations can be made with your group code: 240308AACM. \nIndividual attendees can also make reservations by contacting Anuhea directly at (808) 930-4917 or anuhea.haalilio@outrigger.com. \nWhen booking a reservation it will default and calculate the standard resort charge of $30.00 +tax. Please go ahead and book your reservation\, the resort charge will be waived once the reservation is submitted. \nPlease note Reservations must be made by 2/8/24. \n**Scroll past the random HI State tournament logo and find the dropdown box to select Umpqua –\nhttps://reservemygroup.com/event/pickleball-is-great-hawaii \n\n\nHealth & Safety\nHolua’s courts are very warm. Please plan your hydration plan in advance.\nHydrate\, Hydrate\, Hydrate. \n\n\nRefund Policy\nRefunds will have a $20 fee before the end of registration February 18\, 2024 – After that it is up to 50% REFUND \nIf any event is cancelled due to weather there will be up to a 50% refundhttps://pickleballbrackets.com/ptd.aspx?eid=34ddad3e-e7e7-4420-92cb-c1875d364e98
URL:https://pickleballisgreat.com/tournament/2024-ambassador-cup-holua-racquet-paddle-by-pig/
ATTACH;FMTTYPE=image/png:https://pickleballisgreat.com/wp-content/uploads/2024/01/34ddad3e-e7e7-4420-92cb-c1875d364e98_logo.png
END:VEVENT
BEGIN:VEVENT
DTSTART;VALUE=DATE:20240314
DTEND;VALUE=DATE:20240318
DTSTAMP:20260424T100726
CREATED:20240110T114329Z
LAST-MODIFIED:20240308T003537Z
UID:10000015-1710374400-1710719999@pickleballisgreat.com
SUMMARY:2024 Robson Ranch Desert Slam 11th Annual Pickleball Tournament
DESCRIPTION:Description\nWelcome to the Robson Ranch 11th Annual Pickleball Tournament\nMarch 14\, 15\, 16\, and 17 \nPlayers must have a USA Pickleball membership and rating prior to registering. Your membership number needs to be in your player profile on pickleballbrackets.com \n\nRegister: https://pickleballbrackets.com/ptd.aspx?eid=f5f78ef7-1cbd-487e-818c-39e01c6dfbf3 \n\nThursday\, March 14th – Women’s Doubles 3\, 3.5\, 4 and 4.5\nFriday\, March 15th – Men’s Doubles 3\, 3.5\, 4 and 4.5\nSaturday\, March 16th Mixed Doubles 3.0 & 3.5\nSunday\, March 17th – Mixed Doubles 4.0 and 4.5 \nMinimum Age: 50 (10 year brackets) 3.0 to 5.0 \nAge as of December 31st\, 2024 \nWe plan to use the USA Pickleball Tournament Player Ratings (UTPR) \n\n\nAdditional Information\n***Selkirk Pro S1 Ball will be used*** \nTOURNAMENT DIRECTOR MAY LIMIT OR COMBINE BRACKETS BASED UPON REGISTRATION NUMBERS \n(Your registration is not complete until waiver is signed and fees are paid. Each player must complete registration to be counted in the bracket limit.) \nWe reserve the right to refuse service at any time. \n\n\nRefund Policy\nTHERE IS A NO REFUND POLICY IN EFFECT FOR THIS TOURNAMENThttps://pickleballbrackets.com/ptd.aspx?eid=f5f78ef7-1cbd-487e-818c-39e01c6dfbf3
URL:https://pickleballisgreat.com/tournament/2024-robson-ranch-desert-slam-11th-annual-pickleball-tournament/
ATTACH;FMTTYPE=image/png:https://pickleballisgreat.com/wp-content/uploads/2024/01/f5f78ef7-1cbd-487e-818c-39e01c6dfbf3_logo.png
END:VEVENT
BEGIN:VEVENT
DTSTART;VALUE=DATE:20240315
DTEND;VALUE=DATE:20240318
DTSTAMP:20260424T100726
CREATED:20240110T114806Z
LAST-MODIFIED:20240308T003817Z
UID:10000016-1710460800-1710719999@pickleballisgreat.com
SUMMARY:2024 St Patty's Day Duel by PIG
DESCRIPTION:Description\nRegister: https://pickleballbrackets.com/ptd.aspx?eid=5ce1b763-11da-47d6-894b-8c3979b89304 \nRound Robin format (skill/age) WITH playoffs for Gold/Silver/Bronze for skills 3.0-4.5+. Age brackets will be determined following the close of registration\, but will strive to be close to under 50\, 50-59\, & 60+ events. \nPlayers will self rate and can not play lower than their USA Pickleball Tournament Player Rating (UTPR)\nTournament Director reserves the right to correct underrated players. \nFriday – Women’s Doubles / Men’s Mini-Singles\nSaturday – Mixed Doubles\nSunday – Men’s Doubles / Women’s Mini-Singles \n\n\nAdditional Information\nPayment is required to register – Early registration $45 + $15/event through Nov 30. Standard registration $60 + $15/event through Mar 6. After registration closes (beginning Mar 7)\, late registration will be $75 + $15/event.\nPayment is per person and players are ultimately responsible to secure their own partner. \nFormat:\nALL Round Robin with playoffs for Gold/Silver/Bronze. All games/matches are win by 2\nMost Round Robins are 1 to 15 but may change based on the number of players in the event. If an event has 7 or 8 teams\, round-robin matches will be 1 to 11 by 2.\nTop 4 teams go to the playoff (Lead in matches are 1 to 15 with the Gold Match with the option of 2/3-11w/2 or 1 to 15. Bronze Match 1 to 15.\nTD may combine brackets as needed to ensure quality play.\nTournament may close at any time if maximum daily numbers are met (even if some events appear to have openings) \nUsing the Franklin X-40 ball \nCheck out some of our lodging specials – scroll past the random WA State tournament logo and find the dropdown box to select St Patty’s Day –\nhttps://reservemygroup.com/event/pickleball-is-great-washington \n\n\nRefund Policy\n$10 Admin fee minimum for all withdrawals \nIf any event is cancelled due to weather there will be up to a 50% refund\nDeadline is 3/6/24 for any refund \n\n#BBD0E0\n»https://pickleballbrackets.com/ptd.aspx?eid=5ce1b763-11da-47d6-894b-8c3979b89304
URL:https://pickleballisgreat.com/tournament/2024-st-pattys-day-duel-by-pig/
ATTACH;FMTTYPE=image/jpeg:https://pickleballisgreat.com/wp-content/uploads/2024/01/5ce1b763-11da-47d6-894b-8c3979b89304_logo.jpg
END:VEVENT
BEGIN:VEVENT
DTSTART;VALUE=DATE:20240315
DTEND;VALUE=DATE:20240318
DTSTAMP:20260424T100726
CREATED:20240110T115249Z
LAST-MODIFIED:20240308T003635Z
UID:10000017-1710460800-1710719999@pickleballisgreat.com
SUMMARY:2024 St Baldrick's Pickleball Tournament by PIG
DESCRIPTION:Description\nRegister: https://pickleballbrackets.com/ptd.aspx?eid=c39747cd-0cca-4fe2-a141-6da738bee301 \nThis is fund-raiser for St Baldricks\, an organization devoted to childhood cancer research.(https://www.stbaldricks.org/) We will have a silent auction on-site and please consider making a donation. \nRound Robin format (skill/age) WITH playoffs for Gold/Silver/Bronze for skills 3.0-4.5+. Age brackets will be determined following the close of registration\, but will strive to be close to under 50\, 50-59\, & 60+ events. \nPlayers will self rate and can not play lower than their USA Pickleball Tournament Player Rating (UTPR)\nTournament Director reserves the right to correct underrated players. \nFriday – Women’s Doubles\nSaturday – Mixed Doubles\nSunday – Men’s Doubles \n\n\nAdditional Information\nPayment is required to register – Early registration $45 + $15/event through Dec 31. Standard registration $60 + $15/event through Mar 6.\nPricing is per person \nFormat:\nALL Round Robin with playoffs for Gold/Silver/Bronze. All games/matches are win by 2\nMost Round Robins are 1 to 15 but may change based on the number of players in the event. If an event has 7 or 8 teams\, round-robin matches will be 1 to 11 by 2.\nTop 4 teams go to the playoff (Lead in matches are 1 to 15 with the Gold Match with the option of 2/3-11w/2 or 1 to 15. Bronze Match 1 to 15. \nTD may combine brackets as needed to ensure quality play.\nTournament may close at any time if maximum daily numbers are met (even if some events appear to have openings) \nUsing the Franklin X-40 ball \nWe reserve the right to refuse service at anytime. \n\n\nRefund Policy\nAll refunds will have a $10 refund fee \nIf any event is cancelled due to weather there will be up to a 50% refundhttps://pickleballbrackets.com/ptd.aspx?eid=c39747cd-0cca-4fe2-a141-6da738bee301
URL:https://pickleballisgreat.com/tournament/2024-st-baldricks-pickleball-tournament-by-pig/
ATTACH;FMTTYPE=image/jpeg:https://pickleballisgreat.com/wp-content/uploads/2024/01/c39747cd-0cca-4fe2-a141-6da738bee301_logo-1.jpg
END:VEVENT
BEGIN:VEVENT
DTSTART;VALUE=DATE:20240315
DTEND;VALUE=DATE:20240318
DTSTAMP:20260424T100726
CREATED:20240110T115542Z
LAST-MODIFIED:20240308T003724Z
UID:10000018-1710460800-1710719999@pickleballisgreat.com
SUMMARY:2024 WSC Shamrock Shootout by PIG
DESCRIPTION:Description\nRegister: https://pickleballbrackets.com/ptd.aspx?eid=28f7f729-9d4e-408c-bdc7-7f79a69f220c \nFun Round Robin format WITH playoffs for Gold/Silver/Bronze for skills 3.0-5.0 in age events (under 50 & 50+). TD may combine brackets as needed to ensure quality play. \nBracket Formats \n3 teams/players (only if necessary\, we will try to combine any 3 team/player divisions with the closest age division possible)\n– Double-RR\, games 1 to 15\n– Top 2 teams advanced to Gold Medal match\, – Gold – 2/3 to 11 optional (one game to 15 win by 2 is an option as well\, if the decision of which format to play is not unanimous then a coin toss will decide the format)\n– 3rd place team automatically receives Bronze medal \n4 team bracket\n– Single RR\, games 1 to 15\n– Semi-final (all 4 teams) – 1 to 15\n– Bronze – 1 to 15\n– Gold – 2/3 to 11 optional (one game to 15 win by 2 is an option as well\, if the decision of which format to play is not unanimous then a coin toss will decide the format) \n5-6 team bracket\n– Single-RR\, games 1 to 15\n– Semi-final (top 4 teams) – 1 to 15\n– Bronze – 1 to 15\n– Gold – 2/3 to 11 optional (one game to 15 win by 2 is an option as well\, if the decision of which format to play is not unanimous then a coin toss will decide the format) \n7 team brackets\n– Single-RR\, games 1 to 11\n– Semi-final (top 4 teams) – 1 to 15\n– Bronze – 1 to 15\n– Gold – 2/3 to 11 optional (one game to 15 win by 2 is an option as well\, if the decision of which format to play is not unanimous then a coin toss will decide the format) \n8-9 team bracket\n– 2 pools\, Single-RR\, games 1 to 15\n– Semi-final (top 2 teams from each pool) – 1 to 15\n– Bronze – 1 to 15\n– Gold – 2/3 to 11 optional (one game to 15 win by 2 is an option as well\, if the decision of which format to play is not unanimous then a coin toss will decide the format) \n10-12 team bracket\n– 2 pools\, Single-RR\, games 1 to 15\n– Semi-final (top 2 teams from each pool) – 1 to 15\n– Bronze – 1 to 15\n– Gold – 2/3 to 11 optional (one game to 15 win by 2 is an option as well\, if the decision of which format to play is not unanimous then a coin toss will decide the format) \nRatings\nPlease make sure your rating is correct. Players have the sole responsibility to maintain their self-rating accurately in each division\, you will be put into the bracket indicated in your profile. \nWe do not use DUPR ratings as we have no easy way to cross-reference registered players with possible DUPR ratings. \nDUPR Results Submission – Results WILL NOT be submitted to DUPR. \nPlayers may only play up in skill .5 from their profile rating. Tournament Director reserves the right to correct underrated players. \n\n\nAdditional Information\nFriday – Women’s Doubles\nSaturday – Mixed Doubles\nSunday – Men’s Doubles \nIndoor Skill/Age tournament on tennis surface \n$15 per event fee. Payment is required to register – Prices will increase as we approach the event. \nUsing the Franklin X40 \nPickleball Is Great reserves the right to refuse service at anytime. \n\n\nRefund Policy\n$10 Admin fee minimum for all withdrawals\nNo refunds after close of registration \nIf any event is cancelled due to weather there will be up to a 50% refund \n\n#BBD0E0\n»
URL:https://pickleballisgreat.com/tournament/2024-wsc-shamrock-shootout-by-pig/
ATTACH;FMTTYPE=image/png:https://pickleballisgreat.com/wp-content/uploads/2024/01/28f7f729-9d4e-408c-bdc7-7f79a69f220c_logo-1.png
END:VEVENT
BEGIN:VEVENT
DTSTART;VALUE=DATE:20240322
DTEND;VALUE=DATE:20240325
DTSTAMP:20260424T100726
CREATED:20240110T120347Z
LAST-MODIFIED:20240308T003435Z
UID:10000020-1711065600-1711324799@pickleballisgreat.com
SUMMARY:2024 March PNW PIG Chase by PIG
DESCRIPTION:Description\nRegister: https://pickleballbrackets.com/ptd.aspx?eid=a6250bc8-a2b3-4796-a94b-4e33d54bfeb4 \nRound Robin format (skill/age) WITH playoffs for Gold/Silver/Bronze for skills 3.0-4.5+. Age brackets will be determined following the close of registration\, but will strive to be close to under 50\, 50-59\, & 60+ events. \nPlayers will self-rate and cannot play lower than their USA Pickleball Tournament Player Rating (UTPR). Players may only play up in skill .5 from their profile rating. Tournament Director reserves the right to correct underrated players. \nIndoor play on up to 10 temporary courts on a tennis surface \nUsing the Selkirk Pro S1 Ball\nPickleball Is Great reserves the right to refuse service at anytime \n\n\nAdditional Information\nPayment is required to register – Early registration $45 + $15/event through Dec 31. Standard registration $60 + $15/event through Mar 13. After registration closes (beginning Mar 14)\, late registration will be $75 + $15/event. \nPartner must register within 7 days or be moved to the waitlist\n(Age breaks based on registration\, but will strive to be close to under 50\, 50+\, 60+) \nFriday – Women’s Doubles\nSaturday – Mixed Doubles\nSunday – Men’s Doubles \nFormat:\nALL Round Robin with playoffs for Gold/Silver/Bronze. All games/matches are win by 2\nMost Round Robins are 1 to 15 but may change based on the number of players in the event. If an event has 7 or 8 teams\, round-robin matches will be 1 to 11 by 2.\nTop 4 teams go to the playoff (Lead in matches are 1 to 15 with the Gold Match with the option of 2/3-11w/2 or 1 to 15. Bronze Match 1 to 15.\nTD may combine brackets as needed to ensure quality play.\nTournament may close at any time if maximum daily numbers are met (even if some events appear to have openings) \nIndoor Skill/Age tournament on tennis surface\nDUPR scores are not reported. \n$15 per event fee. Payment is required to register – Prices will increase as we approach the event. \nPickleball Is Great reserves the right to refuse service at anytime. \n\n\nRefund Policy\n$10 Admin fee minimum for all withdrawals\nNo refunds after close of registration \nIf any event is cancelled due to weather there will be up to a 50% refund
URL:https://pickleballisgreat.com/tournament/2024-march-pnw-pig-chase-by-pig/
ATTACH;FMTTYPE=image/jpeg:https://pickleballisgreat.com/wp-content/uploads/2024/01/a6250bc8-a2b3-4796-a94b-4e33d54bfeb4_logo.jpg
END:VEVENT
BEGIN:VEVENT
DTSTART;VALUE=DATE:20240323
DTEND;VALUE=DATE:20240325
DTSTAMP:20260424T100726
CREATED:20240308T004718Z
LAST-MODIFIED:20240308T034210Z
UID:10000030-1711152000-1711324799@pickleballisgreat.com
SUMMARY:2024 March CA PIG Chase
DESCRIPTION:  \n\nDescription\nCabrillo College recently had some wind damage\, and the court fence is down. As they work to repair it\, we will be moving the Feb and March PIG Chase tournaments to nearby Soquel High School (397 Soquel San Jose Rd\, Soquel\, CA 95073) \nRegister: https://pickleballbrackets.com/ptd.aspx?eid=fb446e60-6d54-4696-b1cc-92c36fdfbd91 \nVery Fun Round Robin format WITH playoffs for Gold/Silver/Bronze for skills 3.0-4.5+ with age brackets under 50\, 50-59\, & 60+. TD may combine brackets as needed to ensure quality play. \nPlayers will self rate and cannot play lower than their USA Pickleball Tournament Player Rating (UTPR). Tournament Director reserves the right to correct underrated players. \nUsing the X-40 ball \n\n\nAdditional Information\nOutdoor Tennis Courts Skill/Age tournament \nPayment is required to register – Early registration $45 + $15/event through Feb 14. Standard registration $60 + $15/event through Mar 17. After registration closes (beginning Mar 17)\, late registration will be $75 + $15/event. \nPartner must register within 14 days or be moved to the waitlist. \nSaturday – Men’s & Women’s Doubles\nSunday- Mixed Doubles \nFormat:\nALL Round Robin with playoffs for Gold/Silver. All games/matches are win by 2\nMost Round Robins are 1 to 15 but may change based on the number of players in the event. If an event has 7 or 8 teams\, round-robin matches will be 1 to 11 by 2.\nTop 4 teams go to the playoff (Lead in matches are 1 to 15 with the Gold Match with the option of 2/3-11w/2 or 1 to 15.\nTD may combine brackets as needed to ensure quality play.\nTournament may close at any time if maximum daily numbers are met (even if some events appear to have openings) \nScores will not automatically be reported to DUPR. \nPickleball Is Great reserves the right to refuse service at anytime. \n\n\nRefund Policy\n$10 Admin fee minimum for all withdrawals\nNo refunds after close of registration \nIf any event is cancelled due to weather there will be up to a 50% refund \n\n\nVenue Information\n\nSoquel High School Tennis Courts\n\n397 Soquel San Jose Rd\nSoquel\nCalifornia 95073\nUnited States\nSurface Type: Tennis Hardcourt Surface\nPlay Area Type: Outdoor Non-Covered\nNet Type: Portable\nBall Used: Franklin X40\nNumber of Courts: 12\nParking: No Fee\nNo overnight parking\n\n\n\n\nDetails\n\n\n\nOfficiated Type→ None\n\n\n\n\nMax Events Per Registration→ 2\n\n\n\n\nCost Includes→ 0 Events\n\n\n\n\nGuaranteed Games Per Event→ 3\n\n\n\n\nAllow Pets→ No\n\n\n\n\nAllow Food→ No\n\n\n\n\nAllow Dish to Pass→ No\n\n\n\n\nAllow Grill→ No
URL:https://pickleballisgreat.com/tournament/2024-ca-pig-chase/
ATTACH;FMTTYPE=image/jpeg:https://pickleballisgreat.com/wp-content/uploads/2024/03/CA-March-PIG-Chase-3.jpg
END:VEVENT
BEGIN:VEVENT
DTSTART;VALUE=DATE:20240327
DTEND;VALUE=DATE:20240331
DTSTAMP:20260424T100726
CREATED:20240110T120912Z
LAST-MODIFIED:20240308T003240Z
UID:10000021-1711497600-1711843199@pickleballisgreat.com
SUMMARY:2024 March More Bang for the Buck! @ LEGACY PARK - USSP Event by PIG
DESCRIPTION:Description\nWelcome to the second Pickleball Is Great event at Legacy Park. 41 individually fenced courts \nAll skill and ages welcome \nRegister: https://pickleballbrackets.com/ptd.aspx?eid=e42775d3-3781-4551-8982-c372d2bf78c3 \nUSSP Senior Days are Thursday and Friday. Format is Age/Skill (5 year breaks) – no membership is required\, but if you have your USSP membership number in your profile\, you will get a $10 Refund.\nInstructions for adding your membership number to your profile – https://www.usseniorpickleball.com/pb-ussp-training \n3/27/24 WEDNESDAY – Senior Mixed Doubles (Age/Skill events)\n3/28/24 THURSDAY – Senior Men’s & Women’s Doubles (Age/Skill events)\n3/29/24 FRIDAY – Men’s & Women’s Doubles under 50 (Skill/Age events)\n3/30/24 SATURDAY – Mixed Doubles under 50 (Skill/Age events) \nVery Fun All Round Robin format WITH playoffs\n(non-sanctioned USA Pickleball) \nWe are using self ratings\, not DUPR\, or the USAPA Tournament Player Rating (UTPR). (Please do NOT register below your published UTPR – we will move you up automatically) \nTournament fees :\nEarly Registration ends 12/31/23 = $30 + EVENT FEES\nRegistration ends 2/29/24 = $50 + EVENT FEES\nLate Registration ends 3/21/24 = $75 + EVENT FEES\nVERY LATE REGISTRATION STARTS 2/1/24 = $100 + EVENT FEES \n***if you do not have a partner in 14 days\, you will move to the waitlist – when you find a partner\, we can move you back into the draw… \nThe ball is FRANKLIN X-40 \n\n\nAdditional Information\nALL ROUND ROBIN WITH PLAYOFFS OF THE TOP TEAMS \n**planned format\n4 & 5 & 6 teams in Pool/Round Robin – games are 1 to 15 win by 2\n7 & 8 & 9 teams in Pool/Round Robin – games are 1 to 11 win by 2\nAll lead in games (to the playoffs) are 1 to 15 win by 2\nBronze Matches 1 to 15 win by 2\nGold Matches are the players choice of 2 out of 3 to 11 win by 2 OR 1 to 15 win by 2 \nUSSP Senior Days are Thursday and Friday. Format is Age/Skill (5 year breaks) – no membership is required\, but if you have your USSP membership number in your profile\, you will get a $10 Refund \nThe “Under 50” Days are Saturday and Sunday. Format is Skill/Age \n\n\nRefund Policy\nRefund Policy\nAll refunds will have a $15 fee before the end of registration MARCH 21\, 2024 \nAny refund REQUESTS after that will be 50% of the fees paid. \nIf any event is cancelled due to weather there will be up to a 50% refund \nPickleball Is Great reserves the right to refuse service at anytime \n\n#BBD0E0\n»
URL:https://pickleballisgreat.com/tournament/2024-march-more-bang-for-the-buck-legacy-park-ussp-event-by-pig/
ATTACH;FMTTYPE=image/jpeg:https://pickleballisgreat.com/wp-content/uploads/2024/01/e42775d3-3781-4551-8982-c372d2bf78c3_logo-1.jpg
END:VEVENT
END:VCALENDAR