BEGIN:VCALENDAR
VERSION:2.0
PRODID:-//Pickleball Is Great - ECPv6.15.18//NONSGML v1.0//EN
CALSCALE:GREGORIAN
METHOD:PUBLISH
X-ORIGINAL-URL:https://pickleballisgreat.com
X-WR-CALDESC:Events for Pickleball Is Great
REFRESH-INTERVAL;VALUE=DURATION:PT1H
X-Robots-Tag:noindex
X-PUBLISHED-TTL:PT1H
BEGIN:VTIMEZONE
TZID:UTC
BEGIN:STANDARD
TZOFFSETFROM:+0000
TZOFFSETTO:+0000
TZNAME:UTC
DTSTART:20230101T000000
END:STANDARD
END:VTIMEZONE
BEGIN:VEVENT
DTSTART;VALUE=DATE:20241129
DTEND;VALUE=DATE:20241202
DTSTAMP:20260422T020420
CREATED:20240926T210713Z
LAST-MODIFIED:20240926T210713Z
UID:10000124-1732838400-1733097599@pickleballisgreat.com
SUMMARY:2024 Fall More Bang for the Buck! @ GRP - ALL AGES + USSP Event by PIG
DESCRIPTION:Description\nWelcome to the next Pickleball Is Great event at Gilbert Regional Park. 16 individually fenced courts \nAll skill and ages welcome \nRegister: https://pickleballbrackets.com/ptd.aspx?eid=1b2de5a2-936c-454d-a111-61bcc8dad59c \nUSSP Senior events are a Age/Skill format (5 year breaks) – no membership is required\, but if you have your USSP membership number in your profile\, you will get a $10 Refund.\nInstructions for adding your membership number to your profile – https://www.usseniorpickleball.com/pb-ussp-training \n11/29/24 Friday – Women’s Doubles\n11/30/24 Saturday – Mixed Doubles\n12/1/24 Sunday – Men’s Doubles \nVery Fun All Round Robin format WITH playoffs\n(non-sanctioned USA Pickleball) \nWe are using self ratings\, not DUPR\, or the USAPA Tournament Player Rating (UTPR). (Please do NOT register below your published UTPR – we will move you up automatically) \nTournament fees :\nEarly Registration ends 7/31/24 = $30 + EVENT FEES\nRegistration ends 9/30/24 = $50 + EVENT FEES\nLate Registration ends 10/31/24 = $75 + EVENT FEES\nVERY LATE REGISTRATION STARTS 11/21/24 = $100 + EVENT FEES \n***if you do not have a partner in 14 days\, you will move to the waitlist – when you find a partner\, we can move you back into the draw… \nThe ball is FRANKLIN X-40 \n\n\nAdditional Information\nALL ROUND ROBIN WITH PLAYOFFS OF THE TOP TEAMS \n**planned format\n4 & 5 & 6 teams in Pool/Round Robin – games are 1 to 15 win by 2\n7 & 8 & 9 teams in Pool/Round Robin – games are 1 to 11 win by 2\nAll lead in games (to the playoffs) are 1 to 15 win by 2\nBronze Matches 1 to 15 win by 2\nGold Matches are the players choice of 2 out of 3 to 11 win by 2 OR 1 to 15 win by 2 \nUSSP Senior events format is Age/Skill (5 year breaks) – no membership is required\, but if you have your USSP membership number in your profile\, you will get a $10 Refund \nThe “Under 50” Format is Skill/Age \n\n\nRefund Policy\nRefund Policy\nAll refunds will have a $15 fee before the end of registration Nov 15\, 2024 \nAny refund after that will be 50% of the fees paid. \nIf any event is cancelled due to weather there will be up to a 50% refund \nPickleball Is Great reserves the right to refuse service at anytime \n\n\nLinked\n\n\nBelow is a list of tournaments related to this one. Click on them to view details.\n2024 Arizona PIG Tournaments\n\n\n\n2024 Winter Classic presented by Center Court Pickleball Club Classic @ Gilbert Regional by PIG\nJanuary 11\, 2024\n\n\n\n\n\n\n\n\n\n2024 Tucson Winter Classic USSP & All Ages by PIG\nFebruary 1\, 2024\n\n\n\n\n\n\n\n\n\n2024 Fall More Bang for the Buck! @ GRP – ALL AGES + USSP Event by PIG\nNovember 29\, 2024\n\n\n\n\n\n\n\n\n\nPicklefest 2024 in Lake Havasu\nFebruary 23\, 2024\n\n\n\n\ngo to tourney \n\n\n\n\n2024 Robson Ranch Members Only Pickleball Tournament\nFebruary 26\, 2024\n\n\n\n\n\n\n\n\n\n2024 Robson Ranch Desert Slam 11th Annual Pickleball Tournament\nMarch 13\, 2024\n\n\n\n\n\n\n\n\n\n2024 March More Bang for the Buck! @ Arizona Athletic Grounds – USSP Event by PIG\nMarch 26\, 2024\n\n\n\n\n\n\n\n\n\n2024 Spring Classic @Gilbert Regional Park – USSP & ALL AGES by PIG\nApril 19\, 2024\n\n\n\n\n\n\n\n\n\nCore 4 Life 4th Annual Leroy Dewitt Pickleball Tournament by PIG\nJuly 31\, 2024\n\n\n\n\n\n\n\n  \n\n\nVenue Information\n\n\n\nGilbert Regional Park\n3005 e queen creek rd\nGilbert\nArizona 85298\nUnited States\nSurface Type: Tennis Hardcourt Surface\nPlay Area Type: Outdoor Non-Covered\nNet Type: Permanent\nBall Used: Franklin x-40\nNumber of Courts: 12\nParking: No Fee\nNo overnight parking\n\n\n\n\nDetails\n\n\n\nOfficiated Type→ None\n\n\n\n\nMax Events Per Registration→ 4\n\n\n\n\nCost Includes→ 0 Events\n\n\n\n\nGuaranteed Games Per Event→ 4\n\n\n\n\nAllow Pets→ No\n\n\n\n\nAllow Food→ No\n\n\n\n\nAllow Dish to Pass→ No\n\n\n\n\nAllow Grill→ No
URL:https://pickleballisgreat.com/tournament/2024-fall-more-bang-for-the-buck-grp-all-ages-ussp-event-by-pig/
ATTACH;FMTTYPE=image/jpeg:https://pickleballisgreat.com/wp-content/uploads/2024/09/1b2de5a2-936c-454d-a111-61bcc8dad59c_logo.jpg
END:VEVENT
BEGIN:VEVENT
DTSTART;VALUE=DATE:20241203
DTEND;VALUE=DATE:20241205
DTSTAMP:20260422T020420
CREATED:20241023T025007Z
LAST-MODIFIED:20241023T025007Z
UID:10000127-1733184000-1733356799@pickleballisgreat.com
SUMMARY:2024 Cowtown Senior Open Series (5) - a USSP Circuit Event by PIG
DESCRIPTION:Description\nRegister: https://pickleballbrackets.com/ptd.aspx?eid=bd0cadf3-06c2-43f9-8882-1c9351480761 \nINDOOR TOURNAMENT 18 HARDWOOD COURTS \nNo Membership in any association is required for registration. \nThis tournament is US Senior Pickleball approved. \nTo join USSP\, go to USSeniorPickleball.com\, only $20 per year. Multi-year payment discounts available. \nUSSP members will receive a $10 discount off the registration fee and are eligible for points and prizes. Go to the USSP website listed above for more information on the points system. \nRegistration fee is $65. Each event will cost $10. \nBrackets/Events will be round robin. Events with 8 or more teams may have pool play. Players are guaranteed 3 matches per event. More play for your money. MEDALS AWARDED FOR EACH AGE/SKILL GROUP. ALL EVENT BRACKET DETAILS ARE SUBJECT TO CHANGE BASED ON REGISTRATION. PLEASE REVIEW ONCE EVENTS HAVE BEEN VERIFIED. \n\n\nAdditional Information\nUSSP has a points system to award prizes to the top finishers each year. In the past\, prizes with a retail value of $20\,000 were awarded to the top 10-point winners in each age group for both men and women on an annual cycle. In 2024\, the prize points will begin in January and run through the end of December. \nNO CASH WILL BE AWARDED!!!!!!!! \n\n\nRefund Policy\nRefunds will be available up to 2 weeks before the tournament registration closing.\nAll refunds will be charged a $15 processing fee. Emergency refunds will be issued based on approval. \nTHERE WILL BE NO REFUNDS FOR WEATHER RELATED CANCELLATIONS. IN CASE OF WEATHER DELAYS\, AN ATTEMPT TO PLAY ALL MATCHES SCHEDULED FOR A DAY WILL BE MADE. \n\n\nVenue Information\n\n\n\nGame On Sports Complex\nBasketball Hardwood Courts\n2600 Alemeda ST\nFort Worth\nTexas 76108\nUnited States\nSurface Type: Hardwood\nPlay Area Type: Indoor Air Conditioned\nNet Type: Portable\nBall Used: Onyx Orange\nNumber of Courts: 18\nParking: No Fee\n\n\n\n\nDetails\n\n\n\nOfficiated Type→ Unique Per Event\n\n\n\n\nMax Events Per Registration→ 2\n\n\n\n\nCost Includes→ 0 Events\n\n\n\n\nGuaranteed Games Per Event→ 3\n\n\n\n\nAllow Pets→ No\n\n\n\n\nAllow Food→ No\n\n\n\n\nAllow Dish to Pass→ No\n\n\n\n\nAllow Grill→ No
URL:https://pickleballisgreat.com/tournament/2024-cowtown-senior-open-series-5-a-ussp-circuit-event-by-pig/
ATTACH;FMTTYPE=image/png:https://pickleballisgreat.com/wp-content/uploads/2024/10/bd0cadf3-06c2-43f9-8882-1c9351480761_logo.png
END:VEVENT
BEGIN:VEVENT
DTSTART;VALUE=DATE:20241205
DTEND;VALUE=DATE:20241208
DTSTAMP:20260422T020420
CREATED:20241024T031218Z
LAST-MODIFIED:20241103T220358Z
UID:10000128-1733356800-1733615999@pickleballisgreat.com
SUMMARY:2024 USSP National Championship - presented by Humana powered by Pickleball Is Great
DESCRIPTION:Description\nUSSP thanks our tournament partner\, Pickleball Is Great for providing operational support for the 2024 USSP National Championship presented by Humana powered by Pickleball Is Great. \nA special thank you to Humana for being the title sponsor for the USSP Championship Series of tournaments for 2024. \nRegister: https://pickleballbrackets.com/ptd.aspx?eid=3c985d00-2b30-4202-a98d-5963c4f3c0ca \nUSSP National Championship is an Age/Skill tournament for ages 50+. Events will be held for Men’s and Women’s singles and doubles as well as Mixed Doubles. After registration closes\, events will be split into 5-year age/skill groups for medaling purposes. Age groups/skill levels may be combined for bracketing. ALL EVENT BRACKET DETAILS ARE SUBJECT TO CHANGE BASED ON REGISTRATION. PLEASE REVIEW ONCE EVENTS HAVE BEEN VERIFIED. \nRegistration is $75\, plus $15 for each doubles event. Singles events are $20 each.\nUSSP/SSIPA members will receive a $10 discount IF the player has their USSP Membership number in the player profile in pickleballbrackets.com \nRegistration opens on July 1st\, 2024 and closes on November 15\, 2024. \nThis tournament is US Senior Pickleball approved. \nTo join USSP\, go to USSeniorPickleball.com\, only $20 per year. Multi-year payment discounts available. \nThe tournament will limit registration to 750 players\, or when the tournament director deems the day’s events are full. \nBrackets/Events will be round robin with pool play for events with large numbers of teams\, single elimination brackets to follow. Players are guaranteed 4 matches per event. More play for your money \n\n\nAdditional Information\nUSSP has a points system to award prizes to the top finishers each year (USSP members only). In the past\, prizes with a retail value of $20\,000 were awarded to the top 10-point winners in each age group for both men and women on an annual cycle. \nNo cash will be awarded. \n\n\nRefund Policy\nRefunds will be available up to 2 weeks before the tournament registration closing. All refunds will be charged a $15 processing fee. Emergency refunds will be issued based on documentation and tournament director approval. \n\n\nVenue Information\n\n\n\nPALM CREEK RESORT AND RESIDENCES\n1110 N Henness Rd\nCasa Grande\nArizona 85122\nUnited States\nSurface Type: Pickleball Hardcourt Surface\nPlay Area Type: Outdoor Non-Covered\nNet Type: Permanent\nBall Used: Franklin X-40\nNumber of Courts: 32\nParking: No Fee\nno overnight parking\n\n\n\n\nAmenities\n\n\n\nLodging\nDiscount lodging at Mainstay Suites\nPromo Code: pickleball champ\n851 N Verbena Henness Rd\nCasa Grande\nArizona 85122\nUnited States\nOur hotel is newly remodeled\, and all rooms have a king size bed\, and full kitchen. We also have a pool\, hot tub\, and fitness center on site.\nPlease phone 520-426-1177 and give them the promo code “pickleball champ” to get this special rate of $149.00+ tax for a single room\n\n\n\n\nDetails\n\n\n\nOfficiated Type→ Unique Per Event\n\n\n\n\nMax Events Per Registration→ 3\n\n\n\n\nCost Includes→ 0 Events\n\n\n\n\nGuaranteed Games Per Event→ 3\n\n\n\n\nAllow Pets→ No\n\n\n\n\nAllow Food→ Yes\n\n\n\n\nAllow Dish to Pass→ No\n\n\n\n\nAllow Grill→ No
URL:https://pickleballisgreat.com/tournament/2024-ussp-national-championship-presented-by-humana-powered-by-pickleball-is-great/
ATTACH;FMTTYPE=image/jpeg:https://pickleballisgreat.com/wp-content/uploads/2024/10/3c985d00-2b30-4202-a98d-5963c4f3c0ca_logo.jpg
END:VEVENT
BEGIN:VEVENT
DTSTART;VALUE=DATE:20241206
DTEND;VALUE=DATE:20241209
DTSTAMP:20260422T020420
CREATED:20240505T024332Z
LAST-MODIFIED:20240505T024332Z
UID:10000094-1733443200-1733702399@pickleballisgreat.com
SUMMARY:2024 WSC NW Holiday Classic by PIG
DESCRIPTION:Description\nFun Round Robin format WITH playoffs for Gold/Silver/Bronze for skills 3.0-5.0 in age events (under 50 & 50+). TD may combine brackets as needed to ensure quality play. \nRegister: https://pickleballbrackets.com/ptd.aspx?eid=df9cf951-724e-4f0f-91c1-4155412bb8cc \nBracket Formats \n3 teams/players (only if necessary\, we will try to combine any 3 team/player divisions with the closest age division possible)\n– Double-RR\, games 1 to 15\n– Top 2 teams advanced to Gold Medal match\, – Gold – 2/3 to 11 optional (one game to 15 win by 2 is an option as well\, if the decision of which format to play is not unanimous then a coin toss will decide the format)\n– 3rd place team automatically receives Bronze medal \n4 team bracket\n– Single RR\, games 1 to 15\n– Semi-final (all 4 teams) – 1 to 15\n– Bronze – 1 to 15\n– Gold – 2/3 to 11 optional (one game to 15 win by 2 is an option as well\, if the decision of which format to play is not unanimous then a coin toss will decide the format) \n5-6 team bracket\n– Single-RR\, games 1 to 15\n– Semi-final (top 4 teams) – 1 to 15\n– Bronze – 1 to 15\n– Gold – 2/3 to 11 optional (one game to 15 win by 2 is an option as well\, if the decision of which format to play is not unanimous then a coin toss will decide the format) \n7 team brackets\n– Single-RR\, games 1 to 11\n– Semi-final (top 4 teams) – 1 to 15\n– Bronze – 1 to 15\n– Gold – 2/3 to 11 optional (one game to 15 win by 2 is an option as well\, if the decision of which format to play is not unanimous then a coin toss will decide the format) \n8-9 team bracket\n– 2 pools\, Single-RR\, games 1 to 15\n– Semi-final (top 2 teams from each pool) – 1 to 15\n– Bronze – 1 to 15\n– Gold – 2/3 to 11 optional (one game to 15 win by 2 is an option as well\, if the decision of which format to play is not unanimous then a coin toss will decide the format) \n10-12 team bracket\n– 2 pools\, Single-RR\, games 1 to 15\n– Semi-final (top 2 teams from each pool) – 1 to 15\n– Bronze – 1 to 15\n– Gold – 2/3 to 11 optional (one game to 15 win by 2 is an option as well\, if the decision of which format to play is not unanimous then a coin toss will decide the format) \nRatings\nPlease make sure your rating is correct. Players have the sole responsibility to maintain their self-rating accurately in each division\, you will be put into the bracket indicated in your profile. \nWe do not use DUPR ratings as we have no easy way to cross-reference registered players with possible DUPR ratings. \nDUPR Results Submission – Results WILL NOT be submitted to DUPR. \nPlayers will self rate and cannot play lower than their USA Pickleball Tournament Player Rating (UTPR). Players may only play up in skill .5 from their profile rating. Tournament Director reserves the right to correct underrated players. \n\n\nAdditional Information\n12/6 Friday – Women’s Doubles\n12/7 Saturday – Mixed Doubles\n12/8 Sunday – Men’s Doubles \nIndoor Skill/Age tournament on tennis surface \n$15 per event fee. Payment is required to register – Prices will increase as we approach the event. \nPickleball Is Great reserves the right to refuse service at anytime. \n\n\nRefund Policy\n$15 Admin fee minimum for all withdrawals\nNo refunds after close of registration \nIf any event is cancelled due to weather there will be up to a 50% refund \n\n\nVenue Information\n\n\n\nWoodinville Sports Club\n15327 140th Pl NE\nWoodinville\nWashington 98072\nUnited States\nSurface Type: Tennis Hardcourt Surface\nPlay Area Type: Indoor\nNet Type: Portable\nBall Used: Franklin X40\nNumber of Courts: 8\nParking: No Fee\nNo overnight parking\n\n\n\n\nDetails\n\n\n\nOfficiated Type→ None\nMax Events Per Registration→ 4\n\n\n\n\nCost Includes→ 0 Events\n\n\n\n\nGuaranteed Games Per Event→ 3\n\n\n\n\nAllow Pets→ No\n\n\n\n\nAllow Food→ No\n\n\n\n\nAllow Dish to Pass→ No\n\n\n\n\nAllow Grill→ No
URL:https://pickleballisgreat.com/tournament/2024-wsc-nw-holiday-classic-by-pig/
ATTACH;FMTTYPE=image/jpeg:https://pickleballisgreat.com/wp-content/uploads/2024/05/df9cf951-724e-4f0f-91c1-4155412bb8cc_logo.jpg
END:VEVENT
BEGIN:VEVENT
DTSTART;VALUE=DATE:20241214
DTEND;VALUE=DATE:20241216
DTSTAMP:20260422T020420
CREATED:20241103T221519Z
LAST-MODIFIED:20241103T221519Z
UID:10000129-1734134400-1734307199@pickleballisgreat.com
SUMMARY:2024 Four Seasons Winter Blast by PIG
DESCRIPTION:Description\n2024 Four Seasons Winter Blast by PIG. Indoor venue with 6 dedicated permanent courts. \nhttps://fourseasonstexoma.com/ \nRegister: https://pickleballbrackets.com/ptd.aspx?eid=821bb646-3d6d-4e66-b6ca-6c1ad1a78116 \nRound Robin format (skill/age) WITH playoffs for Gold/Silver/Bronze for skills 3.0-4.5+. Age brackets will be determined following the close of registration but will strive to be close to under 50 & 50+ events. \nPlayers will self-rate and cannot play lower than their Pickleball Brackets Tournament Player Rating (PBR). Players may only play up in skill 1.0 from their profile rating. Tournament Director reserves the right to correct underrated players. \nIndoor play on 6 permanent courts on a tennis surface. \nUsing the Diadem Premier Power Pickleball (Neon) \nPickleball Is Great reserves the right to refuse service at anytime \n\n\nAdditional Information\nPayment is required to register – Standard registration $40 + $10/event through Nov 30th. Late Registration Dec 1st – Close of Registration $50 + $10/event. \nPartner must register within 7 days or be moved to the waitlist.\n(Age breaks based on registration\, but will strive to be close to under 50 & 50+) \nSaturday – Men’s Doubles & Women’s Doubles\nSunday – Mixed Doubles \nFormat:\nALL Round Robin with playoffs for Gold/Silver/Bronze. All games/matches are win by 2\nMost Round Robins are 1 to 15 but may change based on the number of players in the event. If an event has 7 or 8 teams\, round-robin matches will be 1 to 11 by 2.\nTop 4 teams go to the playoff (Lead in matches are 1 to 15 with the Gold Match with the option of 2/3-11w/2 or 1 to 15. Bronze Match 1 to 15.\nTD may combine brackets as needed to ensure quality play. \n\n\nRefund Policy\n$10 Admin fee minimum for all withdrawals\nNo refunds after close of registration\nIf any event is cancelled due to unforeseen circumstances\, there will be up to a 50% refund \n\n\nVenue Information\n\n\n\nFour Season Racquet Club\n4801 N FM 1417 Rd\nSherman\nTexas 75092\nUnited States\nSurface Type: Pickleball Hardcourt Surface\nPlay Area Type: Indoor\nNet Type: Portable\nBall Used: Diadem Premier Power\nNumber of Courts: 6\nParking: No Fee\n\n\n\n\nDetails\n\n\n\nOfficiated Type→ None\n\n\n\n\nMax Events Per Registration→ 2\n\n\n\n\nCost Includes→ 0 Events\n\n\n\n\nGuaranteed Games Per Event→ 3\n\n\n\n\nAllow Pets→ No\n\n\n\n\nAllow Food→ No\n\n\n\n\nAllow Dish to Pass→ No\n\n\n\n\nAllow Grill→ No
URL:https://pickleballisgreat.com/tournament/2024-four-seasons-winter-blast-by-pig/
ATTACH;FMTTYPE=image/png:https://pickleballisgreat.com/wp-content/uploads/2024/11/821bb646-3d6d-4e66-b6ca-6c1ad1a78116_logo-1.png
END:VEVENT
BEGIN:VEVENT
DTSTART;VALUE=DATE:20241219
DTEND;VALUE=DATE:20241223
DTSTAMP:20260422T020420
CREATED:20241103T224924Z
LAST-MODIFIED:20241103T224924Z
UID:10000130-1734566400-1734911999@pickleballisgreat.com
SUMMARY:2024 ETC Pickleball Smash by PIG
DESCRIPTION:Description\nPlayers needing partners and players who have not completed registration (haven’t paid yet) have 7 days to complete registration or secure a partner before they will be moved to the waitlist. \nRegister: https://pickleballbrackets.com/ptd.aspx?eid=4f4f3655-1e4f-43f9-b14d-957d7595aa91 \nRound Robin format (skill/age) WITH playoffs for Gold/Silver/Bronze for skills 3.0-5.0+. Age brackets will be determined following the close of registration\, but will strive to be close to under 35\, 35-49\, 50-59\, & 60+ events. \nPlayers will self rate and can not play lower than their Pickleball Brackets rating (PBR) or USA Pickleball Tournament Player Rating (UTPR). Players may only play up in skill .5 from their profile rating. Tournament Director reserves the right to correct underrated players. \nIndoor play on up to 16 temporary courts on a tennis surface \nUsing the Franklin X-40 ball\nPickleball Is Great reserves the right to refuse service at anytime \n\n\nAdditional Information\nThursday – Senior (50+/60+) Men’s Doubles / Women’s Singles\nFriday – Senior (50+/60+) Women’s Doubles / Men’s Singles\nSaturday – Men’s & Women’s Doubles (under 50 events)\nSunday – Mixed Doubles \nIndoor Skill/Age tournament on tennis surface \nEarly Registration $60 + $15/event through Aug 31\nStandard Registration $65 + $15/event Sept 1 – Nov 30\nLate Registration $75 + $15/event beginning Dec 1 \n$15 per event fee. Payment is required to register – Prices will increase as we approach the event. \nBracket Formats\nALL Round Robin with playoffs for Gold/Silver/Bronze. All games/matches are win by 2\nMost Round Robins are 1 to 15 but may change based on the number of players in the event.\nTop 4 teams go to the playoff (Lead in matches are 1 to 15 with the Gold Match with the option of 2/3-11w/2 or 1 to 15. Bronze Match 1 to 15.\nTD may combine brackets as needed to ensure quality play. \n\n\nRefund Policy\n$10 Admin fee minimum for all withdrawals\nNo refunds after close of registration \nIf any event is cancelled due to weather there will be up to a 50% refund \n\n\nVenue Information\n\n\n\nEastside Tennis Center\n10822 117th Pl NE\nKirkland\nWashington 98033\nUnited States\nSurface Type: Tennis Hardcourt Surface\nPlay Area Type: Indoor\nNet Type: Portable\nBall Used: Franklin X40\nNumber of Courts: 16\nParking: No Fee\n\n\n\n\nDetails\n\n\n\nOfficiated Type→ None\n\n\n\n\nMax Events Per Registration→ 4\n\n\n\n\nCost Includes→ 0 Events\n\n\n\n\nGuaranteed Games Per Event→ 3\n\n\n\n\nAllow Pets→ No\n\n\n\n\nAllow Food→ No\n\n\n\n\nAllow Dish to Pass→ No\n\n\n\n\nAllow Grill→ No
URL:https://pickleballisgreat.com/tournament/2024-etc-pickleball-smash-by-pig/
ATTACH;FMTTYPE=image/jpeg:https://pickleballisgreat.com/wp-content/uploads/2024/11/4f4f3655-1e4f-43f9-b14d-957d7595aa91_logo.jpg
END:VEVENT
BEGIN:VEVENT
DTSTART;VALUE=DATE:20241220
DTEND;VALUE=DATE:20241223
DTSTAMP:20260422T020420
CREATED:20241103T230751Z
LAST-MODIFIED:20241103T234656Z
UID:10000131-1734652800-1734911999@pickleballisgreat.com
SUMMARY:2024 Penguin Pickleball Party @ West Hills Racquet & Fitness Club by PIG
DESCRIPTION:Description\nRound Robin format (skill/age) WITH playoffs for Gold/Silver/Bronze for skills 3.0-4.5+. Age brackets will be determined following the close of registration\, but will strive to be close to under 50\, 50-59\, & 60+ events. \nRegister: https://pickleballbrackets.com/ptd.aspx?eid=33957e4e-b392-462a-b5ab-dd2c233b96a8 \nPayment is required to register – Early registration $45 + $15/event through Sept 30. Standard registration $60 + $15/event through Dec 11. After registration closes (beginning Dec 12)\, late registration will be $75 + $15/event. \nPartner must register within 7 days or be moved to the waitlist \n12/20 Friday – Women’s Doubles\n12/21 Saturday – Mixed Doubles\n12/22 Sunday – Men’s Doubles \nFREE HOT CHOCOLATE \n\n \n\nAdditional Information\nPlayers will self rate and can not play lower than their Pickleball Brackets rating (PBR) or USA Pickleball Tournament Player Rating (UTPR). Players may only play up in skill .5 from their profile rating. Tournament Director reserves the right to correct underrated players.\n***Player’s responsibility to maintain the accuracy of their current skill level in each event.*** \nIndoor play on up to 10 temporary courts on a tennis surface \nFormat:\nALL Round Robin with playoffs for Gold/Silver/Bronze. All games/matches are win by 2\nMost Round Robins are 1 to 15 but may change based on the number of players in the event. If an event has 7 or 8 teams\, round-robin matches will be 1 to 11 by 2.\nTop 4 teams go to the playoff (Lead in matches are 1 to 15 with the Gold Match with the option of 2/3-11 or 1 to 15. Bronze Match 1 to 15.\nTD may combine brackets as needed to ensure quality play. \nBrackets with 4 or more teams could take 4-5 hours to complete\, please plan accordingly \nUsing the Franklin X-40 ball\nPickleball Is Great reserves the right to refuse service at anytime \nThere is a daily player limit that may cause registration to stop with no notice for an event or the whole day. \n\n\nRefund Policy\n$10 Admin fee minimum for all withdrawals\nNo refunds after close of registration \nIf any event is cancelled due to weather there will be up to a 50% refund \n\n\nVenue Information\n\n\n\nWest Hills Racquet and Fitness Club\n2200 SW Cedar Hills Blvd\nPortland\nOregon 97225\nUnited States\nSurface Type: Tennis Hardcourt Surface\nPlay Area Type: Indoor\nNet Type: Portable\nBall Used: Franklin X40\nNumber of Courts: 10\nParking: No Fee\n\n\n\n\nDetails\n\n\n\nOfficiated Type→ Unique Per Event\n\n\n\n\nMax Events Per Registration→ 2\n\n\n\n\nCost Includes→ 0 Events\n\n\n\n\nGuaranteed Games Per Event→ 3\n\n\n\n\nAllow Pets→ No\n\n\n\n\nAllow Food→ No\n\n\n\n\nAllow Dish to Pass→ No\n\n\n\n\nAllow Grill→ No
URL:https://pickleballisgreat.com/tournament/2024-penguin-pickleball-party-west-hills-racquet-fitness-club-by-pig/
ATTACH;FMTTYPE=image/jpeg:https://pickleballisgreat.com/wp-content/uploads/2024/11/33957e4e-b392-462a-b5ab-dd2c233b96a8_logo.jpg
END:VEVENT
END:VCALENDAR