BEGIN:VCALENDAR
VERSION:2.0
PRODID:-//Pickleball Is Great - ECPv6.15.18//NONSGML v1.0//EN
CALSCALE:GREGORIAN
METHOD:PUBLISH
X-WR-CALNAME:Pickleball Is Great
X-ORIGINAL-URL:https://pickleballisgreat.com
X-WR-CALDESC:Events for Pickleball Is Great
REFRESH-INTERVAL;VALUE=DURATION:PT1H
X-Robots-Tag:noindex
X-PUBLISHED-TTL:PT1H
BEGIN:VTIMEZONE
TZID:UTC
BEGIN:STANDARD
TZOFFSETFROM:+0000
TZOFFSETTO:+0000
TZNAME:UTC
DTSTART:20240101T000000
END:STANDARD
END:VTIMEZONE
BEGIN:VEVENT
DTSTART;VALUE=DATE:20250110
DTEND;VALUE=DATE:20250111
DTSTAMP:20260422T005429
CREATED:20241106T033455Z
LAST-MODIFIED:20241106T033455Z
UID:10000138-1736467200-1736553599@pickleballisgreat.com
SUMMARY:2025 The Peoples Courts by PIG
DESCRIPTION:Description\nCome and experience “The People’s Courts” on our 7 permanent (5 indoor and 2 fully tented outdoor) courts. This is a Friday only (co-ed/gender neutral doubles) tournament. Skills 3.0 and 3.5 with age divisions; No age divisions for 4.0+ events \nRegister: https://pickleballbrackets.com/ptd.aspx?eid=813dc6bf-6981-439f-b3a4-8a01eab179c0 \nRound Robin format WITH playoffs for Gold/Silver/Bronze. \nFriday\, Jan 10 – Co-ed/Gender Neutral Doubles \nPlayers will self-rate and cannot play lower than their Pickleball Brackets Rating (PBR). Players may only play up in skill .5 from their profile rating. Tournament Director reserves the right to correct underrated players. \nUsing the Franklin X40 ball \n\n\nAdditional Information\nEarly flat rate registration $50 (through Nov 30)\nBeginning Dec 1\, registration will increase to flat rate $60\nAny registrations after the deadline will be $65 \nFormat:\nALL Round Robin with playoffs for Gold/Silver/Bronze. All games/matches are win by 2\nMost Round Robins are 1 to 15 but may change based on the number of players in the event. If an event has 7 or 8 teams\, round-robin matches will be 1 to 11 by 2.\nTop 4 teams go to the playoff (Lead in matches are 1 to 15 with the Gold Match with the option of 2/3-11w/2 or 1 to 15. Bronze Match 1 to 15. \nTD may combine brackets as needed to ensure quality play.\nTournament may close at any time if maximum daily numbers are met (even if some events appear to have openings) \n\n\nRefund Policy\nRefunds will have a $10 fee before the end of registration. \nNo refunds after Jan 2 deadline \nIf any event is cancelled due to weather there will be up to a 50% refund \n\n\nVenue Information\n\n\n\nThe People’s Courts\n2700 NE 82nd Ave\nPortland\nOregon 97220\nUnited States\nSurface Type: Tennis Hardcourt Surface\nPlay Area Type: Outdoor Non-Covered\nNet Type: Permanent & Portable\nBall Used: Franklin X40\nNumber of Courts: 7\nParking: No Fee\nNo overnight parking\n\n\n\n\nDetails\n\n\n\nOfficiated Type→ None\n\n\n\n\nMax Events Per Registration→ 1\n\n\n\n\nCost Includes→ 1 Events\n\n\n\n\nGuaranteed Games Per Event→ 3\n\n\n\n\nAllow Pets→ No\n\n\n\n\nAllow Food→ No\n\n\n\n\nAllow Dish to Pass→ No\n\n\n\n\nAllow Grill→ No
URL:https://pickleballisgreat.com/tournament/2025-the-peoples-courts-by-pig/
ATTACH;FMTTYPE=image/jpeg:https://pickleballisgreat.com/wp-content/uploads/2024/11/813dc6bf-6981-439f-b3a4-8a01eab179c0_logo.jpg
END:VEVENT
BEGIN:VEVENT
DTSTART;VALUE=DATE:20250118
DTEND;VALUE=DATE:20250121
DTSTAMP:20260422T005429
CREATED:20241104T005124Z
LAST-MODIFIED:20241104T010552Z
UID:10000132-1737158400-1737417599@pickleballisgreat.com
SUMMARY:2025 January PNW PIG Chase by PIG
DESCRIPTION:Description\nRound Robin format (skill/age) WITH playoffs for Gold/Silver/Bronze for skills 3.0-4.5+. Age brackets will be determined following the close of registration\, but will strive to be close to under 50\, 50-59\, & 60+ events. \nRegister: https://pickleballbrackets.com/ptd.aspx?eid=ede8c839-056f-4a0c-a607-f5baa55834d7 \nPlayers will self-rate and cannot play lower than their Pickleball Brackets Rating (PBR). Players may only play up in skill .5 from their profile rating. Tournament Director reserves the right to correct underrated players. \nIndoor play on up to 12 permanent pickleball courts \nUsing the Franklin X40 ball\nPickleball Is Great reserves the right to refuse service at anytime \n\n\nAdditional Information\nPayment is required to register – Early registration $45 + $15/event through Nov 30. Standard registration $60 + $15/event through Jan 9. After registration closes (beginning Jan 10)\, late registration will be $75 + $15/event. \nPartner must register within 7 days or be moved to the waitlist\n(Age breaks based on registration\, but will strive to be close to under 50\, 50+\, 60+) \nSaturday – Women’s Doubles / Men’s Singles (mini singles)\nSunday – Mixed Doubles\nMonday – Men’s Doubles / Women’s Singles (mini singles) \nFormat:\nALL Round Robin with playoffs for Gold/Silver/Bronze. All games/matches are win by 2\nMost Round Robins are 1 to 15 but may change based on the number of players in the event. If an event has 7 or 8 teams\, round-robin matches will be 1 to 11 by 2.\nTop 4 teams go to the playoff (Lead in matches are 1 to 15 with the Gold Match with the option of 2/3-11w/2 or 1 to 15. Bronze Match 1 to 15.\nTD may combine brackets as needed to ensure quality play.\nTournament may close at any time if maximum daily numbers are met (even if some events appear to have openings) \n\n\nRefund Policy\n$10 Admin fee minimum for all withdrawals\nNo refunds after close of registration \nIf any event is cancelled due to weather there will be up to a 50% refund \n\n\nVenue Information\n\n\n\nEast County Pickleball\n27100 Southeast Stark Street\nTroutdale\nOregon 97060\nUnited States\nSurface Type: Tennis Hardcourt Surface\nPlay Area Type: Indoor\nNet Type: Portable\nBall Used: Franklin X40\nNumber of Courts: 12\nParking: No Fee\n\n\n\n\n\nDetails\n\n\n\nOfficiated Type→ None\n\n\n\n\nMax Events Per Registration→ 3\n\n\n\n\nCost Includes→ 0 Events\n\n\n\n\nGuaranteed Games Per Event→ 3\n\n\n\n\nAllow Pets→ No\n\n\n\n\nAllow Food→ No\n\n\n\n\nAllow Dish to Pass→ No\n\n\n\n\nAllow Grill→ No
URL:https://pickleballisgreat.com/tournament/arizona-senior-olympics-nsga-qualifier-for-2025-des-moines-ia-2/
ATTACH;FMTTYPE=image/jpeg:https://pickleballisgreat.com/wp-content/uploads/2024/11/ede8c839-056f-4a0c-a607-f5baa55834d7_logo.jpg
END:VEVENT
BEGIN:VEVENT
DTSTART;VALUE=DATE:20250122
DTEND;VALUE=DATE:20250127
DTSTAMP:20260422T005429
CREATED:20241106T034115Z
LAST-MODIFIED:20241106T034115Z
UID:10000139-1737504000-1737935999@pickleballisgreat.com
SUMMARY:2025 Maui Pukaball Tournament @ Royal Lahaina Tennis Ranch by PIG
DESCRIPTION:Description\n10/30/24 3PM – We have officially found a new home for Pukaball to stay on Maui. Thank you to Ron @ USTA Hawaii for helping keep our event alive. It will be like 2018 with all temporary courts…with the option to expand to Kapalua if the demand is there. \nRegister: https://pickleballbrackets.com/ptd.aspx?eid=1d62fa8c-b187-4b44-920b-bcef03e28f16 \n2025 Maui Pukaball Tournament MOVED to Royal Lahaina Tennis Ranch\nhttps://www.ustahawaii.com/royal-lahaina-tennis-ranch \n****new this year $25 discount for any junior player****\n***new this year $10 discount for all players over 50 (If you are also a current USSP Member you will save an extra $10*** \nSENIOR FORMAT WEDNESDAY & THURSDAY ONLY – no membership requirement \n1/22/25 Wednesday – Senior ONLY Mixed Doubles (Age/Skill events)\n1/23/25 Thursday – Senior ONLY Men’s & Women’s Doubles (Age/Skill events)\n1/24/25 Friday Men’s & Women’s Doubles under 50 (Skill/Age events)\n1/25/26 Saturday Mixed Doubles under 50 (Skill/Age events)\n1/26/24 Sunday All Singles (Skill/Age events) ***RALLY SCORING*** \nVery Fun All Round Robin format WITH playoffs\n(non-sanctioned USA Pickleball) \nWe are using SELF ratings\, Please do NOT register below your published DUPR OR UTPR – we will move you up automatically \n(VERY IMPORTANT – IF YOUR ADDRESS IN YOUR PROFILE HAS A STATE OF HAWAII TAG THERE IS A $10 SAVINGS) \nTournament fees : \nDoubles events are $20 each\nSingles events (on Sunday) are $30 \nEarly Registration All August & September & October (starts 8/1) = $70\nRegistration All November = $75\nLate Registration December to January 15th = $95 \n***if you do not have a partner in 14 days\, you will move to the waitlist – when you find a partner\, we can move you back into the draw… \nThe ball is FRANKLIN X-40 \n\n\nAdditional Information\nALL ROUND ROBIN WITH PLAYOFFS OF THE TOP TEAMS \n**planned format\n4 & 5 teams in Pool/Round Robin – games are 1 to 15 win by 2\n6 & 7 teams in Pool/Round Robin – games are 1 to 11 win by 2\nAll lead in games (to the playoffs) are 1 to 15 win by 2\nBronze Matches 1 to 15 win by 2\nGold Matches are the players choice of 2 out of 3 to 11 win by 2 OR 1 to 15 win by 2 (EXCEPT FRIDAY) \nNo Clinics \nUSSP Senior Days are Wednesday & Thursday. Format is Age/Skill (5 year breaks) – no membership is required\, but if you have your USSP membership number in your profile\, you will get a $10 Refund.\nInstructions for adding your membership number to your profile – https://www.usseniorpickleball.com/pb-ussp-training \nThe “Under 50” Days are Saturday and Sunday. Format is Skill/Age \nSunday is for all Singles divisions — splits will be determined by registration. (RALLY SCORING & NOT USSP) \n\n\nWeather\n**BIG UPDATE -COMING VERY SOON** \n\n\nRefund Policy\nAll refunds will have a $15 fee before the end of registration January 15\, 2025 \nAny refund after that will be 50% of the fees paid. \nIf any event is cancelled due to weather there will be up to a 50% refund \nPickleball Is Great reserves the right to refuse service at anytime \n\n\nLinked\n\n\nBelow is a list of tournaments related to this one. Click on them to view details.\n2024/2025 Hawaii PIG Events\n\n\n\n2024 Maui Pukaball Tournament at Wailea Tennis Club by PIG – USSP Event\nJanuary 18\, 2024\n\n\n\n\ngo to tourney \n\n\n\n\n2024 Ambassador Cup @ Holua Racquet & Paddle by PIG\nMarch 7\, 2024\n\n\n\n\ngo to tourney \n\n\n\n\n2024 Hawaii Pacific Rim @ Holua Racquet & Paddle by PIG\nJune 21\, 2024\n\n\n\n\ngo to tourney \n\n\n\n\nKapalua Labor Day Classic\nAugust 30\, 2024\n\n\n\n\ngo to tourney \n\n\n\n\n2025 Maui Pukaball Tournament @ Royal Lahaina Tennis Ranch by PIG\nJanuary 22\, 2025\n\n\n\n\ngo to tourney \n\n\n  \n\n\nVenue Information\n\n\n\nRoyal Lahaina Tennis Ranch\n2780 Kekaa Dr\nLahaina\nHawaii 96761\nUnited States\nSurface Type: Pickleball Hardcourt Surface\nPlay Area Type: Outdoor Non-Covered\nNet Type: Portable\nBall Used: Franklin X-40\nNumber of Courts: 20\nParking: No Fee\nLOTS OF PARKING – INVITE YOUR FRIENDS\n\n\n\n\nAmenities\n\n\n\nLodging\nRoyal Lahaina Resort\nView Details\nPromo Code: USTA2025\n2780 Kekaa Dr\nLahaina\nHawaii 96761\nUnited States\nhttps://www.royallahaina.com/#/booking/step-1?promo=USTA2025\n\n\n\n\nDetails\n\n\n\nOfficiated Type→ Unique Per Event\n\n\n\n\nMax Events Per Registration→ 5\n\n\n\n\nCost Includes→ 0 Events\n\n\n\n\nGuaranteed Games Per Event→ 3\n\n\n\n\nAllow Pets→ No\n\n\n\n\nAllow Food→ No\n\n\n\n\nAllow Dish to Pass→ No\n\n\n\n\nAllow Grill→ No
URL:https://pickleballisgreat.com/tournament/2025-maui-pukaball-tournament-royal-lahaina-tennis-ranch-by-pig/
END:VEVENT
END:VCALENDAR