BEGIN:VCALENDAR
VERSION:2.0
PRODID:-//Pickleball Is Great - ECPv6.15.18//NONSGML v1.0//EN
CALSCALE:GREGORIAN
METHOD:PUBLISH
X-WR-CALNAME:Pickleball Is Great
X-ORIGINAL-URL:https://pickleballisgreat.com
X-WR-CALDESC:Events for Pickleball Is Great
REFRESH-INTERVAL;VALUE=DURATION:PT1H
X-Robots-Tag:noindex
X-PUBLISHED-TTL:PT1H
BEGIN:VTIMEZONE
TZID:UTC
BEGIN:STANDARD
TZOFFSETFROM:+0000
TZOFFSETTO:+0000
TZNAME:UTC
DTSTART:20240101T000000
END:STANDARD
END:VTIMEZONE
BEGIN:VTIMEZONE
TZID:America/Phoenix
BEGIN:STANDARD
TZOFFSETFROM:-0700
TZOFFSETTO:-0700
TZNAME:MST
DTSTART:20240101T000000
END:STANDARD
END:VTIMEZONE
BEGIN:VEVENT
DTSTART;VALUE=DATE:20250206
DTEND;VALUE=DATE:20250209
DTSTAMP:20260421T222245
CREATED:20241106T034628Z
LAST-MODIFIED:20241106T034628Z
UID:10000140-1738800000-1739059199@pickleballisgreat.com
SUMMARY:La Paz\, Baja\, Mexico - Come to play a SENIOR tournament\, stay to experience La Paz
DESCRIPTION:Description\nWe are proud to host the first annual Seniors Pickleball Tournament. This SSIPA tournament is for ages 50 and up. We are located just outside beautiful La Paz in El Centenario\, Baja California Sur\, Mexico. \nRegister: https://pickleballbrackets.com/ptd.aspx?eid=1dd4eb3e-6377-4603-b5b7-72250cad6ab7 \nRegistration Closes: January 15\, 2025 – Some groups/categories may close prior\, when the tournament committee deems the event is full. \nTournament Dates:\nThursday\, February 6\, 2025 – Women’s Doubles / Men’s Singles\nFriday\, February 7\, 2025 – Mixed Doubles + Fiesta\nSaturday\, February 8\, 2025 – Men’s Doubles / Women’s Singles\nSunday\, February 9\, 2025 – Funday \nThe tournament director reserves the right to review\, and possibly alter the rating of players who self-rate below or above their actual rating. The tournament director reserves the right to merge or split brackets based on event registration. \nIn doubles events\, at least one of the partners must be at the correct skill level. (based on the player’s rating on the day of registration) \nFORMAT\n1. Round Robin format by skill level and age brackets. \n2. The first 5 teams to complete registration will be entered into the event. In some cases\, the event may be expanded when other categories are folded. Your fully registered team must be listed on the waitlist to be considered. eg. (4.0 women ages 60-64). If the Tournament Director decides to expand the group to 8 teams\, the first 3 teams on the wait list will be admitted to the event. \n3. Age/skill events with fewer than 3 teams will not run. In some cases\, the Tournament Director may combine events (with another age/skill event) to form a merged event. (eg. 3.5 men ages 50-59)\n4. If two events are merged due to a lack of registrations\, only ONE set of medals/awards will be awarded \nSKILL LEVELS\n3.0\, 3.5\, 4.0\, 4.5 & 5.0 \nNote: 2.5 players can play in 3.0 events. \nAGE CATEGORIES\n50-54\, 55-59\, 60-64\, 65-69\, 70-74\, 75+ \nQUESTIONS: Send an email to pickleballisgreat@gmail.com (always preferred over phone) \n\n\nAdditional Information\nFORMAT\nRound Robin format\, one game to 15\, win by 2\, no cap \nPools of 4 or 5 teams. If only one pool – the top 4 teams advance to the medal round \nPLAYOFFS FORMAT AFTER ROUND ROBINS\n#1 vs #2 for Gold/Silver\, best 2 out of 3 to 11\, win by 2\, no cap\n#3 vs #4 for Bronze\, one game to 15\, win by 2\, no cap \nIn the case when there are pools of 8\, 10 or 12\, the top 2 teams from each pool advance to the\nmedal round \nPreliminary playoff: POOL A2 vs POOL B1\, POOL B2 vs POOL A1 \nWinners of preliminary playoff matches play for Gold/Silver\, best 2 out of 3 to 11\, win by 2\, no cap \nLosers of preliminary playoff matches play for Bronze\, one game to 15\, win by 2\, no cap \n\n\nRefund Policy\nAll refunds will have a $15 administrative fee\nRegistrants withdrawing after December 31\, 2024 may only receive a 50% refund \n\n\nVenue Information\n\n\n\nSan Juan Club Deportivo\, El Centenario\, La Paz\, Baja\, Mexico\n13k west of La Paz on Hwy\nEl Centenario\, La Paz\nBaja California Sur 23205\nMexico\nSurface Type: Pickleball Hardcourt Surface\nPlay Area Type: Outdoor Non-Covered\nNet Type: Permanent & Portable\nBall Used: Franklin X-40\nNumber of Courts: 13\nParking: No Fee\n\n\n\n\nDetails\n\n\n\nOfficiated Type→ None\n\n\n\n\nMax Events Per Registration→ 4\n\n\n\n\nCost Includes→ 0 Events\n\n\n\n\nGuaranteed Games Per Event→ 3\n\n\n\n\nAllow Pets→ No\n\n\n\n\nAllow Food→ No\n\n\n\n\nAllow Dish to Pass→ No\n\n\n\n\nAllow Grill→ No
URL:https://pickleballisgreat.com/tournament/la-paz-baja-mexico-come-to-play-a-senior-tournament-stay-to-experience-la-paz/
ATTACH;FMTTYPE=image/png:https://pickleballisgreat.com/wp-content/uploads/2024/11/1dd4eb3e-6377-4603-b5b7-72250cad6ab7_logo.png
END:VEVENT
BEGIN:VEVENT
DTSTART;VALUE=DATE:20250206
DTEND;VALUE=DATE:20250209
DTSTAMP:20260421T222245
CREATED:20250123T013001Z
LAST-MODIFIED:20250123T013800Z
UID:10000148-1738800000-1739059199@pickleballisgreat.com
SUMMARY:2025 Winter Classic @GRP
DESCRIPTION:Tournament Description\n\n\n\nWelcome to the next Pickleball Is Great event at Gilbert Regional Park. 16 individually fenced courts\n\nAll skill and ages welcome\n\nRegister: https://pickleballtournaments.com/tournaments/2025-winter-classic-at-grp-all-ages-ussp-event-by-pig\n\n\nUSSP Senior events are a Age/Skill format (5 year breaks) – no membership is required\, but if you have your USSP membership number in your profile\, you will get a $10 rebate/discount.\n\nInstructions for adding your membership number to your profile – https://www.usseniorpickleball.com/pb-ussp-training\n\n2/6/25 Thursday – Women’s Doubles + Men’s Singles\n2/7/24 Friday – Mixed Doubles\n2/8/24 Saturday – Men’s Doubles + Women’s Singles\n\n\nVery Fun All Round Robin format WITH playoffs\n(non-sanctioned USA Pickleball)\n\nWe are using DUPR or your self rating\n\nTournament fees :\nEarly Registration ends 12/31/24 = $50 + EVENT FEES\nRegistration ends 1/31/25 = $65 + EVENT FEES\nLate Registration starts 2/1/25 = $80 + EVENT FEES\n\n***if you do not have a partner in 14 days\, you will move to the waitlist – when you find a partner\, we can move you back into the draw…\n\nDoubles events are $15 each\nSingles events are $25 each\n\nThe ball is FRANKLIN X-40\n\nPickleball Is Great reserves the right to refuse service\n\n\n\n\n\nAdditional Information\n\n\n\nALL ROUND ROBIN WITH PLAYOFFS OF THE TOP TEAMS\n\n**planned format\n4 & 5 & 6 teams in Pool/Round Robin – games are 1 to 15 win by 2\n7 & 8 & 9 teams in Pool/Round Robin – games are 1 to 11 win by 2\nAll lead in games (to the playoffs) are 1 to 15 win by 2\nBronze Matches 1 to 15 win by 2\nGold Matches are the players choice of 2 out of 3 to 11 win by 2 OR 1 to 15 win by 2\n\nUSSP Senior events format is Age/Skill (5 year breaks) – no membership is required\, but if you have your USSP membership number in your profile\, you will get a $10 rebate/discount\n\nThe “Under 50” Format is Skill/Age\n\n\n\n\n\n\n\nRefund Policy\nAll refunds will have a $15 fee before the end of registration Feb 1\, 2025\n\nAny refund after that will be 50% of the fees paid.\n\nIf any event is cancelled due to weather there will be up to a 50% refund\n\n\nPickleball Is Great reserves the right to refuse service at anytime\n\n\n\n\n\n\nVenue Details\n\n\n\n\n\nGilbert Regional Park\n\n\n3005 e queen creek rd\nGilbert\, Arizona\, 85298\nUnited States\n\n\n\nParking Information\nParking Fee: No Fee\nNo overnight parking\n\n\n\nAmenities\n\n\nSurface Type: Tennis Hardcourt Surface\n\n\nNumber of courts: 12\n\n\nBall used: Franklin x-40\n\n\nPlay area type: Outdoor Non-Covered\n\n\nNet type: Portable
URL:https://pickleballisgreat.com/tournament/2025-winter-classic-grp/
ATTACH;FMTTYPE=image/webp:https://pickleballisgreat.com/wp-content/uploads/2025/01/5b83c8e7-8cb7-4f66-9fbc-a16694049ed8_Logo.webp
END:VEVENT
BEGIN:VEVENT
DTSTART;VALUE=DATE:20250215
DTEND;VALUE=DATE:20250218
DTSTAMP:20260421T222245
CREATED:20241104T011337Z
LAST-MODIFIED:20241104T011654Z
UID:10000133-1739577600-1739836799@pickleballisgreat.com
SUMMARY:2025 February PNW PIG Chase by PIG
DESCRIPTION:Description\nRound Robin format (skill/age) WITH playoffs for Gold/Silver/Bronze for skills 3.0-4.5+. Age brackets will be determined following the close of registration\, but will strive to be close to under 50\, 50-59\, & 60+ events. \nRegister: https://pickleballbrackets.com/ptd.aspx?eid=8c7d334e-ff45-421f-a116-68fe55de9c55 \nPlayers will self-rate and cannot play lower than their Pickleball Brackets Rating (PBR). Players may only play up in skill .5 from their profile rating. Tournament Director reserves the right to correct underrated players. \nIndoor play on up to 10 temporary courts on a tennis surface \nUsing the Franklin X40 Ball\nPickleball Is Great reserves the right to refuse service at anytime \n\n\nAdditional Information\nPayment is required to register – Early registration $45 + $15/event through Dec 31. Standard registration $60 + $15/event through Feb 5. After registration closes (beginning Feb 6)\, late registration will be $75 + $15/event. \nPartner must register within 7 days or be moved to the waitlist\n(Final age breaks based on registration\, but will strive to be close to under 50\, 50+\, 60+) \nSaturday – Women’s Doubles/Men’s Singles\nSunday – Mixed Doubles\nMonday – Men’s Doubles/Women’s Singles \nFormat:\nALL Round Robin with playoffs for Gold/Silver/Bronze. All games/matches are win by 2\nMost Round Robins are 1 to 15 but may change based on the number of players in the event. If an event has 7 or 8 teams\, round-robin matches will be 1 to 11 by 2.\nTop 4 teams go to the playoff (Lead in matches are 1 to 15 with the Gold Match with the option of 2/3-11w/2 or 1 to 15. Bronze Match 1 to 15.\nTD may combine brackets as needed to ensure quality play.\nTournament may close at any time if maximum daily numbers are met (even if some events appear to have openings) \n\n\nRefund Policy\n$10 Admin fee minimum for all withdrawals\nNo refunds after close of registration \nIf any event is cancelled due to weather there will be up to a 50% refund \n\n\nVenue Information\n\n\n\nClub Green Meadows\n7703 NE 72nd Av\nVancouver\nWashington 98661\nUnited States\nSurface Type: Tennis Hardcourt Surface\nPlay Area Type: Indoor\nNet Type: Portable\nBall Used: Franklin X40\nNumber of Courts: 10\nParking: No Fee\n\n\n\n\nDetails\n\n\n\nOfficiated Type→ None\n\n\n\n\nMax Events Per Registration→ 3\n\n\n\n\nCost Includes→ 0 Events\n\n\n\n\nGuaranteed Games Per Event→ 3\n\n\n\n\nAllow Pets→ No\n\n\n\n\nAllow Food→ No\n\n\n\n\nAllow Dish to Pass→ No\n\n\n\n\nAllow Grill→ No
URL:https://pickleballisgreat.com/tournament/2025-february-pnw-pig-chase-by-pig/
ATTACH;FMTTYPE=image/jpeg:https://pickleballisgreat.com/wp-content/uploads/2024/11/8c7d334e-ff45-421f-a116-68fe55de9c55_logo.jpg
END:VEVENT
BEGIN:VEVENT
DTSTART;VALUE=DATE:20250218
DTEND;VALUE=DATE:20250220
DTSTAMP:20260421T222245
CREATED:20250130T222344Z
LAST-MODIFIED:20250130T222344Z
UID:10000162-1739836800-1740009599@pickleballisgreat.com
SUMMARY:2025 Cowtown Senior Open Series (1) - a USSP Circuit Event by PIG
DESCRIPTION:Tournament Description\n\n\n\n2025 Cowtown Senior Open Series (1)\n\nINDOOR TOURNAMENT – 18 HARDWOOD COURTS\n\n\nRegister: https://pickleballtournaments.com/tournaments/2025-cowtown-senior-open-series-1-a-ussp-circuit-event-by-pig-1\n\n\nNo membership in any association is required for registration.\n\nAll paddles must be USAP sanctioned tournament approved.\n\nhttps://equipment.usapickleball.org/paddle-list/\n\nThis tournament is US Senior Pickleball approved.\nTo join USSP\, go to USSeniorpickleball.com\, only $20 per year. Multi-year payment discounts available.\n\nUSSP members will receive a $10 discount off the registration fee and are eligible for points and prizes. Go to the USSP website listed above for more information on the points system. Your membership number must be linked in your pickleballbrackets.com profile to receive the discount at time of registration.\n\nRegistration fee is $65. Each event will cost $10\n\nBrackets/Events will be Round Robin followed with Playoffs to the top 3-4 teams. Events with 10 or more teams may have pool play with playoffs\, top 2 from each pool. Players are guaranteed 4 matches per event. More play for your money. MEDALS AWARDED FOR EACH AGE/SKILL GROUP. ALL EVENT BRACKET DETAILS ARE SUBJECT TO CHANGE BASED ON REGISTRATION. PLEASE REVIEW ONCE EVENTS HAVE BEEN VERIFIED.\n\n\n\n\n\nAdditional Information\n\n\n\nUSSP has a points system to award prizes to the top finishers each year. In the past prizes with a retail value of $20\,000 were awarded to the top 10-point winners in each age group for both men and women on an annual cycle. In 2025\, the prize points will begin in January and run through the end of December.\n\nNO CASH WILL BE AWARDED!!!!\n\nhttps://www.gameonfw.com/hotelpartners-preview\n\n\n\n\n\nRefund Policy\n\n\n\nRefunds will be available up to 2 weeks before the tournament registration closing.\nAll refunds will be charged a $15 processing fee. Emergency refunds will be issued based on approval.\n\nTHERE WILL BE NO REFUNDS FOR WEATHER RELATED CANCELLATIONS. IN CASE OF WEATHR DEALYS\, AN ATTEMPT TO PLAY ALL MATCHES SCHEDULED FOR A DAY WILL BE MADE\n\n\n\n\n\n\nVenue Details\n\n\n\n\n\nGame On Sports Complex\n\n\n2600 Alemeda St\nFort Worth\, Texas\, 76108\nUnited States\n\n\n\nParking Information\nParking Fee: No Fee\n\n\n\nAmenities\n\n\nSurface Type: Hardwood\n\n\nNumber of courts: 18\n\n\nBall used: Onix\n\n\nPlay area type: Indoor Air Conditioned\n\n\nNet type: Portable\n\n\nBall website: Click here
URL:https://pickleballisgreat.com/tournament/2025-cowtown-senior-open-series-1-a-ussp-circuit-event-by-pig/
ATTACH;FMTTYPE=image/jpeg:https://pickleballisgreat.com/wp-content/uploads/2025/01/Cowtown.jpg
END:VEVENT
BEGIN:VEVENT
DTSTART;VALUE=DATE:20250221
DTEND;VALUE=DATE:20250224
DTSTAMP:20260421T222245
CREATED:20241106T021857Z
LAST-MODIFIED:20241106T022039Z
UID:10000137-1740096000-1740355199@pickleballisgreat.com
SUMMARY:Washington Frosty Frenzy by PIG
DESCRIPTION:Description\nFun Round Robin format WITH playoffs for Gold/Silver/Bronze for skills 3.0-4.5+. Age brackets to be determined by registration but similar to (under 60\, 60+). TD may combine brackets as needed to ensure quality play. \nRegister: https://pickleballbrackets.com/ptd.aspx?eid=f0a9283a-b219-4b41-a11b-6d97b0c283cb \nPlayers will self rate and cannot play lower than their PickleballBrackets Rating (PBR) or USA Pickleball Tournament Player Rating (UTPR). Players may only play up in skill .5 from their profile rating. Tournament Director reserves the right to correct underrated players. \n\n\nAdditional Information\nPayment is required to register – Early registration $45 + event fees through Nov 30. Standard registration $65 + event fees through Feb 12. Beginning Feb 13 late registration will be $75 + event fees \nPartner must register within 7 days or be moved to the waitlist\nAge brackets to be determined by registration but similar to (under 60\, 60+) \nFriday – Women’s Doubles / Men’s Singles (full court)\nSaturday – Mixed Doubles\nSunday – Men’s Doubles / Women’s Singles (full court) \nFormat:\nALL Round Robin with playoffs for Gold/Silver/Bronze. All games/matches are win by 2\nMost Round Robins are 1 to 15 but may change based on the number of players in the event. If an event has 7 or 8 teams\, round-robin matches will be 1 to 11 by 2.\nTop 4 teams go to the playoff (Lead in matches are 1 to 15 with the Gold Match with the option of 2/3-11w/2 or 1 to 15. Bronze Match 1 to 15.\nTD may combine brackets as needed to ensure quality play. \nSkill/Age tournament on tennis surface. \nRegistration may close at any time if daily or tournament numbers are met. Even if specific events do not meet their max. \n\n\nRefund Policy\n$10 Admin fee minimum for all withdrawals \nIf any event is cancelled due to weather\, there will be up to a 50% refund\nDeadline is 2/12/25 for any refund \n\n\nVenue Information\n\n\n\nParkfit Athletic Club @North Park\n8121 N Division St\nSpokane\nWashington 99208\nUnited States\nSurface Type: Tennis Hardcourt Surface\nPlay Area Type: Indoor\nNet Type: Portable\nBall Used: Selkirk Pro S1\nNumber of Courts: 16\nParking: No Fee\n\n\n\n\nDetails\n\n\n\nOfficiated Type→ None\n\n\n\n\nMax Events Per Registration→ 3\n\n\n\n\nCost Includes→ 0 Events\n\n\n\n\nGuaranteed Games Per Event→ 3\n\n\n\n\nAllow Pets→ No\n\n\n\n\nAllow Food→ No\n\n\n\n\nAllow Dish to Pass→ No\n\n\n\n\nAllow Grill→ No
URL:https://pickleballisgreat.com/tournament/washington-frosty-frenzy-by-pig/
ATTACH;FMTTYPE=image/jpeg:https://pickleballisgreat.com/wp-content/uploads/2024/11/f0a9283a-b219-4b41-a11b-6d97b0c283cb_logo.jpg
END:VEVENT
BEGIN:VEVENT
DTSTART;VALUE=DATE:20250222
DTEND;VALUE=DATE:20250224
DTSTAMP:20260421T222245
CREATED:20241106T035145Z
LAST-MODIFIED:20241106T035145Z
UID:10000141-1740182400-1740355199@pickleballisgreat.com
SUMMARY:2025 UVTC Winter Jam by PIG
DESCRIPTION:Description\nRound Robin format (skill/age) WITH playoffs for Gold/Silver/Bronze for skills 3.0-4.5+. Age brackets will be determined following the close of registration\, but will strive to be close to under 50\, 50-59\, & 60+ events. \nRegister: https://pickleballbrackets.com/ptd.aspx?eid=6b3b14fd-b61f-4544-81a8-ec4416e3e0ac \nPlayers will self-rate and cannot play lower than their Pickleball Brackets Rating (PBR). Players may only play up in skill .5 from their profile rating. Tournament Director reserves the right to correct underrated players. \nIndoor play (Skill/Age) on up to 15 temporary courts on a tennis surface \nUsing the Selkirk Pro S1 Ball\nPickleball Is Great reserves the right to refuse service at anytime \n\n\nAdditional Information\nEarly registration $40 + $15/event through Dec 15. Standard registration $55 + $15/event through Feb 13. After registration closes (beginning Feb 14)\, late registration will be $70 + $15/event. \nSaturday – Men’s & Women’s Doubles\nSunday – Mixed Doubles \nPartner must register within 7 days or be moved to the waitlist\n(Age breaks based on registration\, but will strive to be close to under 50\, 50+\, 60+) \nFormat:\nALL Round Robin with playoffs for Gold/Silver/Bronze. All games/matches are win by 2\nMost Round Robins are 1 to 15 but may change based on the number of players in the event. If an event has 7 or 8 teams\, round-robin matches will be 1 to 11 by 2.\nTop 4 teams go to the playoff (Lead in matches are 1 to 15 with the Gold Match with the option of 2/3-11w/2 or 1 to 15. Bronze Match 1 to 15. \nTD may combine brackets as needed to ensure quality play.\nTournament may close at any time if maximum daily numbers are met (even if some events appear to have openings) \n\n\nRefund Policy\n$10 Admin fee minimum for all withdrawals \nIf any event is cancelled due to weather\, there will be up to a 50% refund\nDeadline is 2/14/25 for any refund \n\n\nVenue Information\n\n\n\nUmpqua Valley Tennis Center\n1201 NW Stewart Parkway\nRoseburg\nOregon 97471\nUnited States\nSurface Type: Tennis Hardcourt Surface\nPlay Area Type: Indoor\nNet Type: Portable\nBall Used: Selkirk Pro S1\nNumber of Courts: 16\nParking: No Fee\n\n\n\n\nDetails\n\n\n\nOfficiated Type→ None\n\n\n\n\nMax Events Per Registration→ 2\n\n\n\n\nCost Includes→ 0 Events\n\n\n\n\nGuaranteed Games Per Event→ 3\n\n\n\n\nAllow Pets→ No\n\n\n\n\nAllow Food→ No\n\n\n\n\nAllow Dish to Pass→ No\n\n\n\n\nAllow Grill→ No
URL:https://pickleballisgreat.com/tournament/2025-uvtc-winter-jam-by-pig/
ATTACH;FMTTYPE=image/jpeg:https://pickleballisgreat.com/wp-content/uploads/2024/11/6b3b14fd-b61f-4544-81a8-ec4416e3e0ac_logo.jpg
END:VEVENT
BEGIN:VEVENT
DTSTART;VALUE=DATE:20250228
DTEND;VALUE=DATE:20250303
DTSTAMP:20260421T222245
CREATED:20250123T161630Z
LAST-MODIFIED:20250123T161630Z
UID:10000151-1740700800-1740959999@pickleballisgreat.com
SUMMARY:Picklefest 2025 in Lake Havasu
DESCRIPTION:Tournament Description\n\n\n\nThe eleventh annual Picklefest brought to you by the Lake Havasu City Pickleball Association (LHCPBA) (A registered 501(c)7 non-profit dedicated to the enjoyment and growth of Pickleball.)\n\n\nRegister: https://pickleballisgreat.com/?post_type=tribe_events&p=4664&preview=true\n\n\nAll divisions will be a Round Robin format WITH playoffs\n\n2/28 Friday = Women’s Doubles plus Men’s Mini Singles\n3/1 Saturday = Mixed Doubles\n3/2 Sunday = Men’s Doubles plus Women’s Mini Singles\n\n\nThis is a Skill/Age tournament Skills (3.0 to 4.5+) / Age groups (12-49\, 50 to 64\, & 65+)\n\nPlayers cannot play lower than their DUPR or self-rating. Tournament Director reserves the right to correct underrated players.\n\nIf you note a player playing lower than their skill rating\, please use the contact tourney button above to let the tournament director know.\n\nDUPR will be used for this tournament.\n\n\n\n\n\nAdditional Information\n\n\n\nThis is a fundraiser tournament for the Lake Havasu City Pickleball Association (LHCPBA) as a registered 501(c)7 non-profit dedicated to the enjoyment and growth of Pickleball in Lake Havasu City area\n\nPayment is required to register – per player\n2024 = $65 (includes 1 doubles event) additional doubles event $15\n2025 = $80 (Includes 1 doubles event) additional doubles event $15\nAll mini singles event fees are $30 each\n\nFormat:\nALL Round Robin with playoffs for Gold/Silver/Bronze. All games/matches are win by 2\nMost Round Robins are 1 to 15 but may change based on the number of players in the event. If an event has 7 or 8 teams\, round-robin matches will be 1 to 11 by 2.\n\nMini Singles events will be 1 to 11 win by 2 with more than 5 players\n\nTop 4 teams go to the playoff (Lead in matches are 1 to 15 with the Gold Match with the option of 2/3-11w/2 or 1 to 15. Bronze Match 1 to 15.\n\nThe Tournament Director reserves the right to adjust the format of play.\nTournament may close at any time if maximum daily numbers are met (even if some events appear to have openings)\n\nReferees are only “Volunteer”\n\n\n\n\n\nRefund Policy\n\n\n\nRefunds will have a $15 fee before the end of registration February 15\, 2025\n\nIf any event is cancelled due to weather there will be up to a 50% refund\n\nWe reserve the right to refuse service at anytime.\n\n\n\n\n\n\nVenue Details\n\n\n\n\n\nDick Samp Memorial Park\n\n\n1628 Avalon Ave\nLake Havasu\, Arizona\, 86404\nUnited States\n\n\n\nParking Information\nParking Fee: No Fee\nNo overnight parking allowed\n\n\n\nAmenities\n\n\nSurface Type: Pickleball Hardcourt Surface\n\n\nNumber of courts: 16\n\n\nPlay area type: Outdoor Non-Covered\n\n\nNet type: Portable
URL:https://pickleballisgreat.com/tournament/picklefest-2025-in-lake-havasu/
ATTACH;FMTTYPE=image/jpeg:https://pickleballisgreat.com/wp-content/uploads/2025/01/Lake-Havasu-logo.jpg
END:VEVENT
END:VCALENDAR