BEGIN:VCALENDAR
VERSION:2.0
PRODID:-//Pickleball Is Great - ECPv6.15.18//NONSGML v1.0//EN
CALSCALE:GREGORIAN
METHOD:PUBLISH
X-WR-CALNAME:Pickleball Is Great
X-ORIGINAL-URL:https://pickleballisgreat.com
X-WR-CALDESC:Events for Pickleball Is Great
REFRESH-INTERVAL;VALUE=DURATION:PT1H
X-Robots-Tag:noindex
X-PUBLISHED-TTL:PT1H
BEGIN:VTIMEZONE
TZID:America/Chicago
BEGIN:DAYLIGHT
TZOFFSETFROM:-0600
TZOFFSETTO:-0500
TZNAME:CDT
DTSTART:20250309T080000
END:DAYLIGHT
BEGIN:STANDARD
TZOFFSETFROM:-0500
TZOFFSETTO:-0600
TZNAME:CST
DTSTART:20251102T070000
END:STANDARD
BEGIN:DAYLIGHT
TZOFFSETFROM:-0600
TZOFFSETTO:-0500
TZNAME:CDT
DTSTART:20260308T080000
END:DAYLIGHT
BEGIN:STANDARD
TZOFFSETFROM:-0500
TZOFFSETTO:-0600
TZNAME:CST
DTSTART:20261101T070000
END:STANDARD
BEGIN:DAYLIGHT
TZOFFSETFROM:-0600
TZOFFSETTO:-0500
TZNAME:CDT
DTSTART:20270314T080000
END:DAYLIGHT
BEGIN:STANDARD
TZOFFSETFROM:-0500
TZOFFSETTO:-0600
TZNAME:CST
DTSTART:20271107T070000
END:STANDARD
END:VTIMEZONE
BEGIN:VTIMEZONE
TZID:America/Los_Angeles
BEGIN:DAYLIGHT
TZOFFSETFROM:-0800
TZOFFSETTO:-0700
TZNAME:PDT
DTSTART:20250309T100000
END:DAYLIGHT
BEGIN:STANDARD
TZOFFSETFROM:-0700
TZOFFSETTO:-0800
TZNAME:PST
DTSTART:20251102T090000
END:STANDARD
BEGIN:DAYLIGHT
TZOFFSETFROM:-0800
TZOFFSETTO:-0700
TZNAME:PDT
DTSTART:20260308T100000
END:DAYLIGHT
BEGIN:STANDARD
TZOFFSETFROM:-0700
TZOFFSETTO:-0800
TZNAME:PST
DTSTART:20261101T090000
END:STANDARD
BEGIN:DAYLIGHT
TZOFFSETFROM:-0800
TZOFFSETTO:-0700
TZNAME:PDT
DTSTART:20270314T100000
END:DAYLIGHT
BEGIN:STANDARD
TZOFFSETFROM:-0700
TZOFFSETTO:-0800
TZNAME:PST
DTSTART:20271107T090000
END:STANDARD
END:VTIMEZONE
BEGIN:VEVENT
DTSTART;VALUE=DATE:20260731
DTEND;VALUE=DATE:20260803
DTSTAMP:20260422T005415
CREATED:20251228T204411Z
LAST-MODIFIED:20260325T201530Z
UID:10000334-1785456000-1785715199@pickleballisgreat.com
SUMMARY:*NEW DATE* 2026 MISSOURI Powerball Amateur Pickleball Championships powered by Carvana PPA Tour & PIG
DESCRIPTION:Tournament Description\nEmpty heading\n\n\n**new dates 7/30/26 – 8/2/26**\n\n\n\n“Amateur Pickleball State Championship Series” powered by the Carvana PPA Tour! \nRegister: https://pickleballtournaments.com/tournaments/new-date-2026-powerball-missouri-amateur-pickleball-championships-powered-by-carvana-ppa-tour-and-pig\n\nWhich state has the best pickleball players in 2026?\n\nThe answer will be revealed soon with a set of tournaments conducted across all 50 states. Come to the World Championships where the Champions Division will feature all the medalists from each division nationwide battling against each other for pickleball supremacy.\n\nWhy should I play in the Amateur Pickleball State Championship Series?\n\nParticipating in the Amateur Pickleball State Championship Series powered by the Carvana PPA Tour offers players a unique and thrilling opportunity to showcase their skills on a bigger stage\, contributing to the vibrant and growing pickleball community.\n\nThe series\, spanning all 50 states\, provides an inclusive platform for players of varying ages and skill levels to engage in spirited competition while fostering camaraderie among enthusiasts across the nation.\n\nThe prospect of earning a coveted spot in the year-end World Championships in Dallas\, TX adds an extra layer of excitement and motivation. The Champions Division brings together the best players from across the world\, offering a grand stage for the ultimate showdown and the quest for pickleball supremacy.\n\nChampions Division\nParticipants who secure skill-level gold at a state championship are eligible for a complimentary registration fee to the 2026 Worlds Championship. This exclusive offer recognizes and rewards excellence in the Champions Division and ensures the best possible competition.\n\nGold: Free Registration\nSilver: 50% off Registration\nBronze: 25% Registration\n\nDivisions Offered\nWe are excited to offer a range of divisions to cater to players of varying age groups and skill levels:\n\nSkill Levels: 3.0\, 3.5\, 4.0\, 4.5\, 5.0\nAge Groups: 18U\, 19+\, 35+\, 50+\, 60+\, 70+\nPlaying Divisions: MD\, WD\, MXD\, MS\, WS\n\nRegistration Starts\n\nRegistration (until June 30) = $65 + event fees\nLate Registration after July 1st = $80+ event fees\n\nAll Doubles Events are $20 each\nAll Singles Events are $35 each\n\nSee Less\n\n\nAdditional Information\nEmpty heading\n\n\n“DUPR” REQUIRED for all players\nPlayers will utilize “DUPR” rating from their player profile\n\n****new line up****\nFriday\, July 31- Women’s & Men’s Singles\nSaturday\, August 1 – Women’s & Men’s Doubles\nSunday\, August 2 – Mixed Doubles \n\n\nRegister: https://pickleballtournaments.com/tournaments/new-date-2026-powerball-missouri-amateur-pickleball-championships-powered-by-carvana-ppa-tour-and-pig\n\n\nFormat:\nALL Round Robin with playoffs for Gold/Silver/Bronze. All games/matches are win by 2\nMost Round Robins will be 1 to 15 but may change based on the number of players in the event. If an event has 7 or 8 teams\, round-robin matches will be 1 to 11 by 2.\n\nTop 4 teams go to the playoff (Lead in matches are 1 to 15 with the Gold Match with the option of 2/3-11w/2 or 1 to 15. Bronze Match 1 to 15.\n\nTD may combine brackets as needed to ensure quality play.\nTournament may close at any time if maximum daily numbers are met (even if some events appear to have openings)\n\n\nSaturday\, March 29 – Men’s Doubles / Women’s Singles\n\n\n\n\n\nFormat:\nALL Round Robin with playoffs for Gold/Silver/Bronze. All games/matches are win by 2\nMost Round Robins will be 1 to 15 but may change based on the number of players in the event. If an event has 7 or 8 teams\, round-robin matches will be 1 to 11 by 2.\n\nTop 4 teams go to the playoff (Lead in matches are 1 to 15 with the Gold Match with the option of 2/3-11w/2 or 1 to 15. Bronze Match 1 to 15.\n\nTD may combine brackets as needed to ensure quality play.\nTournament may close at any time if maximum daily numbers are met (even if some events appear to have openings)\n\n\n\n\nRefund Policy\n\n\nCANCELLATION DEADLINE: 7/18/26\nIf you withdraw before the CANCELLATION DEADLINE above\, you will be issued a refund (with a $20 processing fee deducted). Refunds will be issued at the conclusion of the tournament.\n\n\n\n\n\n\nVenue Details\n\n\n\n\nArch Pickleball & Badminton Club\n\n\n11333 Blake Drive\nBridgeton\, Missouri\, 63044\nUnited States\n\n\n\nParking Information\nParking Fee: No Fee\n\n\n\nAmenities\n\n\nSurface Type: Tennis Hardcourt Surface\n\n\nNumber of courts: 24\n\n\nBall used: Franklin X40\n\n\nPlay area type: Indoor Air Conditioned\n\n\nNet type: Permanent\n\n\nBall website: Click here
URL:https://pickleballisgreat.com/tournament/2026-missouri-amateur-pickleball-championships-powered-by-carvana-ppa-tour-pig/
ATTACH;FMTTYPE=image/webp:https://pickleballisgreat.com/wp-content/uploads/2026/02/Powerball-State-Championship-Series.webp
END:VEVENT
BEGIN:VEVENT
DTSTART;VALUE=DATE:20260731
DTEND;VALUE=DATE:20260803
DTSTAMP:20260422T005415
CREATED:20260204T000130Z
LAST-MODIFIED:20260204T000130Z
UID:10000368-1785456000-1785715199@pickleballisgreat.com
SUMMARY:2026 USSP North Regional Championship - Pickleball Kingdom - Madison - presented by Humana
DESCRIPTION:Tournament Description\n\n\nUSSP thanks Humana as our partner in the US Senior Championship Series for 2026. We would also like to thank our host Pickleball Kingdom – Sun Prairie! This is an indoor facility with a tennis court surface for play.\n\nTo join USSP\, go to USSeniorPickleball.com\, only $20 per year. Multi-year payment discounts available. USSP members will receive a $10 member discount.\n\nEarly Registration is $65\, plus $20 for each event; February & March\nLate Registration is $80\, plus $20 for each event in April until close of registration. \nRegister: https://pickleballtournaments.com/tournaments/2026-ussp-north-regional-championship-pickleball-kingdom-madison-presented-by-humana\n\nThis is a USSP event and players will register with their USSP member rating. If no rating is available\,\nplayers will register with their DUPR or self-rating. Prior to the tournament start\, all ratings will be verified\nand players may be moved to the appropriate bracket if necessary\n\nThis is a QUALIFIER for the US Senior Pickleball 2026 National Championship. You MUST be a USSP member to play in the 2026 USSP National Championship.\n\nFriday 7/31/2026 Women’s Doubles + Men’s Singles\nSaturday 8/01/2026 Mixed Doubles\nSunday 8/02/2026 Men’s Doubles + Women’s Singles\n\nUSSP AND Pickleball Kingdom – Sun Prairie reserve the right to refuse service at any time\n\n\n\n\nAdditional Information\n\n\nFormat Details:\n\nMASTERS DIVISIONS (50+55+60+)\n50 – 64 / 3 team brackets will play a double round robin and not lead into playoffs. Medals awarded based on results. Games are 2 of 3 to 11 win by 2\n50 – 64 / 4\, 5 & 6 team brackets will play a straight round robin. 1 game to 15 win by 2. The top 4 teams will move forward. 1 vs 4 and 2 vs 3. Games to 15 win by 2 The winners will play for gold/silver and losers play for bronze. The gold/silver will be best 2 of 3 to 11 win by 2 and the bronze match will be 1 game to 15 win by 2.\n50 – 64 / 7\, 8 & 9 team brackets will play a straight round robin\, 1 game to 11 win by 2. The top 4 teams will move forward. 1 vs 2 for gold/silver – will be best 2 of 3 to 11 win by 2\, and 3 vs 4 for bronze with 1 game to 15 win by 2.\n50 – 64 / 10+ teams will play pool play. 1 game to 15 win by 2. The top 2 teams from each pool will move forward. 1 vs 2 and 2 vs 1 will play 1 game to 15 win by 2. The winners will play for gold/silver – will be best 2 of 3 to 11 win by 2 and the losers will play for bronze 1 game to 15 win by 2.\n\nLEGENDS DIVISION(65+.70+75+80+)\n65 – 80+ / 3 team brackets will play a double round robin and not lead into playoffs. Medals awarded based on results. Games are 2 of 3 to 11 win by 2\n65 – 80+ / 4 and 5 team brackets will play a straight round robin. Best 2 of 3 to 11 win by 2. Medals awarded based on results.\n65 – 80+ / 6 and 7 team brackets will play a straight round robin. 1 game to 15 win by 2. The top 4 teams will move forward. 1 vs 2 for gold/silver – games will be 2 of 3 to 11 win by 2 and 3 vs 4 for bronze with 1 game to 15 win by 2.\n65 – 80+ / 8+ team brackets will play pool play. Top 2 teams from each pool will move forward. 1 vs 2 and 2 vs 1 with 1 game to 15 win by 2. Winners will play for gold/silver – games 2 of 3 to 11 win by 2 and bronze will play 1 game to 15 win by 2.\n\nUSSP recognizes event merges (when necessary) to be by Age first then Skill level when needed.\n\nUSSP has a points system to award prizes to the top finishers each year (USSP members only). In the past\, prizes with a retail value of $20\,000 were awarded to the top 10 point winners in each age group for both men and women on an annual cycle. In 2026\, the prize points will begin in January and run through the end of December.\n\nNo cash will be awarded.\n\nThe Franklin X-40 will be used for this tournament\n\n\n\n\nRefund Policy\n\n\nRefunds will be available up to July 31st\, 2026 at 11:55pm. All refunds will be charged a $15 processing fee. Emergency refunds will be based on documentation and tournament director approval.\n\n\n\n\n\n\nVenue Details\n\n\n\n\nPickleball Kingdom – Sun Prairie\n\n\n463 Broadway Drive\nSun Prairie\, Wisconsin\, 53590\nUnited States\n\n\nParking Information\nParking Fee: No Fee\nNo overnight parking. \n\n\n\nAmenities\n\n\nSurface Type: Pickleball Hardcourt Surface\n\n\nNumber of courts: 12\n\n\nBall used: Franklin X-40\n\n\nPlay area type: Indoor Air Conditioned\n\n\nNet type: Permanent\n\n\nBall website: Click here
URL:https://pickleballisgreat.com/tournament/2026-ussp-north-regional-championship-pickleball-kingdom-madison-presented-by-humana/
ATTACH;FMTTYPE=image/webp:https://pickleballisgreat.com/wp-content/uploads/2026/01/USSP-Pickleball-Logo.webp
END:VEVENT
BEGIN:VEVENT
DTSTART;VALUE=DATE:20260807
DTEND;VALUE=DATE:20260810
DTSTAMP:20260422T005415
CREATED:20260202T051541Z
LAST-MODIFIED:20260217T185952Z
UID:10000353-1786060800-1786319999@pickleballisgreat.com
SUMMARY:2026 OKLAHOMA Powerball Amateur Pickleball Championships powered by Carvana PPA Tour & PIG
DESCRIPTION:Tournament Description\n\n\n“Amateur Pickleball State Championship Series” powered by the Carvana PPA Tour!\n\nWhich state has the best pickleball players in 2026?\n\nThe answer will be revealed soon with a set of tournaments conducted across all 50 states. Come to the World Championships where the Champions Division will feature all the medalists from each division nationwide battling against each other for pickleball supremacy.\n\nWhy should I play in the Amateur Pickleball State Championship Series?\n\nParticipating in the Amateur Pickleball State Championship Series powered by the Carvana PPA Tour offers players a unique and thrilling opportunity to showcase their skills on a bigger stage\, contributing to the vibrant and growing pickleball community.\n\nThe series\, spanning all 50 states\, provides an inclusive platform for players of varying ages and skill levels to engage in spirited competition while fostering camaraderie among enthusiasts across the nation.\n\nThe prospect of earning a coveted spot in the year-end World Championships in Dallas\, TX adds an extra layer of excitement and motivation. The Champions Division brings together the best players from across the world\, offering a grand stage for the ultimate showdown and the quest for pickleball supremacy.\n\nChampions Division\nParticipants who secure skill-level gold at a state championship are eligible for a complimentary registration fee to the 2026 Worlds Championship. This exclusive offer recognizes and rewards excellence in the Champions Division and ensures the best possible competition.\n\nGold: Free Registration\nSilver: 50% off Registration\nBronze: 25% Registration\nRegister: https://pickleballtournaments.com/tournaments/2026-oklahoma-powerball-amateur-pickleball-championships-powered-by-carvana-ppa-tour-and-pig\nDivisions Offered\nWe are excited to offer a range of divisions to cater to players of varying age groups and skill levels:\n\nSkill Levels: 3.0\, 3.5\, 4.0\, 4.5+\nAge Groups: 18U\, 19+\, 35+\, 50+\, 60+\, 70+\nPlaying Divisions: MD\, WD\, MXD\, MS\, WS\n\nRegistration Starts\nEarly Registration (FEB/MAR/APR/MAY) = $45 + event fees\nRegistration (JUNE/JULY) = $65 + event fees\nLate Registration (AUG) = $80 + event fees\n\nAll Doubles Events are $20 each\nAll Singles Events are $35 each\n\n\n\n\nAdditional Information\n\n\n“DUPR” REQUIRED for all players\nPlayers will utilize “DUPR” rating from their player profile\n\nFriday\, Aug 7 – Women’s Singles / Men’s Singles\nSaturday\, Aug 8 – Women’s Doubles / Men’s Doubles\nSunday\, Aug 9 – Mixed Doubles\n\nFormat:\nALL Round Robin with playoffs for Gold/Silver/Bronze. All games/matches are win by 2\nMost Round Robins will be 1 to 15 but may change based on the number of players in the event. If an event has 7 or 8 teams\, round-robin matches will be 1 to 11 by 2.\n\nTop 4 teams go to the playoff (Lead in matches are 1 to 15 with the Gold Match with the option of 2/3-11w/2 or 1 to 15. Bronze Match 1 to 15.\n\nTD may combine brackets as needed to ensure quality play.\nTournament may close at any time if maximum daily numbers are met (even if some events appear to have openings)\n\n\n\n\nRefund Policy\n\n\nCANCELLATION DEADLINE: 8/2/26\nIf you withdraw before the CANCELLATION DEADLINE above\, you will be issued a refund (with a $20 processing fee deducted). Refunds will be issued at the conclusion of the tournament. No Refund of the pickleball tournaments service fee.\n\n\n\n\n\n\nVenue Details\n\n\n\n\nCourts & Commons\n\n\n7921 East 119th Dr\nBixby\, Oklahoma\, 74008\nUnited States\n\n\nParking Information\nParking Fee: No Fee\n\n\n\nAmenities\n\n\nSurface Type: Tennis Hardcourt Surface\n\n\nNumber of courts: 8\n\n\nBall used: Franklin X40\n\n\nPlay area type: Indoor Air Conditioned\n\n\nNet type: Permanent\n\n\nBall website: Click here
URL:https://pickleballisgreat.com/tournament/2026-oklahoma-powerball-amateur-pickleball-championships-powered-by-carvana-ppa-tour-pig/
ATTACH;FMTTYPE=image/webp:https://pickleballisgreat.com/wp-content/uploads/2026/02/Powerball-State-Championship-Series.webp
END:VEVENT
BEGIN:VEVENT
DTSTART;VALUE=DATE:20260811
DTEND;VALUE=DATE:20260813
DTSTAMP:20260422T005415
CREATED:20260110T234627Z
LAST-MODIFIED:20260110T234751Z
UID:10000344-1786406400-1786579199@pickleballisgreat.com
SUMMARY:2026 Cowtown Senior Open Series (3) - a USSP Circuit Event by PIG
DESCRIPTION:Tournament Description\n\n\n2026 Cowtown Senior Open Series (3) – by PIG\n\nINDOOR TOURNAMENT – 18 HARDWOOD COURTS – Start times begin at 9am\n\nNo membership in any association is required for registration.\n\nAll paddles must be USAP sanctioned tournament approved.\n\nhttps://equipment.usapickleball.org/paddle-list/\n\nThis tournament is US Senior Pickleball approved.\nTo join USSP\, go to USSeniorpickleball.com\, only $20 per year. Multi-year payment discounts available.\n\nUSSP members will receive a $10 discount off the registration fee and are eligible for points and prizes. Go to the USSP website listed above for more information on the points system. Your membership number must be linked in your pickleballbrackets.com profile to receive the discount at time of registration.\nRegister: https://pickleballtournaments.com/tournaments/2026-cowtown-senior-open-series-3-a-ussp-circuit-event-by-pig\nEarly Registration fee is $50 through July 10th\, 2026. Regular registration $60 July 11th and later . Each event will cost $10.\n\nBrackets/Events will be Round Robin followed with Playoffs to the top 3-4 teams. Events with 10 or more teams may have pool play with playoffs\, top 2 from each pool. Players are guaranteed 4 matches per event. More play for your money. MEDALS AWARDED FOR EACH AGE/SKILL GROUP. ALL EVENT BRACKET DETAILS ARE SUBJECT TO CHANGE BASED ON REGISTRATION. PLEASE REVIEW ONCE EVENTS HAVE BEEN VERIFIED.\n\n\n\n\nAdditional Information\n\n\nUSSP has a points system to award prizes to the top finishers each year. In the past prizes with a retail value of $20\,000 were awarded to the top 10-point winners in each age group for both men and women on an annual cycle. In 2025\, the prize points will begin in January and run through the end of December.\n\nNO CASH WILL BE AWARDED!!!!\n\nhttps://www.gameonfw.com/hotelpartners-preview\n\n\n\n\n\nRefund Policy\n\n\nRefunds will be available up to 2 weeks before the tournament registration closing.\nAll refunds will be charged a $10 processing fee. Emergency refunds will be issued based on approval. No refund of the pickleball tournaments service fee.\n\nTHERE WILL BE NO REFUNDS FOR WEATHER RELATED CANCELLATIONS. IN CASE OF WEATHR DEALYS\, AN ATTEMPT TO PLAY ALL MATCHES SCHEDULED FOR A DAY WILL BE MADE\n\n\n\n\n\n\nVenue Details\n\n\n\n\nGame On Sports Complex\n\n\n2600 Alemeda St\nFort Worth\, Texas\, 76108\nUnited States\n\n\nParking Information\nParking Fee: No Fee\n\n\n\nAmenities\n\n\nSurface Type: Hardwood\n\n\nNumber of courts: 18\n\n\nBall used: Gamma Proton Indoor Optic Green\n\n\nPlay area type: Indoor Air Conditioned\n\n\nNet type: Portable
URL:https://pickleballisgreat.com/tournament/2026-cowtown-senior-open-series-3-a-ussp-circuit-event-by-pig/
ATTACH;FMTTYPE=image/webp:https://pickleballisgreat.com/wp-content/uploads/2026/01/Cowtown-Senior-Open-Series.webp
END:VEVENT
BEGIN:VEVENT
DTSTART;VALUE=DATE:20260813
DTEND;VALUE=DATE:20260818
DTSTAMP:20260422T005415
CREATED:20260111T000238Z
LAST-MODIFIED:20260111T000238Z
UID:10000345-1786579200-1787011199@pickleballisgreat.com
SUMMARY:2026 Oregon Senior Games - a USSP Circuit Event by PIG
DESCRIPTION:Tournament Description\n\n\nSave the Date – Aug 13-17 (updated information coming soon)\n\n– No USSP membership required\, but if you are a current USSP member\, make sure your membership number is in your pickleballbrackets.com profile to receive $10 off at registration. You MUST have your membership number in your profile before you register to get the $10 off! \nRegister: https://pickleballtournaments.com/tournaments/2026-oregon-senior-games-a-ussp-circuit-event-by-pig\n\nThis is a qualifying year for the 2027 Senior Games in Tulsa\, OK.\nThis tournament is based on Age/Skill – age groups as primary determinate within skill events (recreational or advanced)\n\nFun Round Robin format WITH playoffs for Gold/Silver/Bronze for Recreational (2.5 to 3.5) and Advanced (4.0 to 5.0) events for players 50 and above. Age events each 5 years within the two skill events (recreational and advanced). TD may combine age brackets as needed to ensure quality play.\n\nRatings (USSP ratings will be used\, but if no USSP rating then see below)\n• Even though DUPR is the only rating listed for public view\, we are only using DUPR when there is a significant discrepancy. If players have a USSP rating then that is what is used. If players do not have a USSP rating then the self-rating is used.\n• Please update your self-rating in your software profile before you register. You may only play up .5 from your rating.\n• If you feel that a player is playing out of their skill\, please contact the tournament director. We will then evaluate available data to determine if a player/team needs to play at a different skill. Please be aware that this is a manual process and does not happen automatically\n\nUsing the Franklin X-40 ball\n\n\n\n\nAdditional Information\n\n\nThursday – Women’s Doubles\nFriday – Men’s Doubles\nSaturday – Mixed Doubles (Recreational 2.5-3.5)\nSunday – Mixed Doubles (Advanced 4.0+)\nMonday – Men’s & Women’s Singles (full court)\n\nOutdoor Age/Skill tournament on tennis surface.\nAge/Skill – age groups as primary determinate within skill events (recreational or advanced)\n\nFormat:\nALL Round Robin with playoffs for Gold/Silver/Bronze. All games/matches are win by 2\nMost Round Robins are 1 to 15 but may change based on the number of players in the event. If an event has 7 or 8 teams\, round-robin matches will be 1 to 11 by 2.\nTop 4 teams go to the playoff (Lead in matches are 1 to 15 with the Gold Match with the option of 2/3-11w/2 or 1 to 15. Bronze Match 1 to 15.\nTD may combine brackets as needed to ensure quality play.\nTournament may close at any time if maximum daily numbers are met (even if some events appear to have openings)\n\nPickleball Is Great reserves the right to refuse service at anytime.\n\n\n\n\nRefund Policy\n\n\n$15 Admin fee minimum for all withdrawals. No refunds after July 15th\n\nIf any event is cancelled due to weather\, there will be up to a 50% refund\n\n\n\n\n\n\nVenue Details\n\n\n\n\nLinn Benton Community College\n\n\n6500 Pacific Blvd SW\nAlbany\, Oregon\, 97321\nUnited States\n\n\nParking Information\nParking Fee: No Fee\n\n\n\nAmenities\n\n\nSurface Type: Tennis Hardcourt Surface\n\n\nNumber of courts: 12\n\n\nBall used: Franklin X-40\n\n\nPlay area type: Outdoor Non-Covered\n\n\nNet type: Portable\n\n\nBall website: Click here
URL:https://pickleballisgreat.com/tournament/2026-oregon-senior-games-a-ussp-circuit-event-by-pig/
ATTACH;FMTTYPE=image/webp:https://pickleballisgreat.com/wp-content/uploads/2026/01/Oregon-Senior-Games.webp
END:VEVENT
BEGIN:VEVENT
DTSTART;VALUE=DATE:20260828
DTEND;VALUE=DATE:20260831
DTSTAMP:20260422T005416
CREATED:20260206T011631Z
LAST-MODIFIED:20260319T024533Z
UID:10000370-1787875200-1788134399@pickleballisgreat.com
SUMMARY:MI Rotary & BPC End-of-Summer Pickleball Tournament by PIG
DESCRIPTION:Tournament Description\n\n\nSave the date! Aug 28-30 for the MI Rotary & BPC End-of-Summer Pickleball Tournament. More details coming soon\n\nRound Robin format (skill/age) WITH playoffs for Gold/Silver/Bronze for skills 3.0-4.5+. Age brackets will be determined following the close of registration\, but will strive to be close to under 50 & 50+ events.\n\n***Ratings:\n• Even though DUPR is the only rating listed for public view\, we are using DUPR only as a guideline. All rating systems have their pros and cons. Players will self-rate\n• Please update your self-rating in your software profile before you register. You may only play up .5 from your self-rating\n• If you feel that a player is playing out of their skill\, please contact the tournament director using the “contact tourney” button. We will then evaluate tournament history and various ratings (including DUPR) to determine if a player/team needs to play at a different skill. Please be aware that this is a manual process and does not happen automatically\n\n\n\nAll paddles must be USAP sanctioned tournament approved.\n\nFriday – Women’s Doubles & Men’s Singles\nSaturday – Mixed Doubles\nSunday – Men’s Doubles & Women’s Singles\n\n\n\n\nAdditional Information\n\n\nPayment is required to register –\nRegister: https://pickleballtournaments.com/tournaments/mi-rotary-and-bpc-end-of-summer-pickleball-tournament-by-pig\n\nFormat:\nALL Round Robin with playoffs for Gold/Silver/Bronze. All games/matches are win by 2\nMost Round Robins are 1 to 15 but may change based on the number of players in the event. If an event has 7 or 8 teams\, round-robin matches will be 1 to 11 by 2.\nTop 4 teams go to the playoff (Lead in matches are 1 to 15 with the Gold Match with the option of 2/3-11w/2 or 1 to 15. Bronze Match 1 to 15.\n\nTournament Director may combine brackets as needed to ensure quality play.\nTournament may close at any time if maximum daily numbers are met (even if some events appear to have openings)\n\nPickleball Is Great reserves the right to refuse service at anytime.\n\n\n\n\nRefund Policy\n\n\nNo refunds after deadline of Aug 19\nAll refunds will have a $15 refund fee\n\nIf any event is cancelled due to weather there will be up to a 50% refund\n\n\n\n\n\n\nVenue Details\n\n\n\n\n\nBellevue Pickleball Club\n\n\n\n44 Bellevue Way NE\nBellevue\, Washington\, 98004\nUnited States\n\n\nParking Information\nParking Fee: No Fee\n\n\n\nAmenities\n\n\nSurface Type: Pickleball Hardcourt Surface\n\n\nNumber of courts: 12\n\n\nPlay area type: Indoor\n\n\nNet type: Permanent
URL:https://pickleballisgreat.com/tournament/2nd-annual-mercer-island-rotary-pickleball-tournament-by-pig/
ATTACH;FMTTYPE=image/webp:https://pickleballisgreat.com/wp-content/uploads/2026/02/Mercer-Island-Rotary-Pickleball.webp
END:VEVENT
BEGIN:VEVENT
DTSTART;VALUE=DATE:20260828
DTEND;VALUE=DATE:20260831
DTSTAMP:20260422T005416
CREATED:20260206T012329Z
LAST-MODIFIED:20260206T012329Z
UID:10000371-1787875200-1788134399@pickleballisgreat.com
SUMMARY:6th Annual Rogue Rotary Pickleball Fest by PIG
DESCRIPTION:Tournament Description\n\n\nSave the Date! (Aug 28-30) – Updated details coming soon!\n\nFun Round Robin format WITH playoffs for Gold/Silver/Bronze for skills 3.0-4.5+. TD may combine brackets as needed to ensure quality play.\n\nRegister: https://pickleballtournaments.com/tournaments/6th-annual-rogue-rotary-pickleball-fest-by-pig\n\nUsing the Selkirk Pro S1 ball\n\n\n\n\n\nAdditional Information\n\n\nFriday – Women’s Doubles\nSaturday – Mixed Doubles\nSunday – Men’s Doubles\n\nOutdoor Skill/Age tournament on tennis surface.\n\nFormat:\nALL Round Robin with playoffs for Gold/Silver/Bronze. All games/matches are win by 2\nMost Round Robins are 1 to 15 but may change based on the number of players in the event. If an event has 7 or 8 teams\, round-robin matches will be 1 to 11 by 2.\nTop 4 teams go to the playoff (Lead in matches are 1 to 15 with the Gold Match with the option of 2/3-11w/2 or 1 to 15. Bronze Match 1 to 15.\nTD may combine brackets as needed to ensure quality play.\n\n\n\n\nRefund Policy\n\n\n$10 Admin fee minimum for all withdrawals\n\nIf any event is cancelled due to weather\, there will be up to a 50% refund\nDeadline is 8/19/26 for full refunds (minus the non-refundable service fee)\nAfter the deadline\, refunds will be evaluated and refunded up to 50%\n\n\n\n\n\n\nVenue Details\n\n\n\n\nHoward Memorial Sports Park\n\n\n334 Holmes Ave\nMedford\, Oregon\, 97501\nUnited States\n\n\nParking Information\nParking Fee: No Fee\n\n\n\nAmenities\n\n\nSurface Type: Tennis Hardcourt Surface\n\n\nNumber of courts: 19\n\n\nBall used: Selkirk Pro S1\n\n\nPlay area type: Outdoor Non-Covered\n\n\nNet type: Permanent\n\n\nBall website: Click here
URL:https://pickleballisgreat.com/tournament/6th-annual-rogue-rotary-pickleball-fest-by-pig/
ATTACH;FMTTYPE=image/jpeg:https://pickleballisgreat.com/wp-content/uploads/2025/06/Medford-Rotary-Pickleball-Fest.jpg
END:VEVENT
END:VCALENDAR