BEGIN:VCALENDAR
VERSION:2.0
PRODID:-//Pickleball Is Great - ECPv6.15.18//NONSGML v1.0//EN
CALSCALE:GREGORIAN
METHOD:PUBLISH
X-ORIGINAL-URL:https://pickleballisgreat.com
X-WR-CALDESC:Events for Pickleball Is Great
REFRESH-INTERVAL;VALUE=DURATION:PT1H
X-Robots-Tag:noindex
X-PUBLISHED-TTL:PT1H
BEGIN:VTIMEZONE
TZID:Pacific/Honolulu
BEGIN:STANDARD
TZOFFSETFROM:-1000
TZOFFSETTO:-1000
TZNAME:HST
DTSTART:20250101T000000
END:STANDARD
END:VTIMEZONE
BEGIN:VTIMEZONE
TZID:America/Boise
BEGIN:DAYLIGHT
TZOFFSETFROM:-0700
TZOFFSETTO:-0600
TZNAME:MDT
DTSTART:20250309T090000
END:DAYLIGHT
BEGIN:STANDARD
TZOFFSETFROM:-0600
TZOFFSETTO:-0700
TZNAME:MST
DTSTART:20251102T080000
END:STANDARD
BEGIN:DAYLIGHT
TZOFFSETFROM:-0700
TZOFFSETTO:-0600
TZNAME:MDT
DTSTART:20260308T090000
END:DAYLIGHT
BEGIN:STANDARD
TZOFFSETFROM:-0600
TZOFFSETTO:-0700
TZNAME:MST
DTSTART:20261101T080000
END:STANDARD
BEGIN:DAYLIGHT
TZOFFSETFROM:-0700
TZOFFSETTO:-0600
TZNAME:MDT
DTSTART:20270314T090000
END:DAYLIGHT
BEGIN:STANDARD
TZOFFSETFROM:-0600
TZOFFSETTO:-0700
TZNAME:MST
DTSTART:20271107T080000
END:STANDARD
END:VTIMEZONE
BEGIN:VTIMEZONE
TZID:America/Los_Angeles
BEGIN:DAYLIGHT
TZOFFSETFROM:-0800
TZOFFSETTO:-0700
TZNAME:PDT
DTSTART:20250309T100000
END:DAYLIGHT
BEGIN:STANDARD
TZOFFSETFROM:-0700
TZOFFSETTO:-0800
TZNAME:PST
DTSTART:20251102T090000
END:STANDARD
BEGIN:DAYLIGHT
TZOFFSETFROM:-0800
TZOFFSETTO:-0700
TZNAME:PDT
DTSTART:20260308T100000
END:DAYLIGHT
BEGIN:STANDARD
TZOFFSETFROM:-0700
TZOFFSETTO:-0800
TZNAME:PST
DTSTART:20261101T090000
END:STANDARD
BEGIN:DAYLIGHT
TZOFFSETFROM:-0800
TZOFFSETTO:-0700
TZNAME:PDT
DTSTART:20270314T100000
END:DAYLIGHT
BEGIN:STANDARD
TZOFFSETFROM:-0700
TZOFFSETTO:-0800
TZNAME:PST
DTSTART:20271107T090000
END:STANDARD
END:VTIMEZONE
BEGIN:VEVENT
DTSTART;VALUE=DATE:20260910
DTEND;VALUE=DATE:20260914
DTSTAMP:20260422T020420
CREATED:20260206T012922Z
LAST-MODIFIED:20260206T012922Z
UID:10000372-1788998400-1789343999@pickleballisgreat.com
SUMMARY:$$$ 2026 PKOLL Maui Open @ Royal Lahaina Tennis Ranch by PIG
DESCRIPTION:Tournament Description\n\n\nWelcome to the second annual PKOLL Pickleball Tournament WITH PRIZE $$$$\n\nSENIOR FORMAT THURSDAY & FRIDAY ONLY\n\n9/10- THURSDAY – Senior ONLY Mixed Doubles (Age/Skill events)\n9/11 – FRIDAY- Senior ONLY Men’s & Women’s Doubles (Age/Skill events)\n9/12 -SATURDAY – Men’s & Women’s Doubles under 50 (Skill/Age events)\n9/13 – SUNDAY – Mixed Doubles under 50 (Skill/Age events)\n\nVery Fun All Round Robin format WITH playoffs\n(non-sanctioned USA Pickleball)\n\nWe are using SELF ratings\, but please do NOT register below your published DUPR – we will move you up automatically\n\nTournament fees :\n\nAmateur Events are $20 each\nPrize Money event fees $45\n\nEarly Registration All March & April = $60\nRegistration All May/June/July = $75\nLate Registration August 1st = $90\n\n***if you do not have a partner in 14 days\, you will move to the waitlist – when you find a partner\, we can move you back into the draw…\n\nRegister: https://pickleballtournaments.com/tournaments/2026-pkoll-maui-open-at-royal-lahaina-tennis-ranch-by-pig \n\nThe ball is FRANKLIN X-40\n\n\n\n\nAdditional Information\n\n\nALL ROUND ROBIN WITH PLAYOFFS OF THE TOP TEAMS\n\n**planned format\n4 & 5 teams in Pool/Round Robin – games are 1 to 15 win by 2\n6 & 7 teams in Pool/Round Robin – games are 1 to 11 win by 2\nAll lead in games (to the playoffs) are 1 to 15 win by 2\nBronze Matches 1 to 15 win by 2\nGold Matches are the players choice of 2 out of 3 to 11 win by 2 OR 1 to 15 win by 2\n\n\n\n\nRefund Policy\n\n\nAll refunds will have a $15 fee before the end of registration September 1\, 2026\n\nAny refund after that will be 50% of the fees paid.\n\nIf any event is cancelled due to weather there will be up to a 50% refund\n\n\nPickleball Is Great reserves the right to refuse service at anytime\n\n\n\n\n\n\nVenue Details\n\n\n\n\nRoyal Lahaina Tennis Ranch\n\n\n2780 Kekaa Dr\nLahaina\, Hawaii\, 96761\nUnited States\n\n\nParking Information\nParking Fee: No Fee\nLOTS OF PARKING – INVITE YOUR FRIENDS \n\n\n\nAmenities\n\n\nSurface Type: Pickleball Hardcourt Surface\n\n\nNumber of courts: 20\n\n\nBall used: Franklin X-40\n\n\nPlay area type: Outdoor Non-Covered\n\n\nNet type: Portable\n\n\nBall website: Click here
URL:https://pickleballisgreat.com/tournament/2026-pkoll-maui-open-royal-lahaina-tennis-ranch-by-pig/
ATTACH;FMTTYPE=image/webp:https://pickleballisgreat.com/wp-content/uploads/2026/02/PKOLL.webp
END:VEVENT
BEGIN:VEVENT
DTSTART;VALUE=DATE:20260918
DTEND;VALUE=DATE:20260921
DTSTAMP:20260422T020420
CREATED:20260206T013414Z
LAST-MODIFIED:20260206T013414Z
UID:10000373-1789689600-1789948799@pickleballisgreat.com
SUMMARY:4th Annual Sun Valley Pickleball Classic by PIG
DESCRIPTION:Tournament Description\n\n\nSave the Date for the 4th Annual Sun Valley Classic! Sept 17-20\nMake sure you save time on Thursday evening to attend our fabulous welcome party where you’ll also pick up your welcome packet!\n\nRound Robin format WITH playoffs for Gold/Silver/Bronze for skills 3.0-4.5+. Final age brackets will be determined following the close of registration. \nRegister: https://pickleballtournaments.com/tournaments/4th-annual-sun-valley-pickleball-classic-by-pig\n\nDUPR required for all players – be sure your player profile is up to date…\nYou may not play below your DUPR rating. Scores will be reported to DUPR\n\nOutdoor Skill/Age tournament on tennis surface\n\nUsing the Franklin X-40 ball\n\n\n\n\nAdditional Information\n\n\nEach player is responsible to register and pay –\nRegistration – $75 (includes 1st event) / $25 for 2nd event through Aug 31.\nBeginning Sept 1 registration will be $85 (includes 1st event) / $25 for each additional event.\nDeadline – Sept 10\n\nOptional hat for purchase $15\n\nThursday evening – drop-in play and welcome party\nFriday – Women’s Doubles / Men’s Singles (full court)\nSaturday – Mixed Doubles\nSunday – Men’s Doubles / Women’s Singles (full court)\n\nFormat:\nALL Round Robin games/matches are win by 2.\nMost Round Robins are 1 to 15 but may change based on the number of players in the event. If an event has 7 or 8 teams\, round-robin matches will be 1 to 11 by 2.\nTop 4 teams go to the playoff (1st & 2nd seeds to play Gold Match. 3rd & 4th seeds to play Bronze Match.\n\nTD may combine brackets as needed to ensure quality play.\nTournament may close at any time if maximum daily numbers are met (even if some events appear to have openings)\n\nPickleball Is Great reserves the right to refuse service at anytime.\n\n\n\n\nRefund Policy\n\n\n$15 Admin fee minimum for all withdrawals\nNo refunds after close of registration\n\nIf any event is cancelled due to weather there will be up to a 50% refund\n\n\n\n\n\n\nVenue Details\n\n\n\n\nSun Valley Resort (Sun Valley Tennis & Pickleball Center)\n\n\nMoritz Road\nSun Valley\, Idaho\, 83353\nUnited States\n\n\nParking Information\nParking Fee: No Fee\n\n\n\nAmenities\n\n\nSurface Type: Tennis Hardcourt Surface\n\n\nNumber of courts: 8\n\n\nBall used: Franklin X-40\n\n\nPlay area type: Outdoor Non-Covered\n\n\nNet type: Permanent\n\n\nBall website: Click here
URL:https://pickleballisgreat.com/tournament/4th-annual-sun-valley-pickleball-classic-by-pig/
ATTACH;FMTTYPE=image/jpeg:https://pickleballisgreat.com/wp-content/uploads/2025/03/Sun-Valley-Classic.jpg
END:VEVENT
BEGIN:VEVENT
DTSTART;VALUE=DATE:20260919
DTEND;VALUE=DATE:20260921
DTSTAMP:20260422T020420
CREATED:20260206T175350Z
LAST-MODIFIED:20260206T175350Z
UID:10000376-1789776000-1789948799@pickleballisgreat.com
SUMMARY:2026 The Gorge Fall Fest by PIG
DESCRIPTION:Tournament Description\n\n\nSave the Date (Sept 19/20) for our 1st Annual Fall Fest! \nRegister: https://pickleballtournaments.com/tournaments/2026-the-gorge-fall-fest-by-pig\n\nRound Robin format (skill/age) WITH playoffs for Gold/Silver/Bronze for skills 3.0-4.5+. Age brackets will be determined following the close of registration\, but will strive to be close to under 50\, 50+ events.\n\nDUPR required for all players – be sure your player profile is up to date…\nYou may not play below your DUPR rating. Scores will be reported to DUPR\n\nIndoor play (Skill/Age) on 6 temporary courts on a tennis surface\n\nUsing the Selkirk Pro S1 Ball\nPickleball Is Great reserves the right to refuse service at anytime\n\n\n\n\nAdditional Information\n\n\nEarly registration $50 + $15/event through May 31. Standard registration $65 + $15/event through Sept 10. After registration closes (beginning Sept 11)\, late registration will be $75 + $15/event.\n\nSaturday – Men’s & Women’s Doubles\nSunday – Mixed Doubles\n\nPartner must register within 7 days or be moved to the waitlist\n(Age breaks based on registration\, but will strive to be close to under 50\, 50+\, 60+)\n\nFormat:\nALL Round Robin with playoffs for Gold/Silver/Bronze. All games/matches are win by 2\nMost Round Robins are 1 to 15 but may change based on the number of players in the event. If an event has 7 or 8 teams\, round-robin matches will be 1 to 11 by 2.\nTop 4 teams go to the playoff (Lead in matches are 1 to 15 with the Gold Match with the option of 2/3-11w/2 or 1 to 15. Bronze Match 1 to 15.\n\nTD may combine brackets as needed to ensure quality play.\nTournament may close at any time if maximum daily numbers are met (even if some events appear to have openings)\n\n\n\n\nRefund Policy\n\n\n$15 Admin fee minimum for all withdrawals. Deadline for refunds – Sept 10\n\nIf any event is cancelled due to weather\, there will be up to a 50% refund\nSoftware service fees are not refundable\, even if the tournament/event is cancelled.\n\n\n\n\n\n\nVenue Details\n\n\n\n\nThe Dalles Athletic Club\n\n\n731 Pomona St\nThe Dalles\, Oregon\, 97058\nUnited States\n\n\nParking Information\nParking Fee: No Fee\n\n\n\nAmenities\n\n\nSurface Type: Tennis Hardcourt Surface\n\n\nNumber of courts: 6\n\n\nBall used: Selkirk Pro S1\n\n\nPlay area type: Indoor\n\n\nNet type: Portable\n\n\nBall website: Click here
URL:https://pickleballisgreat.com/tournament/2026-the-gorge-fall-fest-by-pig/
ATTACH;FMTTYPE=image/webp:https://pickleballisgreat.com/wp-content/uploads/2026/02/Gorge-Fall-Fest.webp
END:VEVENT
BEGIN:VEVENT
DTSTART;VALUE=DATE:20260919
DTEND;VALUE=DATE:20260921
DTSTAMP:20260422T020420
CREATED:20260412T001143Z
LAST-MODIFIED:20260412T001143Z
UID:10000389-1789776000-1789948799@pickleballisgreat.com
SUMMARY:2026 Play for a Purpose by PIG
DESCRIPTION:Tournament Description\n\n\nRound Robin format (skill/age) WITH playoffs for Gold/Silver/Bronze for skills 3.0-4.5+. Age brackets will be determined following the close of registration\, but will strive to be close to under 50\, 50-59\, & 60+ events. \nRegister: https://pickleballtournaments.com/tournaments/2026-play-for-a-purpose-by-pig\n\nNo DUPR rating required. Scores will NOT be reported to DUPR\n\n6 permanent courts on a tennis surface\n\nUsing the Franklin X40 Ball\nPickleball Is Great reserves the right to refuse service at anytime\n\n\n\n\nAdditional Information\n\n\nRegistration includes 1 event\, a second event will cost and additional $15 event fee. Payment is required to register – Early registration $50 through Jun 15. Standard registration $60 through Sept 10. After registration closes (beginning Sept 11)\, late registration will be $80.\n\nPartner must register within 7 days or be moved to the waitlist\n(Final age breaks based on registration\, but will strive to be close to under 50\, 50+\, 60+)\n\nSaturday – Women’s Doubles/Men’s Doubles\nSunday – Mixed Doubles\n\nFormat:\nALL Round Robin with playoffs for Gold/Silver/Bronze. All games/matches are win by 2\nMost Round Robins are 1 to 15 but may change based on the number of players in the event. If an event has 7 or 8 teams\, round-robin matches will be 1 to 11 by 2.\nTop 4 teams go to the playoff (Lead in matches are 1 to 15 with the Gold Match with the option of 2/3-11w/2 or 1 to 15. Bronze Match 1 to 15.\nTD may combine brackets as needed to ensure quality play.\nTournament may close at any time if maximum daily numbers are met (even if some events appear to have openings)\n\n\n\n\nRefund Policy\n\n\n$15 Admin fee minimum for all withdrawals\nNo refunds after close of registration\nIf any event is cancelled due to unforeseen circumstances there will be up to a 50% refund\n\nSoftware service fees are not refundable\, even if the tournament/event is cancelled.\n\n\n\n\n\n\nVenue Details\n\n\n\n\n\nWolfe Courts at Hathaway Park\nPickleball Is Great\n\n\n\n2807 I st\nWashougal\, Washington\, 98671\nUnited States\n\n\nParking Information\nParking Fee: No Fee\n\n\n\nAmenities\n\n\nSurface Type: Tennis Hardcourt Surface\n\n\nNumber of courts: 6\n\n\nBall used: Franklin X40\n\n\nPlay area type: Outdoor Non-Covered\n\n\nNet type: Permanent\n\n\nBall website: Click here
URL:https://pickleballisgreat.com/tournament/2026-play-for-a-purpose-by-pig/
ATTACH;FMTTYPE=image/jpeg:https://pickleballisgreat.com/wp-content/uploads/2026/04/Play-for-a-Purpose-PIG-600x315-1.jpg
END:VEVENT
END:VCALENDAR